BEGIN:VCALENDAR
VERSION:2.0
PRODID:-//New Mexico Volunteers For The Outdoors - ECPv6.15.15//NONSGML v1.0//EN
CALSCALE:GREGORIAN
METHOD:PUBLISH
X-WR-CALNAME:New Mexico Volunteers For The Outdoors
X-ORIGINAL-URL:https://nmvfo.org
X-WR-CALDESC:Events for New Mexico Volunteers For The Outdoors
REFRESH-INTERVAL;VALUE=DURATION:PT1H
X-Robots-Tag:noindex
X-PUBLISHED-TTL:PT1H
BEGIN:VTIMEZONE
TZID:America/Denver
BEGIN:DAYLIGHT
TZOFFSETFROM:-0700
TZOFFSETTO:-0600
TZNAME:MDT
DTSTART:20220313T090000
END:DAYLIGHT
BEGIN:STANDARD
TZOFFSETFROM:-0600
TZOFFSETTO:-0700
TZNAME:MST
DTSTART:20221106T080000
END:STANDARD
BEGIN:DAYLIGHT
TZOFFSETFROM:-0700
TZOFFSETTO:-0600
TZNAME:MDT
DTSTART:20230312T090000
END:DAYLIGHT
BEGIN:STANDARD
TZOFFSETFROM:-0600
TZOFFSETTO:-0700
TZNAME:MST
DTSTART:20231105T080000
END:STANDARD
BEGIN:DAYLIGHT
TZOFFSETFROM:-0700
TZOFFSETTO:-0600
TZNAME:MDT
DTSTART:20240310T090000
END:DAYLIGHT
BEGIN:STANDARD
TZOFFSETFROM:-0600
TZOFFSETTO:-0700
TZNAME:MST
DTSTART:20241103T080000
END:STANDARD
END:VTIMEZONE
BEGIN:VEVENT
DTSTART;TZID=America/Denver:20230923T083000
DTEND;TZID=America/Denver:20230923T170000
DTSTAMP:20260425T163647
CREATED:20230302T164756Z
LAST-MODIFIED:20230927T140719Z
UID:5772-1695457800-1695488400@nmvfo.org
SUMMARY:Manzano Crest Lopping (Cibola NF)
DESCRIPTION:RESULTS: Fourteen volunteers cleared 40 trees and removed overgrowth from the 1.6-mile-long Trail Canyon Trail and the upper 2.25 miles of the Comanche Trail. Nine volunteers camped at the trailhead the night before and were treated to a delicious dinner and breakfast prepared by David Broudy (who also joined the work effort on Saturday). For three of the volunteers\, it was their very first NMVFO project.\n \n\n\n	\n		\n			\n				\n			\n		\n		\n			\n				\n			\n		\n		\n			\n				\n			\n		\n		\n			\n				\n			\n		\n		\n			\n				\n			\n		\n		\n			\n				\n			\n		\n\n	 \n	\n	Show More\n\n\n\nPHOTO ALBUM LINK \n\n  \nDescription: Join us on National Public Lands Day to clear heavy overgrowth from the Manzano Crest Trail #170 between Bosque Trail #174 and Trail Canyon Trail #176.  The work will be easy but the hike in will make this a difficult project.  There will be over 1500 feet of elevation and about 7 miles of hiking.  The trail head is about 2 hours from Albuquerque so we will offer camping for Friday night.  Also we will provide food for Friday evening and Saturday breakfast.  You are welcome to come Saturday morning.  Bring your own food and drink for the trail on Saturday.  The last few miles of the road are very rough and rutted so high clearance vehicles are needed (we can arrange carpooling for the last few miles). \nParticipants should wear sturdy boots or work shoes (no sandals)\, long pants\, hat\, eye protection\, gloves\, and bring gear for rain. \nPets are not allowed on NMVFO projects \nDifficulty:   due to distance \nGroup size: 17 (including 2 cooks) \nDeadline: Sign up by September 18\, 2023 \nFor more information: If this is your first NMVFO project\, you can find more information about difficulty ratings and what to expect at Volunteer FAQ\, or email the project leader. \nPlease read our Volunteer Guidelines before signing up for this project.\nOn the signup form please leave the "Number of Volunteers" at 1. If you would like to sign up additional volunteers please submit multiple signups.
URL:https://nmvfo.org/projects/manzano-crest-lopping-cibola-nf/
CATEGORIES:Project
ATTACH;FMTTYPE=image/jpeg:https://nmvfo.org/wp-content/uploads/2023/03/manzanos_2023_lopping-e1677775595696.jpg
ORGANIZER;CN="Uwe Schroeter":MAILTO:u.schroeter@nmvfo.org
END:VEVENT
END:VCALENDAR