BEGIN:VCALENDAR
VERSION:2.0
PRODID:-//New Mexico Volunteers For The Outdoors - ECPv6.15.15//NONSGML v1.0//EN
CALSCALE:GREGORIAN
METHOD:PUBLISH
X-ORIGINAL-URL:https://nmvfo.org
X-WR-CALDESC:Events for New Mexico Volunteers For The Outdoors
REFRESH-INTERVAL;VALUE=DURATION:PT1H
X-Robots-Tag:noindex
X-PUBLISHED-TTL:PT1H
BEGIN:VTIMEZONE
TZID:America/Denver
BEGIN:DAYLIGHT
TZOFFSETFROM:-0700
TZOFFSETTO:-0600
TZNAME:MDT
DTSTART:20240310T090000
END:DAYLIGHT
BEGIN:STANDARD
TZOFFSETFROM:-0600
TZOFFSETTO:-0700
TZNAME:MST
DTSTART:20241103T080000
END:STANDARD
BEGIN:DAYLIGHT
TZOFFSETFROM:-0700
TZOFFSETTO:-0600
TZNAME:MDT
DTSTART:20250309T090000
END:DAYLIGHT
BEGIN:STANDARD
TZOFFSETFROM:-0600
TZOFFSETTO:-0700
TZNAME:MST
DTSTART:20251102T080000
END:STANDARD
BEGIN:DAYLIGHT
TZOFFSETFROM:-0700
TZOFFSETTO:-0600
TZNAME:MDT
DTSTART:20260308T090000
END:DAYLIGHT
BEGIN:STANDARD
TZOFFSETFROM:-0600
TZOFFSETTO:-0700
TZNAME:MST
DTSTART:20261101T080000
END:STANDARD
END:VTIMEZONE
BEGIN:VEVENT
DTSTART;TZID=America/Denver:20250509T180000
DTEND;TZID=America/Denver:20250510T170000
DTSTAMP:20260424T095041
CREATED:20250211T174742Z
LAST-MODIFIED:20250522T220255Z
UID:7058-1746813600-1746896400@nmvfo.org
SUMMARY:Manzano Crest Lopping (Mountainair RD)
DESCRIPTION:RESULTS: After one night of camping on the 4th of July Campground\, one group of four volunteers cleared more than 15 trees from the 2.1-mile Bosque Trail\, while a second group of eleven volunteers hiked 2 miles to the Manzano Crest to remove overgrowth from 1.1 mile of the Manzano Crest Trail. We enjoyed great camaraderie\, beautiful weather\, and a delicious dinner and breakfast prepared by David Broudy and Michelle Tan. For two volunteers\, it was their very first NMVFO project.\n \n\n\n	\n		\n			\n				\n			\n		\n		\n			\n				\n			\n		\n		\n			\n				\n			\n		\n		\n			\n				\n			\n		\n		\n			\n				\n			\n		\n		\n			\n				\n			\n		\n\n	 \n	\n	Show More\n\n\n\nPHOTO ALBUM LINK \n\nDescription:  We will lop overgrowth and remove downfall on the Manzano Crest Trail between Trail Canyon Trail and Bosque Peak Trail\, picking up where we left off during our September 2024 project. The work will not be difficult but will require a 3+ mile hike with a 1\,500 feet elevation gain to the work site (plus return).  For this reason\, we will rate it as difficult.  We will camp at or near the trailhead on Friday and work all day Saturday.  It is about 90 minutes from Albuquerque to the trailhead.  You are welcome to come on Saturday morning also.  We will start at 8:00 am and be back at the trailhead at 5:00. \nWe will provide food on Friday evening and Saturday morning\, but you need to bring your food for the workday.   There will be a limit of 15 people (since this is a wilderness area).  Participants should wear sturdy boots or work shoes (no sandals)\, long pants\, hat\, eye protection\, gloves\, and bring gear for rain.  Pets are not allowed on projects. \nDifficulty:  \nGroup Size: Up to 15. \nPlease read our Volunteer Guidelines before signing up for this project.\nOn the signup form please leave the "Number of Volunteers" at 1. If you would like to sign up additional volunteers please submit multiple signups.
URL:https://nmvfo.org/projects/manzano-crest-lopping-mountainair-rd/
CATEGORIES:Project
ATTACH;FMTTYPE=image/jpeg:https://nmvfo.org/wp-content/uploads/2025/02/manzano_crest_2024_2.jpg
ORGANIZER;CN="Don Lemke":MAILTO:d.lemke@nmvfo.org
END:VEVENT
END:VCALENDAR