BEGIN:VCALENDAR
VERSION:2.0
PRODID:-//New Mexico Volunteers For The Outdoors - ECPv6.15.15//NONSGML v1.0//EN
CALSCALE:GREGORIAN
METHOD:PUBLISH
X-WR-CALNAME:New Mexico Volunteers For The Outdoors
X-ORIGINAL-URL:https://nmvfo.org
X-WR-CALDESC:Events for New Mexico Volunteers For The Outdoors
REFRESH-INTERVAL;VALUE=DURATION:PT1H
X-Robots-Tag:noindex
X-PUBLISHED-TTL:PT1H
BEGIN:VTIMEZONE
TZID:America/Denver
BEGIN:DAYLIGHT
TZOFFSETFROM:-0700
TZOFFSETTO:-0600
TZNAME:MDT
DTSTART:20220313T090000
END:DAYLIGHT
BEGIN:STANDARD
TZOFFSETFROM:-0600
TZOFFSETTO:-0700
TZNAME:MST
DTSTART:20221106T080000
END:STANDARD
BEGIN:DAYLIGHT
TZOFFSETFROM:-0700
TZOFFSETTO:-0600
TZNAME:MDT
DTSTART:20230312T090000
END:DAYLIGHT
BEGIN:STANDARD
TZOFFSETFROM:-0600
TZOFFSETTO:-0700
TZNAME:MST
DTSTART:20231105T080000
END:STANDARD
BEGIN:DAYLIGHT
TZOFFSETFROM:-0700
TZOFFSETTO:-0600
TZNAME:MDT
DTSTART:20240310T090000
END:DAYLIGHT
BEGIN:STANDARD
TZOFFSETFROM:-0600
TZOFFSETTO:-0700
TZNAME:MST
DTSTART:20241103T080000
END:STANDARD
END:VTIMEZONE
BEGIN:VEVENT
DTSTART;TZID=America/Denver:20231019T080000
DTEND;TZID=America/Denver:20231023T130000
DTSTAMP:20260425T141151
CREATED:20230629T180728Z
LAST-MODIFIED:20231201T213737Z
UID:6035-1697702400-1698066000@nmvfo.org
SUMMARY:Little Whitewater Backpack (Gila NF)
DESCRIPTION:RESULTS: NMVFO volunteer partnered with Gila Back Country Horsemen to reestablish 2.25 miles of the Little Whitewater Trail #214 in the Gila National Forest.\n \n\n\n	\n		\n			\n				\n			\n		\n		\n			\n				\n			\n		\n		\n			\n				\n			\n		\n		\n			\n				\n			\n		\n		\n			\n				\n			\n		\n		\n			\n				\n			\n		\n\n	 \n	\n	Show More\n\n\n\nPHOTO ALBUM LINK \n\nDescription: (This trail project was cancelled in the spring of 2023 (due to weather/high water)\, and we would like to try again. Slightly different camp but same idea.)\nMap of project: https://caltopo.com/m/AN1TT\nThe work will be tread\, logging\, brushing\, and trail markings. The hike to basecamp is 3.5 miles but steep trail with lots of elevation gain. Hiking during the day is up to 4.5 miles. \nCome join us as we partner with the Gila Chapter of the NM Back Country Horsemen on a horse-supported backpack project near Glenwood. See below for information from the Gila BCH website: \n“Our work will tie into later Forest Service trail work\, reopening more loops in the Glenwood District. Most of the repairs are from deferred maintenance and post-Whitewater Baldy Fire in 2012. Optional: camping at a nearby campground the night before the project (please bring your own food and water). Camping options include Bighorn Campground just off of 180\, only a few minutes from the meeting place\, or Cosmic Campground north of Alma on 180\, 20-minute drive to meeting place. \nOn Thursday we will meet between 8:00-8:30AM at Glenwood Community Park for introductions\, work objectives\, safety talk and gear check. We will give the packers our food and a bit of our gear\, then carpool to a location near our trailhead. Because the last ¼ mile on the road to the trailhead is in bad condition\, we will park at a small pull-off at the gate and hike to basecamp from there. People with high clearance vehicles are welcome to drive all the way to the trailhead. From the trailhead the hike to basecamp is 3.5 miles. This is a dry camp so water will be packed in. We will have our Seek Outside hot tent with us for the cool mornings and evenings. Day temperatures should be pleasant. \nFood: Gila BCH homemade vacuum sealed meals (breakfasts and dinners) will be available for this project. We can accommodate meat eaters\, vegetarians\, and some gluten free diets. But you can also bring your own breakfasts and dinners if you prefer. Everyone will need to provide their own lunches and snacks. Water: Please bring water for the hike to basecamp. We will provide jugs of water at basecamp. There is no water on the trail where we will be working so bring 3-quart water capacity. We will provide: Tools\, hard hats\, trail and safety training\, project supervision\, and first aid kit with Wilderness First Responder trained personnel.” \nPlease see the BCH website description for a packing list and more information! Sign up below by Sunday\, October 15. \nDifficulty:  \nGroup Size: 8 \nFor more information: If this is your first NMVFO project\, you can find more information about difficulty ratings and what to expect at Volunteer FAQ\, or email the project leader. \n 
URL:https://nmvfo.org/projects/little-whitewater-backpack-gila-nf/
CATEGORIES:Project
ATTACH;FMTTYPE=image/jpeg:https://nmvfo.org/wp-content/uploads/2023/01/glenwood_gila_2021-e1675036570671.jpg
ORGANIZER;CN="Melissa Green":MAILTO:m.green@nmvfo.org
END:VEVENT
END:VCALENDAR