BEGIN:VCALENDAR
VERSION:2.0
PRODID:-//New Mexico Volunteers For The Outdoors - ECPv6.15.15//NONSGML v1.0//EN
CALSCALE:GREGORIAN
METHOD:PUBLISH
X-ORIGINAL-URL:https://nmvfo.org
X-WR-CALDESC:Events for New Mexico Volunteers For The Outdoors
REFRESH-INTERVAL;VALUE=DURATION:PT1H
X-Robots-Tag:noindex
X-PUBLISHED-TTL:PT1H
BEGIN:VTIMEZONE
TZID:America/Denver
BEGIN:DAYLIGHT
TZOFFSETFROM:-0700
TZOFFSETTO:-0600
TZNAME:MDT
DTSTART:20230312T090000
END:DAYLIGHT
BEGIN:STANDARD
TZOFFSETFROM:-0600
TZOFFSETTO:-0700
TZNAME:MST
DTSTART:20231105T080000
END:STANDARD
BEGIN:DAYLIGHT
TZOFFSETFROM:-0700
TZOFFSETTO:-0600
TZNAME:MDT
DTSTART:20240310T090000
END:DAYLIGHT
BEGIN:STANDARD
TZOFFSETFROM:-0600
TZOFFSETTO:-0700
TZNAME:MST
DTSTART:20241103T080000
END:STANDARD
BEGIN:DAYLIGHT
TZOFFSETFROM:-0700
TZOFFSETTO:-0600
TZNAME:MDT
DTSTART:20250309T090000
END:DAYLIGHT
BEGIN:STANDARD
TZOFFSETFROM:-0600
TZOFFSETTO:-0700
TZNAME:MST
DTSTART:20251102T080000
END:STANDARD
END:VTIMEZONE
BEGIN:VEVENT
DTSTART;TZID=America/Denver:20240525T080000
DTEND;TZID=America/Denver:20240525T160000
DTSTAMP:20260425T051650
CREATED:20240209T143616Z
LAST-MODIFIED:20240514T124114Z
UID:6459-1716624000-1716652800@nmvfo.org
SUMMARY:Juan Trail Project (CANCELED/RESCHEDULE)
DESCRIPTION:Description: Veterans – Join NMVFO on a one-day project to improve the tread of the Juan Trail (#399) in the Santa Fe National Forest. The Juan Trail has been damaged by years of use. We will reshape the trail tread to improve drainage\, fill in entrenched areas\, and remove rocks and roots that are obstructing traffic using pick mattocks\, McLeod hoes\, and Pulaskis (combination axe/mattock). All tools will be provided. \nThis project is set aside for veterans of our military services and their significant others. \nSince parking is limited at the Juan Trailhead\, we will meet at the Dale Ball Trailhead at Coordinates 35.710685\, -105.899316 at 8:00 am then carpool 1.8 miles to the Juan Trailhead at Coordinates 35.72597\, -105.88721. \nUS Forest Service rules require all volunteers to wear boots\, long pants\, long sleeves\, hard hats (provided)\, work gloves\, and eye protection (sunglasses okay) while working. Please bring a daypack to carry your lunch\, snacks\, sunblock\, rain gear\, and a full-day’s supply of water. \nReminder: Pets are not allowed on NMVFO projects. \nPlease sign up below. The closing date for signups is May 21\, 5:00 pm \nDifficulty:  \nGroup size: Up to 15 \nMeet at: Meet at: Dale Ball Trailhead Coordinates 35.710685\, -105.899316  \nHow to find us: Look for the green NMVFO sign along NM 475. \nPlease read our Volunteer Guidelines before signing up for this project.\nOn the signup form please leave the "Number of Volunteers" at 1. If you would like to sign up additional volunteers please submit multiple signups.
URL:https://nmvfo.org/projects/veterans-juan-trail/
CATEGORIES:Canceled,Project
ATTACH;FMTTYPE=image/jpeg:https://nmvfo.org/wp-content/uploads/2024/02/borrego_bear_wallow_2022.jpg
ORGANIZER;CN="Mike Timmer":MAILTO:m.timmer@nmvfo.org
END:VEVENT
END:VCALENDAR