BEGIN:VCALENDAR
VERSION:2.0
PRODID:-//New Mexico Volunteers For The Outdoors - ECPv6.15.15//NONSGML v1.0//EN
CALSCALE:GREGORIAN
METHOD:PUBLISH
X-ORIGINAL-URL:https://nmvfo.org
X-WR-CALDESC:Events for New Mexico Volunteers For The Outdoors
REFRESH-INTERVAL;VALUE=DURATION:PT1H
X-Robots-Tag:noindex
X-PUBLISHED-TTL:PT1H
BEGIN:VTIMEZONE
TZID:America/Denver
BEGIN:DAYLIGHT
TZOFFSETFROM:-0700
TZOFFSETTO:-0600
TZNAME:MDT
DTSTART:20220313T090000
END:DAYLIGHT
BEGIN:STANDARD
TZOFFSETFROM:-0600
TZOFFSETTO:-0700
TZNAME:MST
DTSTART:20221106T080000
END:STANDARD
BEGIN:DAYLIGHT
TZOFFSETFROM:-0700
TZOFFSETTO:-0600
TZNAME:MDT
DTSTART:20230312T090000
END:DAYLIGHT
BEGIN:STANDARD
TZOFFSETFROM:-0600
TZOFFSETTO:-0700
TZNAME:MST
DTSTART:20231105T080000
END:STANDARD
BEGIN:DAYLIGHT
TZOFFSETFROM:-0700
TZOFFSETTO:-0600
TZNAME:MDT
DTSTART:20240310T090000
END:DAYLIGHT
BEGIN:STANDARD
TZOFFSETFROM:-0600
TZOFFSETTO:-0700
TZNAME:MST
DTSTART:20241103T080000
END:STANDARD
END:VTIMEZONE
BEGIN:VEVENT
DTSTART;TZID=America/Denver:20230706T090000
DTEND;TZID=America/Denver:20230709T160000
DTSTAMP:20260425T205209
CREATED:20230128T000402Z
LAST-MODIFIED:20231201T213752Z
UID:5439-1688634000-1688918400@nmvfo.org
SUMMARY:Horsethief Meadows Backpack (Santa Fe NF)
DESCRIPTION:RESULTS: NMVFO volunteers cleared 233 deadfalls on 7.7 miles of trails\, built a rock crossing\, and brushed about a mile of trail. Our partners at Pecos Chapter of Back Country Horsemen hauled tools and water\, helping us to do the work.\n \n\n\n	\n		\n			\n				\n			\n		\n		\n			\n				\n			\n		\n		\n			\n				\n			\n		\n		\n			\n				\n			\n		\n		\n			\n				\n			\n		\n		\n			\n				\n			\n		\n\n	 \n	\n	Show More\n\n\n\nPHOTO ALBUM LINK \n\nDescription: Join us on a four-day backpacking project to clear downed trees and brush on the trails around Horsethief Meadows in the Pecos Wilderness. We will be setting up a base camp in the Meadows area surrounded by spruce-fir forest at about 9\,840 ft MSL. The Backcountry Horsemen of America will be supporting us by transporting our tools and cooking equipment to the base camp. The base camp will be about 5.6 miles from the Panchuela Admin Site near the Panchuela Campground. While the project starts on Thursday\, July 6th\, you are welcome to join us on Friday or Saturday and spend as much time working with us as you can. All tools will be provided. We will be using one- and two-person crosscut saws\, pruning saws\, and loppers. USFS rules require all volunteers to wear ankle-high boots\, long pants\, long sleeves\, hard hats (provided)\, work gloves\, and eye protection (sunglasses okay) while working. Please bring a daypack to carry your lunch\, snacks\, sunblock\, rain gear\, and a full day’s supply of water. \nMeet at: Panchuela Admin Site\, GPS Coordinates 35.82953\, -105.66411 \nDifficulty:   \nGroup Size: Up to 15 \nClosing date for signups is July 4th\, 2023 \nFor more information: If this is your first NMVFO project\, you can find more information about difficulty ratings and what to expect at Volunteer FAQ\, or email the project leader. \nReminder: Pets are not allowed on NMVFO projects. \nPlease read our Volunteer Guidelines before signing up for this project.\nOn the signup form please leave the "Number of Volunteers" at 1. If you would like to sign up additional volunteers please submit multiple signups.
URL:https://nmvfo.org/projects/horsethief-meadows-backpack-santa-fe-nf/
CATEGORIES:Project
ATTACH;FMTTYPE=image/jpeg:https://nmvfo.org/wp-content/uploads/2022/01/horseThief2004-e1643492368530.jpg
ORGANIZER;CN="Mike Timmer":MAILTO:m.timmer@nmvfo.org
END:VEVENT
END:VCALENDAR