BEGIN:VCALENDAR
VERSION:2.0
PRODID:-//New Mexico Volunteers For The Outdoors - ECPv6.15.15//NONSGML v1.0//EN
CALSCALE:GREGORIAN
METHOD:PUBLISH
X-ORIGINAL-URL:https://nmvfo.org
X-WR-CALDESC:Events for New Mexico Volunteers For The Outdoors
REFRESH-INTERVAL;VALUE=DURATION:PT1H
X-Robots-Tag:noindex
X-PUBLISHED-TTL:PT1H
BEGIN:VTIMEZONE
TZID:America/Denver
BEGIN:DAYLIGHT
TZOFFSETFROM:-0700
TZOFFSETTO:-0600
TZNAME:MDT
DTSTART:20220313T090000
END:DAYLIGHT
BEGIN:STANDARD
TZOFFSETFROM:-0600
TZOFFSETTO:-0700
TZNAME:MST
DTSTART:20221106T080000
END:STANDARD
BEGIN:DAYLIGHT
TZOFFSETFROM:-0700
TZOFFSETTO:-0600
TZNAME:MDT
DTSTART:20230312T090000
END:DAYLIGHT
BEGIN:STANDARD
TZOFFSETFROM:-0600
TZOFFSETTO:-0700
TZNAME:MST
DTSTART:20231105T080000
END:STANDARD
BEGIN:DAYLIGHT
TZOFFSETFROM:-0700
TZOFFSETTO:-0600
TZNAME:MDT
DTSTART:20240310T090000
END:DAYLIGHT
BEGIN:STANDARD
TZOFFSETFROM:-0600
TZOFFSETTO:-0700
TZNAME:MST
DTSTART:20241103T080000
END:STANDARD
END:VTIMEZONE
BEGIN:VEVENT
DTSTART;TZID=America/Denver:20230907T090000
DTEND;TZID=America/Denver:20230910T160000
DTSTAMP:20260425T190813
CREATED:20230417T125523Z
LAST-MODIFIED:20230901T012539Z
UID:5924-1694077200-1694361600@nmvfo.org
SUMMARY:Capulin Trail Backpack (Espanola RD\, Santa Fe NF) - CANCELED
DESCRIPTION:Description: Join us on a four-day backpacking project to clear downed trees and brush on the Capulin Trail (#158) in the Pecos Wilderness. The Capulin Trail was hard hit in the Pacheco fire\, and it has almost disappeared over the years. We will be hiking about 5.3 miles from the Aspen Ranch trailhead at GPS Coordinates 35.79832\, -105.83347 to a base camp along Capulin Creek at about GPS Coordinates 35.85564\, -105.82158.  More details will be provided after the Project Leader scouts the trail and base camp this summer \nWhile the project starts on Thursday\, September 7th\, you are welcome to join us on Friday or Saturday and spend as much time working with us as you can. \nAll tools will be provided. We will be using one- and two-person crosscut saws\, pruning saws\, and loppers. USFS rules require all volunteers to wear ankle-high boots\, long pants\, long sleeves\, hard hats (provided)\, work gloves\, and eye protection (sunglasses okay) while working. Please bring a daypack to carry your lunch\, snacks\, sunblock\, rain gear\, and a full day’s supply of water. NMVFO will reimburse volunteers at the rate of $20/day for meals. \nReminder: Pets are not allowed on NMVFO projects. \nClosing date for signups is September 6\, 2023. \nDifficulty:  \nGroup size: Up to 15 \nMeet at: Aspen Ranch trailhead at GPS Coordinates 35.79832\, -105.83347 and proceed to a base camp at about GPS Coordinates 35.86856. (The trailhead is not visible on Google Maps; driving directions will follow.) \nFor more information: If this is your first NMVFO project\, you can find more information about difficulty ratings and what to expect at Volunteer FAQ\, or email the project leader. \n 
URL:https://nmvfo.org/projects/capulin-trail-backpack-espanola-rd-santa-fe-nf/
CATEGORIES:Canceled,Project
ATTACH;FMTTYPE=image/jpeg:https://nmvfo.org/wp-content/uploads/2023/04/sierra_mosca_2021.jpg
ORGANIZER;CN="Mike Timmer":MAILTO:m.timmer@nmvfo.org
END:VEVENT
END:VCALENDAR