BEGIN:VCALENDAR
VERSION:2.0
PRODID:-//New Mexico Volunteers For The Outdoors - ECPv6.15.15//NONSGML v1.0//EN
CALSCALE:GREGORIAN
METHOD:PUBLISH
X-ORIGINAL-URL:https://nmvfo.org
X-WR-CALDESC:Events for New Mexico Volunteers For The Outdoors
REFRESH-INTERVAL;VALUE=DURATION:PT1H
X-Robots-Tag:noindex
X-PUBLISHED-TTL:PT1H
BEGIN:VTIMEZONE
TZID:UTC
BEGIN:STANDARD
TZOFFSETFROM:+0000
TZOFFSETTO:+0000
TZNAME:UTC
DTSTART:20170101T000000
END:STANDARD
END:VTIMEZONE
BEGIN:VEVENT
DTSTART;TZID=UTC:20180317T080000
DTEND;TZID=UTC:20180317T150000
DTSTAMP:20260425T050734
CREATED:20180112T023759Z
LAST-MODIFIED:20200724T163004Z
UID:701-1521273600-1521298800@nmvfo.org
SUMMARY:Trail Workshop Field Training (ABQ Open Space)
DESCRIPTION:RESULTS: 30 volunteers and 7 City of Albuquerque Open Space employees gathered at the Menaul Blvd. Trailhead. (Twenty-two of the volunteers had attended a preliminary workshop on basic trail construction and maintenance at REI on the evening of March 15\, conducted by Lawrence Benson and Chris Fritzsche.) The group routed 850 feet of trail between the Menaul and Embudo trailheads. This involved making a new trail lower down the slope from a long-established but deteriorating user-made trail above Trails 365 and 401. Except for a short section leading up to the old “White Wash” Trail\, the old trail was closed by scarifying with perpendicular furrows and transplanting numerous Prickly Pear and Cholla cacti.  \nFlickr API error: Invalid API Key (Key has invalid format)\nPHOTO ALBUM LINK \n\nIn partnership with REI and the Albuquerque Open Space Division\, the New Mexico Volunteers for the Outdoors is conducting its annual 2-part Trail Construction and Maintenance Workshop on Thursday\, March 15 and Saturday\, March 17. The first session will be held in the Albuquerque REI store and the second part will consist of field training in the City of Albuquerque’s Sandia Foothills Open Space. Experienced trail workers are invited to come to Saturday’s outdoor project on March 17 and help mentor those who attended the classroom session. \nAlthough this is the follow-up to an introductory class in trail work (held at the Albuquerque REI Store on the evening of March 15)\, others who would like to learn about trail work may also attend this project. Experienced NMVFO trail workers and Albuquerque Open Space employees will oversee new volunteers in re-routing part of a trail in the Foothills Open Space. Participants should wear sturdy boots (no soft shoes!)\, work gloves\, long pants\, long-sleeved shirts\, and other apparel appropriate for the predicted weather. Also bring a day pack with snacks\, water\, and personal items. We’ll meet at 8:00 am at the Embudo Park trailhead at the eastern end of Menaul Blvd. Starbucks coffee\, juice\, fruit\, and snacks will be available to those who arrive early enough. Depending on attendance\, we’ll probably finish work no later than mid-afternoon\, but volunteers are welcome to leave early if needed. To sign up for this project\, contact Larry Benson at LawRBenson@aol.com.
URL:https://nmvfo.org/projects/trail-workshop-practical-abq-open-space/
CATEGORIES:Project
ATTACH;FMTTYPE=image/jpeg:https://nmvfo.org/wp-content/uploads/2020/07/39187821670_7c314a6693_c.jpg
ORGANIZER;CN="Chris Fritzsche":MAILTO:fritzsche.christopher@gmail.com
END:VEVENT
BEGIN:VEVENT
DTSTART;TZID=UTC:20180303T080000
DTEND;TZID=UTC:20180303T170000
DTSTAMP:20260425T050734
CREATED:20180112T023411Z
LAST-MODIFIED:20200724T163201Z
UID:697-1520064000-1520096400@nmvfo.org
SUMMARY:Piedra Lisa Trail (Sandia RD)
DESCRIPTION:RESULTS: Seven volunteers renewed 1.0 miles of the upper Piedra Lisa. \nFlickr API error: Invalid API Key (Key has invalid format)\nPHOTO ALBUM LINK \n\nPiedra Lisa trail is a special place and I think you will enjoy the astounding beauty of this trail as you hike into this corner of the Sandia Wilderness. This entire trail runs a total of 5 miles from its southern trailhead near Juan Tabo Canyon to its northern trailhead near Placitas over Rincon ridge. For this project\, we will work approximately 1.75 – 2 miles of the southern trail. \nGeneral Information: \nWe will meet at the Trailhead between 0800 and 0830. If for some reason you are running late or get lost\, call me on my cell phone at 505-225-5744. Remember that this project is FULL and I have a waiting list. So if you need to cancel\, please let me know as soon as possible and DO NOT bring anyone that is not already signed up or that person will be turned away. NO EXCEPTIONS. Sorry\, but the USFS is very firm about the 10 person limit. \nWe will be doing general trail maintenance along the upper part of the trail. Our primary focus will be erosion control and tread work for this project. You should be prepared for a 3.5-4 mile roundtrip hike with roughly 1100 feet of elevation gain. You will want to dress in layers\, as it will be cooler in the morning and warmer as we hit midday. The current long range forecast is partly cloudy and windy with 40mph gusts (yikes – let’s hope that changes) and 62 degrees. There is a 13% chance of rain. You can work all day or any part of the day. \nParking Pass: \nThis parking area no longer requires a parking pass. \nWhat You Should Bring:\nRain gear\, snacks\, sunscreen\, lunch\, water\, work gloves\, clothing in layers\, and sunglasses \nThere isn’t any water available along this trail and you will likely drink more than you think\, so bring plenty. I usually go through 3 quarts on a warm day. Also\, pack a lunch. We will stop for a break to eat and you will need the energy. Please leave behind your dog. Trail work and canines are incompatible.\nNote: This is a very basic list of items. You should bring whatever other personal items you may require. \nYou must wear long sleeve pants\, sturdy hiking boots\, and long sleeve shirts. Inappropriate attire will be cause to send you home. This is a hard hat project. If you do not have one\, one will be provided for you. If you have any questions\, please ask me. \nThe Map:\nThe accompanying trail map provides basic information only (click here to download map). A Sandia Wilderness map is available at local outdoor stores. \nDirections to Piedra Lisa South TH:\nTake NM 556 E (Tramway Blvd. N) to FR 333. Travel NE for 2 mi. until pavement ends. Continue N on FR 333D (dirt) to parking area just before a gate marked Private Road. \nRemember – this day is about having fun and giving something back to the Wilderness we all love and enjoy. Work at your own pace and take as many breaks as you want.
URL:https://nmvfo.org/projects/piedra-lisa-trail-sandia-rd/
CATEGORIES:Project
ATTACH;FMTTYPE=image/jpeg:https://nmvfo.org/wp-content/uploads/2020/07/25774693357_f094b02e15_c.jpg
ORGANIZER;CN="Bill Velasquez":MAILTO:nmvfo@live.com
END:VEVENT
BEGIN:VEVENT
DTSTART;TZID=UTC:20180217T083000
DTEND;TZID=UTC:20180217T150000
DTSTAMP:20260425T050734
CREATED:20180112T023203Z
LAST-MODIFIED:20200724T163255Z
UID:695-1518856200-1518879600@nmvfo.org
SUMMARY:Sevilleta National Wildlife Refuge (FWS)
DESCRIPTION:RESULTS: Nineteen volunteers organized by the NMVFO as well as a crew of Americorps workers and some Sevilleta personnel finished planting more than 500 Goodding’s black willows and putting in place at least a hundred more saplings. As they grow\, these willows will provide a good habitat for the endangered Southwestern Flycatcher and Yellow-Billed Cuckoo. \nFlickr API error: Invalid API Key (Key has invalid format)\nPHOTO ALBUM LINK \nThe Sevilleta NWR (https://www.fws.gov/refuge/sevilleta/) protects a large area north of Socorro containing a great variety of terrain and vegetation. For a video tour\, go to: https://www.facebook.com/SevilletaNWR/videos/1868508613167207/. \nVolunteers for this project are invited to help restore riparian habitat along the Rio Grande—in an area not generally open to the general public—that has recently been cleared of invasive Tamarisk trees. We will be pole-planting willows and cottonwoods to create an environment favorable to native wildlife\, especially the endangered Southwestern Willow Flycatcher. The NWR staff will have already bored holes using an auger and prepared the cuttings\, so our main job will be inserting these small saplings and back-filling the holes with soil. Since this task needs to be done in the winter (before the growing season)\, please dress accordingly if the weather is chilly or precipitation is in the forecast. The area where we’ll be working may be muddy\, so wearing sturdy water-resistant boots is advised. Also bring work gloves and a day pack with lunch\, drinks\, and snacks. Extra water will be available at the work site. The work should be completed by mid-afternoon depending on attendance. \nDirections: Volunteers will need to convene at the Refuge’s Visitor Center at 8:30 AM for transportation to the work site. The Visitor Center is located 60 miles south of Albuquerque’s “Big-I” on Interstate 25. Take Exit 169 down a frontage road and make a sharp right turn at the first intersection. The Visitor Center is about 4/10 of a mile up this road. Volunteers from Albuquerque interested in carpooling can meet no later than 7:30 AM at the Bernalillo County Rail Runner Station. The parking lot is on Camino Del Tren\, which branches north off Rio Bravo Blvd less than a mile west of I-25 at Exit 220. For more information or to sign up for this project\, please contact Larry by February 16. Geolocation: https://goo.gl/maps/fKVrKMb3X962 (34°21’05.8″N\, 106°52’56.8″W)
URL:https://nmvfo.org/projects/sevilleta-national-wildlife-refuge-fws/
CATEGORIES:Project
ATTACH;FMTTYPE=image/jpeg:https://nmvfo.org/wp-content/uploads/2020/07/38561709970_6a1ca9e25e_c.jpg
ORGANIZER;CN="Larry Benson":MAILTO:L.Benson@nmvfo.org
END:VEVENT
END:VCALENDAR