BEGIN:VCALENDAR
VERSION:2.0
PRODID:-//New Mexico Volunteers For The Outdoors - ECPv6.15.15//NONSGML v1.0//EN
CALSCALE:GREGORIAN
METHOD:PUBLISH
X-WR-CALNAME:New Mexico Volunteers For The Outdoors
X-ORIGINAL-URL:https://nmvfo.org
X-WR-CALDESC:Events for New Mexico Volunteers For The Outdoors
REFRESH-INTERVAL;VALUE=DURATION:PT1H
X-Robots-Tag:noindex
X-PUBLISHED-TTL:PT1H
BEGIN:VTIMEZONE
TZID:America/Denver
BEGIN:DAYLIGHT
TZOFFSETFROM:-0700
TZOFFSETTO:-0600
TZNAME:MDT
DTSTART:20250309T090000
END:DAYLIGHT
BEGIN:STANDARD
TZOFFSETFROM:-0600
TZOFFSETTO:-0700
TZNAME:MST
DTSTART:20251102T080000
END:STANDARD
BEGIN:DAYLIGHT
TZOFFSETFROM:-0700
TZOFFSETTO:-0600
TZNAME:MDT
DTSTART:20260308T090000
END:DAYLIGHT
BEGIN:STANDARD
TZOFFSETFROM:-0600
TZOFFSETTO:-0700
TZNAME:MST
DTSTART:20261101T080000
END:STANDARD
BEGIN:DAYLIGHT
TZOFFSETFROM:-0700
TZOFFSETTO:-0600
TZNAME:MDT
DTSTART:20270314T090000
END:DAYLIGHT
BEGIN:STANDARD
TZOFFSETFROM:-0600
TZOFFSETTO:-0700
TZNAME:MST
DTSTART:20271107T080000
END:STANDARD
END:VTIMEZONE
BEGIN:VEVENT
DTSTART;TZID=America/Denver:20261023T170000
DTEND;TZID=America/Denver:20261025T120000
DTSTAMP:20260423T170719
CREATED:20260206T143224Z
LAST-MODIFIED:20260327T144243Z
UID:7854-1792774800-1792929600@nmvfo.org
SUMMARY:Organ Mountains Aguirre Springs Recreation Area (Las Cruces BLM)
DESCRIPTION:Description: Join NMVFO on a trail maintenance project in the beautiful Organ Mountains National Monument east of Las Cruces. We will be working with the Bureau of Land Management doing trail work on the Baylor Pass Trail in the Aguirre Springs Recreation Area. Work needed includes erosion filling\, installing water diversion features\, clearing overgrown brush\, closing braided trails\, and removing a small section of old barbed-wire fence. \nVolunteers can join us for camping on Friday evening. We will be camping in Aguirre Springs Campground. A campfire talk with Ranger Kevin on the geology and natural history of the Organ Mountains will be held on Saturday evening. Breakfasts and dinners will be provided; volunteers will supply their own lunches and snacks. \nAll tools will be provided. Volunteers should wear boots\, long pants\, long sleeves\, work gloves\, and eye protection (sunglasses okay) while working. Please bring a daypack to carry your lunch\, snacks\, sunblock\, rain gear\, and a full-day’s supply of water. Volunteers will need to provide their own recreational vehicle or camping gear including tent\, sleeping bag and pad\, camp chair\, headlamp\, etc.\, plus a cooler/beverages if desired. \nDifficulty: \n \nGroup Size: Up to 15. \nPlease read our Volunteer Guidelines before signing up for this project.\nOn the signup form please leave the "Number of Volunteers" at 1. If you would like to sign up additional volunteers please submit multiple signups.
URL:https://nmvfo.org/projects/organ-mountains-aguirre-springs-recreation-area-las-cruces-blm-3/
CATEGORIES:Project
ATTACH;FMTTYPE=image/jpeg:https://nmvfo.org/wp-content/uploads/2024/09/pine_tree_trail.jpg
ORGANIZER;CN="Christy Osmon":MAILTO:c.osmon@nmvfo.org
END:VEVENT
END:VCALENDAR