BEGIN:VCALENDAR
VERSION:2.0
PRODID:-//New Mexico Volunteers For The Outdoors - ECPv6.15.15//NONSGML v1.0//EN
CALSCALE:GREGORIAN
METHOD:PUBLISH
X-WR-CALNAME:New Mexico Volunteers For The Outdoors
X-ORIGINAL-URL:https://nmvfo.org
X-WR-CALDESC:Events for New Mexico Volunteers For The Outdoors
REFRESH-INTERVAL;VALUE=DURATION:PT1H
X-Robots-Tag:noindex
X-PUBLISHED-TTL:PT1H
BEGIN:VTIMEZONE
TZID:America/Denver
BEGIN:DAYLIGHT
TZOFFSETFROM:-0700
TZOFFSETTO:-0600
TZNAME:MDT
DTSTART:20250309T090000
END:DAYLIGHT
BEGIN:STANDARD
TZOFFSETFROM:-0600
TZOFFSETTO:-0700
TZNAME:MST
DTSTART:20251102T080000
END:STANDARD
BEGIN:DAYLIGHT
TZOFFSETFROM:-0700
TZOFFSETTO:-0600
TZNAME:MDT
DTSTART:20260308T090000
END:DAYLIGHT
BEGIN:STANDARD
TZOFFSETFROM:-0600
TZOFFSETTO:-0700
TZNAME:MST
DTSTART:20261101T080000
END:STANDARD
BEGIN:DAYLIGHT
TZOFFSETFROM:-0700
TZOFFSETTO:-0600
TZNAME:MDT
DTSTART:20270314T090000
END:DAYLIGHT
BEGIN:STANDARD
TZOFFSETFROM:-0600
TZOFFSETTO:-0700
TZNAME:MST
DTSTART:20271107T080000
END:STANDARD
END:VTIMEZONE
BEGIN:VEVENT
DTSTART;TZID=America/Denver:20260425T090000
DTEND;TZID=America/Denver:20260426T150000
DTSTAMP:20260423T103431
CREATED:20260111T145753Z
LAST-MODIFIED:20260116T010246Z
UID:7772-1777107600-1777215600@nmvfo.org
SUMMARY:Randall Davey Audubon Center
DESCRIPTION:Description: We return to the Randall Davey Audubon Center for the second year in a row\, this time to build a new trail that the center has been thinking about for a long time.\nAlthough some details of the project remain to be worked out\, we’ll plan to meet at the center at 9AM (look for the green signs) on Saturday April 25 and hike a short distance to the start of the project. \nThose who wish could camp overnight at Randall Davey or return from home to resume work on Sunday. Dinner on Saturday and breakfast on Sunday will be provided by center staff. We’ll send further details to those who sign up once the project gets closer. \nPlease bring your own snacks and lunches as well as water. Tools will be provided. Participants should wear sturdy boots or work shoes (no sandals)\, long pants\, hat\, eye protection\, gloves\, and bring gear for rain if forecast.  Pets are not allowed on projects or at the Audubon center. \nDifficulty:  \nGroup Size: Up to 15 \nPlease read our Volunteer Guidelines before signing up for this project.\nOn the signup form please leave the "Number of Volunteers" at 1. If you would like to sign up additional volunteers please submit multiple signups.
URL:https://nmvfo.org/projects/randall-davey-audubon-center-2/
CATEGORIES:Project
ATTACH;FMTTYPE=image/jpeg:https://nmvfo.org/wp-content/uploads/2025/06/DaveyHouseFront_Credit_Judy_Kohn.jpg
ORGANIZER;CN="Russ Garland":MAILTO:r.garland@nmvfo.org
END:VEVENT
END:VCALENDAR