BEGIN:VCALENDAR
VERSION:2.0
PRODID:-//New Mexico Volunteers For The Outdoors - ECPv6.15.15//NONSGML v1.0//EN
CALSCALE:GREGORIAN
METHOD:PUBLISH
X-WR-CALNAME:New Mexico Volunteers For The Outdoors
X-ORIGINAL-URL:https://nmvfo.org
X-WR-CALDESC:Events for New Mexico Volunteers For The Outdoors
REFRESH-INTERVAL;VALUE=DURATION:PT1H
X-Robots-Tag:noindex
X-PUBLISHED-TTL:PT1H
BEGIN:VTIMEZONE
TZID:America/Denver
BEGIN:DAYLIGHT
TZOFFSETFROM:-0700
TZOFFSETTO:-0600
TZNAME:MDT
DTSTART:20250309T090000
END:DAYLIGHT
BEGIN:STANDARD
TZOFFSETFROM:-0600
TZOFFSETTO:-0700
TZNAME:MST
DTSTART:20251102T080000
END:STANDARD
BEGIN:DAYLIGHT
TZOFFSETFROM:-0700
TZOFFSETTO:-0600
TZNAME:MDT
DTSTART:20260308T090000
END:DAYLIGHT
BEGIN:STANDARD
TZOFFSETFROM:-0600
TZOFFSETTO:-0700
TZNAME:MST
DTSTART:20261101T080000
END:STANDARD
BEGIN:DAYLIGHT
TZOFFSETFROM:-0700
TZOFFSETTO:-0600
TZNAME:MDT
DTSTART:20270314T090000
END:DAYLIGHT
BEGIN:STANDARD
TZOFFSETFROM:-0600
TZOFFSETTO:-0700
TZNAME:MST
DTSTART:20271107T080000
END:STANDARD
END:VTIMEZONE
BEGIN:VEVENT
DTSTART;TZID=America/Denver:20260806T170000
DTEND;TZID=America/Denver:20260809T130000
DTSTAMP:20260423T155004
CREATED:20260205T131343Z
LAST-MODIFIED:20260218T142616Z
UID:7846-1786035600-1786280400@nmvfo.org
SUMMARY:CDT Canjilon (Carson NF)
DESCRIPTION:Description: We partner with the Continental Divide Trail Coalition for a project at Canjilon Lake Trailhead in the Carson National Forest. We expect to do logout with crosscut saws and handsaws\, and some treadwork as needed. \nIf you cannot arrive Thursday night\, be there by Friday 8AM\, ready to work. \nThis is a car camp project\, and breakfasts and dinners will be provided. Bring your own lunches and snacks. \nPlease bring a daypack to carry your lunch\, snacks\, sunblock\, rain gear\, and a full-day’s supply of water. Volunteers must wear sturdy boots\, long pants\, long sleeve shirts\, eye protection (sunglasses ok)\, and work gloves. All tools will be provided. All dinners and breakfasts will be provided by our friends at the CDTC\, but bring your own lunches. Bring the normal camping gear you would need for a car camp\, and a camp chair is a good idea. There may not be a water faucet at base camp\, so bring your own supply. Base camp amenities include a vault toilet. \nSee the CDTC project description here. \nYou can sign up below until Tuesday July 28\, 2026. \nDifficulty:  \nPlease read our Volunteer Guidelines before signing up for this project.\nOn the signup form please leave the "Number of Volunteers" at 1. If you would like to sign up additional volunteers please submit multiple signups.
URL:https://nmvfo.org/projects/cdt-canjilon-carson-nf/
CATEGORIES:Project
ATTACH;FMTTYPE=image/jpeg:https://nmvfo.org/wp-content/uploads/2023/06/sawyer3_2023.jpg
ORGANIZER;CN="Christy Osmon":MAILTO:c.osmon@nmvfo.org
END:VEVENT
BEGIN:VEVENT
DTSTART;TZID=America/Denver:20260820T090000
DTEND;TZID=America/Denver:20260823T160000
DTSTAMP:20260423T155004
CREATED:20260130T145855Z
LAST-MODIFIED:20260218T140100Z
UID:7841-1787216400-1787500800@nmvfo.org
SUMMARY:Dome Trail #151 Backpack
DESCRIPTION:Description: Join NMVFO on a four-day backpacking project to clear downed trees on the Dome Trail #151 in the Pecos Wilderness of the Santa Fe National Forest (SFNF). The Dome Trail hasn’t been cleared for many years. Backcountry Horsemen of America will pack in our tools and water. The location of our basecamp will be provided after the trail is scouted in July. \nWhile the project starts on Thursday\, August 20th\, you are welcome to join us on Friday or Saturday and spend as much time working with us as you can. Just let Mike Timmer know your schedule. \nAll tools will be provided. We will be using one- and two-person crosscut saws\, pruning saws\, and axes. USFS rules require all volunteers to wear ankle-high boots\, long pants\, long sleeves\, hard hats (provided)\, work gloves\, and eye protection (sunglasses okay) while working. Please bring a daypack to carry your lunch\, snacks\, sunblock\, rain gear\, and a full day’s supply of water. \nReminder: Pets are not allowed on NMVFO projects. \nPlease sign up below. The closing date for signups is August 17th at 5:00 pm \nDifficulty:  \nGroup size: Up to 15 \nMeet at: Meet at: Rio Quemado trailhead at coordinates 35.97214\, -105.74862 \nHow to find us: Look for the green NMVFO signs starting at Forest Road 306 southwest of Cordova\, New Mexico. \nFor more information:  If this is your first NMVFO project\, you can find more information about difficulty ratings and what to expect at https://nmvfo.org/volunteer/volunteer-faq or email the project leader. \nPlease read our Volunteer Guidelines before signing up for this project.\nOn the signup form please leave the "Number of Volunteers" at 1. If you would like to sign up additional volunteers please submit multiple signups.
URL:https://nmvfo.org/projects/dome-trail-151-backpack/
CATEGORIES:Project
ATTACH;FMTTYPE=image/jpeg:https://nmvfo.org/wp-content/uploads/2026/01/dome2.jpg
ORGANIZER;CN="Mike Timmer":MAILTO:m.timmer@nmvfo.org
END:VEVENT
BEGIN:VEVENT
DTSTART;TZID=America/Denver:20260822T083000
DTEND;TZID=America/Denver:20260822T140000
DTSTAMP:20260423T155004
CREATED:20251211T223308Z
LAST-MODIFIED:20260115T151627Z
UID:7697-1787387400-1787407200@nmvfo.org
SUMMARY:Juan Tomas (ABQ Open Space)
DESCRIPTION:Description: Albuquerque’s Open Space Division maintains five areas on the east side of the Sandia and Manzanita Mountains.  The largest of these is the Juan Tomas Open Space\, which encompasses 1\,290 acres of primarily pinon-juniper and ponderosa forest growing at elevations up to 7\,760 feet.  Join us as we continue building a new trail to eventually replace an old eroded route under the guidance of Jim Sattler of the Open Space Division.  The work area will be about a mile hike across level terrain from the parking lot.  An Open Space crew will have already marked the new trail corridor with pin flags and chain-sawed any large trees.  Using pick mattocks\, McLeods\, Pulaskis\, loppers\, hand saws\, and shovels\, we will clear out smaller vegetation and excavate a smooth well-drained tread for hikers\, mountain bikes\, and occasional horses.  We may also build some rock retaining walls if needed. \nPreparations:  Wear long pants\, sturdy boots or work shoes (no soft shoes or sandals)\, sun glasses\, or other eye protection. We’ll be working in only partial shade\, so wear a hat and put on some sunscreen.  Bring work or gardening gloves if you have them; otherwise\, loaners will be available.  Also bring a day pack with plenty of water or other drinks\, snacks or light lunch\, and a rain jacket or poncho (especially if the monsoon season will be active). \nDirections:  From Albuquerque\, take the Tijeras exit (#175) from I-40 and drive south on Highway 337 for 9 miles (bypassing Juan Tomas Road\, which leads to a village).  Turn east (left) on Oak Flat Road and continue about 2 miles to a dirt parking area with a pipe gate on the left side of the road. Please try to arrive no later than 8:30 AM.  There will be two rosters to sign: one for the Open Space Division and other for NMVFO. \nDifficulty:   \nGroup Size: 25. If the project is full\, please email the project leader to be put on a wait list. \nCost:  Free! \nPlease read our Volunteer Guidelines before signing up for this project.\nOn the signup form please leave the "Number of Volunteers" at 1. If you would like to sign up additional volunteers please submit multiple signups.
URL:https://nmvfo.org/projects/juan-tomas-abq-open-space-8/
CATEGORIES:Project
ATTACH;FMTTYPE=image/jpeg:https://nmvfo.org/wp-content/uploads/2025/12/juan_tomas.jpg
ORGANIZER;CN="Larry Benson":MAILTO:L.Benson@nmvfo.org
END:VEVENT
END:VCALENDAR