BEGIN:VCALENDAR
VERSION:2.0
PRODID:-//New Mexico Volunteers For The Outdoors - ECPv6.15.15//NONSGML v1.0//EN
CALSCALE:GREGORIAN
METHOD:PUBLISH
X-ORIGINAL-URL:https://nmvfo.org
X-WR-CALDESC:Events for New Mexico Volunteers For The Outdoors
REFRESH-INTERVAL;VALUE=DURATION:PT1H
X-Robots-Tag:noindex
X-PUBLISHED-TTL:PT1H
BEGIN:VTIMEZONE
TZID:America/Denver
BEGIN:DAYLIGHT
TZOFFSETFROM:-0700
TZOFFSETTO:-0600
TZNAME:MDT
DTSTART:20250309T090000
END:DAYLIGHT
BEGIN:STANDARD
TZOFFSETFROM:-0600
TZOFFSETTO:-0700
TZNAME:MST
DTSTART:20251102T080000
END:STANDARD
BEGIN:DAYLIGHT
TZOFFSETFROM:-0700
TZOFFSETTO:-0600
TZNAME:MDT
DTSTART:20260308T090000
END:DAYLIGHT
BEGIN:STANDARD
TZOFFSETFROM:-0600
TZOFFSETTO:-0700
TZNAME:MST
DTSTART:20261101T080000
END:STANDARD
BEGIN:DAYLIGHT
TZOFFSETFROM:-0700
TZOFFSETTO:-0600
TZNAME:MDT
DTSTART:20270314T090000
END:DAYLIGHT
BEGIN:STANDARD
TZOFFSETFROM:-0600
TZOFFSETTO:-0700
TZNAME:MST
DTSTART:20271107T080000
END:STANDARD
END:VTIMEZONE
BEGIN:VEVENT
DTSTART;TZID=America/Denver:20260502T080000
DTEND;TZID=America/Denver:20260502T160000
DTSTAMP:20260423T114600
CREATED:20260219T170051Z
LAST-MODIFIED:20260219T170908Z
UID:7891-1777708800-1777737600@nmvfo.org
SUMMARY:Valle de Oro Habitat Restoration (NWR)
DESCRIPTION:Description: The Valle de Oro National Wildlife Refuge is the Southwest’s first urban wildlife refuge. It serves as an oasis for both wildlife and people. Established in 2012\, the refuge is transitioning from agriculture fields to a diversity of native habitats and visitor amenities. \nHelp us with habitat restoration at the Refuge by volunteering for the annual Visitor Center pond clean up event. We will be cutting back cattails and removing tumbleweeds and invasive species to make space for native plants. This will be a great project to get your hands dirty and your boots muddy. Waders will be provided by refuge staff. Guided tours of the Refuge will be provided for interested volunteers. \nVolunteers must wear sturdy boots (preferred) or shoes (no sandals)\, long pants\, eye protection\, and work gloves. Long sleeve shirts are recommended. Bring a hat\, sun protection\, and other apparel appropriate for the predicted weather. Also bring a day pack with water\, snacks\, lunch\, and other necessities. We plan to finish work by 4:00 pm. \nThe volunteer group will not exceed 20 participants. Registrants will be updated by email in the week(s) before the project with the latest information. If you have to cancel on the day of the project\, please text the Project Leader at 505-705-2584. \nDirections:  Valle de Oro is located approximately 10 miles south of Albuquerque’s Big I.  Coming from the North\, take Interstate 25 South to Rio Bravo (Exit 220).  Go West on Rio Bravo\, then South on Broadway for approximately 2.25 miles.  Turn West on Desert\, cross the Rail-runner Tracks\, then turn South on 2nd Street.  The entrance to Valle de Oro will be on your right about 0.75 miles.  At the entrance\, proceed to Visitor Center parking.  Please plan to be there a little before 8:00 AM. \nDifficulty:  \nTo sign up: Click on the button below and fill out the contact information. If the project is full\, you can email the project leader to be put on a wait list. \nPlease read our Volunteer Guidelines before signing up for this project.\nOn the signup form please leave the "Number of Volunteers" at 1. If you would like to sign up additional volunteers please submit multiple signups.
URL:https://nmvfo.org/projects/valle-de-oro-habitat-restoration-nwr-2/
CATEGORIES:Project
ATTACH;FMTTYPE=image/jpeg:https://nmvfo.org/wp-content/uploads/2026/02/VdeOro_5_2_26project.jpg
ORGANIZER;CN="Ed DiBello":MAILTO:e.dibello@nmvfo.org
END:VEVENT
BEGIN:VEVENT
DTSTART;TZID=America/Denver:20260508T080000
DTEND;TZID=America/Denver:20260511T140000
DTSTAMP:20260423T114600
CREATED:20251211T172404Z
LAST-MODIFIED:20260115T151510Z
UID:7683-1778227200-1778508000@nmvfo.org
SUMMARY:East Railroad Trail Backpack (Gila NF)
DESCRIPTION:Description: Lots of brushing\, in addition to logging\, trail marking\, and tread work with our partners Gila Back Country Horsemen. A map of the project is at https://caltopo.com/m/865CL65.\nHikers and equine-riders will all meet the Upper Gallinas Campground. Hikers will pass off 40 lbs or less of personal gear to be packed in and then drive to the Railroad Trailhead to start hiking in. The packers will ride from Gallinas Campground\, packing into the hiker basecamp. Once at basec camp\, hikers will set up camp and work from there. The packers will ride back to Upper Gallinas Campground and basecamp there for the rest of the project\, riding up each day to log. At the end of the project\, the packers will pack out the hikers. \nWhat to bring: Come prepared with layers. See the packing list and a more detailed description at this link\n \nFood and Water: Gila BCH homemade vacuum-sealed meals (breakfasts and dinners) will be available for this project. We can accommodate meat eaters\, vegetarians\, and some gluten-free diets. But you can also bring your own breakfasts and dinners if you prefer.\nEveryone will need to provide their own lunches and snacks.\nPlease bring water for the hike to base camp. We will provide jugs of water at base camp or if there is water in the creek\, we will filter water. There is not always water on the trail where we will work\, so bring a 4-quart water capacity. \nWhy This Trail: This trail is easy to access since it starts near Highway 152. \nDirections: 8 am Upper Gallinas Campground. \nDifficulty: Be able to hike up to 6 miles per day. The elevation is from 7\,000 to 9\,660 feet. \nFor more information: go to the Gila Trails Info website. \nPlease read our Volunteer Guidelines before signing up for this project.\nOn the signup form please leave the "Number of Volunteers" at 1. If you would like to sign up additional volunteers please submit multiple signups.\n\n	\n	\n	\n\n 
URL:https://nmvfo.org/projects/east-railroad-trail-backpack-gila-nf/
CATEGORIES:Project
ATTACH;FMTTYPE=image/jpeg:https://nmvfo.org/wp-content/uploads/2025/12/east_railroad.jpg
ORGANIZER;CN="Melissa Green":MAILTO:m.green@nmvfo.org
END:VEVENT
BEGIN:VEVENT
DTSTART;TZID=America/Denver:20260509T090000
DTEND;TZID=America/Denver:20260509T130000
DTSTAMP:20260423T114600
CREATED:20260218T124727Z
LAST-MODIFIED:20260312T013554Z
UID:7884-1778317200-1778331600@nmvfo.org
SUMMARY:Latino Outdoors – 2026 Spring Bows in Burque
DESCRIPTION:Description: Come help NMVFO staff a booth at the Latino Outdoors’ Spring Bows in Burque event on Saturday May 9th from 9:00 am to 1:00 pm. The event provides hands-on outdoor experiences for residents. We’ll have our two-person crosscut saw\, logs\, and crossbuck for folks and kids to try out their lumberjack skills. \nStaffing the booth is easy and fun as you get to talk with visitors about NMVFO’s wide range of projects\, training\, and social events\, about the camaraderie we experience during our projects\, and the satisfaction of giving something back to New Mexico’s outdoors. But most of all we get to see the smiles on their faces as they buck a log for the first time and take home a cutoff souvenir. \nInformation concerning the event location and parking will be provided as it becomes available. \nDifficulty:  \nGroup Size: Five \nCost: Free! \nPlease email Mike Timmer at m.timmer@nmvfo.org to let him know when you can attend then sign up for this event with the button below. \nThe closing date for signups is May 6th at 5:00 pm \nPlease read our Volunteer Guidelines before signing up for this project.\nOn the signup form please leave the "Number of Volunteers" at 1. If you would like to sign up additional volunteers please submit multiple signups.
URL:https://nmvfo.org/projects/latino-outdoors-2026-spring-bows-in-burque/
CATEGORIES:Project,Tabling
ATTACH;FMTTYPE=image/jpeg:https://nmvfo.org/wp-content/uploads/2026/02/latino_outdoors_2025.jpg
ORGANIZER;CN="Mike Timmer":MAILTO:m.timmer@nmvfo.org
END:VEVENT
BEGIN:VEVENT
DTSTART;TZID=America/Denver:20260515T170000
DTEND;TZID=America/Denver:20260516T170000
DTSTAMP:20260423T114600
CREATED:20251125T235232Z
LAST-MODIFIED:20260116T010358Z
UID:7661-1778864400-1778950800@nmvfo.org
SUMMARY:Upper Trigo Trail (Mountainair RD)
DESCRIPTION:Description: We will camp Friday night at New Canyon Campground and hike up New Canyon Trail (which should be clear) and work down the west side of Manzano Crest on Trigo Trail.  This will be a hike of 6 to 8 miles round trip with over 2000 feet of elevation gain so we will rate this as difficult. The work will be lopping back overgrowth and sawing downed trees. \nWe will provide meals on Friday evening and Saturday morning.  You will need to bring food and water for the work day on Saturday.  The campground has pit toilets but no other amenities – there is no water.  You could join us Saturday morning if you don’t want to camp but it is about 1.5 hours from Tramway to the campground\, and the work day starts at 8AM.  The campground is 5.0 miles on Capilla Peak Road from Manzano\, NM.  Detailed directions will be sent to volunteers. \nFor Saturday\, bring your daypack\, water\, sunscreen\, lunch\, and snacks to sustain you throughout the day\, and rain gear (just in case). Please make sure you have long pants and sturdy but comfortable boots/shoes. Long sleeves are also highly recommended. Tools will be provided. Hard hats will be mandatory and provided\, but feel free to bring your own if you have one. Please also bring eye protection (sunglasses or safety glasses) and work gloves if you have them. Loaner protective equipment will also be available.  As always\, dogs are not allowed on projects. \nDifficulty:  6-8 miles round trip\, 2000 feet elevation gain \nPlease read our Volunteer Guidelines before signing up for this project.\nOn the signup form please leave the "Number of Volunteers" at 1. If you would like to sign up additional volunteers please submit multiple signups.
URL:https://nmvfo.org/projects/manzano-spring-project/
CATEGORIES:Project
ATTACH;FMTTYPE=image/jpeg:https://nmvfo.org/wp-content/uploads/2023/08/upper_trigo_2023.jpg
ORGANIZER;CN="Uwe Schroeter":MAILTO:u.schroeter@nmvfo.org
END:VEVENT
BEGIN:VEVENT
DTSTART;TZID=America/Denver:20260516T080000
DTEND;TZID=America/Denver:20260517T170000
DTSTAMP:20260423T114600
CREATED:20260222T223439Z
LAST-MODIFIED:20260224T154221Z
UID:7904-1778918400-1779037200@nmvfo.org
SUMMARY:South Crest Trail Backpack (Sandia RD)
DESCRIPTION:Description: The Crest Trail is a popular route for long hikes\, with amazing views. The more remote sections have been overgrown with brush\, and need to be cleared\, before they are lost. In order to access this particular remote section\, we will do an overnight backpack trip. We’ll hike up the Cienega Trail – 2 miles and 1\,900’ elevation climb\, and camp a bit south of the junction\, on the Crest. This is a rare opportunity to see both sunset and sunrise from the Crest\, a 9\,400’ vantage point! Water\, and possibly tools\, will be packed in by Back Country Horsemen. \nPlease bring: Volunteers will need to bring their own camping gear and food. They will also need long pants\, long-sleeve shirts\, safety glasses (sunglasses)\, and gloves. Hard hats will be provided\, and will need to be carried up. \nTrail runners: There is also an opportunity for trail runners to participate. They could run up to the Crest in the morning\, work\, then run back down. If you are interested in doing this\, let the trip leader know\, and details will be worked out. \nLocation: Backpackers will meet at Cienaga Picnic Area at 8AM to start hiking up. \nDifficulty:  with 1\,900′ elevation climb\, and high elevation. \nGroup size – 15 campers and more trail runners\, so 25 overall. \nClosing date for sign-ups is May 13. More details will be sent to participants. \nPlease read our Volunteer Guidelines before signing up for this project.\nOn the signup form please leave the "Number of Volunteers" at 1. If you would like to sign up additional volunteers please submit multiple signups.
URL:https://nmvfo.org/projects/south-crest-trail-backpack-sandia-rd-2/
CATEGORIES:Project
ATTACH;FMTTYPE=image/jpeg:https://nmvfo.org/wp-content/uploads/2026/02/crest_lopping_2025.jpg
ORGANIZER;CN="Sue Harrelson":MAILTO:s.harrelson@nmvfo.org
END:VEVENT
END:VCALENDAR