BEGIN:VCALENDAR
VERSION:2.0
PRODID:-//New Mexico Volunteers For The Outdoors - ECPv6.15.15//NONSGML v1.0//EN
CALSCALE:GREGORIAN
METHOD:PUBLISH
X-WR-CALNAME:New Mexico Volunteers For The Outdoors
X-ORIGINAL-URL:https://nmvfo.org
X-WR-CALDESC:Events for New Mexico Volunteers For The Outdoors
REFRESH-INTERVAL;VALUE=DURATION:PT1H
X-Robots-Tag:noindex
X-PUBLISHED-TTL:PT1H
BEGIN:VTIMEZONE
TZID:America/Denver
BEGIN:DAYLIGHT
TZOFFSETFROM:-0700
TZOFFSETTO:-0600
TZNAME:MDT
DTSTART:20250309T090000
END:DAYLIGHT
BEGIN:STANDARD
TZOFFSETFROM:-0600
TZOFFSETTO:-0700
TZNAME:MST
DTSTART:20251102T080000
END:STANDARD
BEGIN:DAYLIGHT
TZOFFSETFROM:-0700
TZOFFSETTO:-0600
TZNAME:MDT
DTSTART:20260308T090000
END:DAYLIGHT
BEGIN:STANDARD
TZOFFSETFROM:-0600
TZOFFSETTO:-0700
TZNAME:MST
DTSTART:20261101T080000
END:STANDARD
BEGIN:DAYLIGHT
TZOFFSETFROM:-0700
TZOFFSETTO:-0600
TZNAME:MDT
DTSTART:20270314T090000
END:DAYLIGHT
BEGIN:STANDARD
TZOFFSETFROM:-0600
TZOFFSETTO:-0700
TZNAME:MST
DTSTART:20271107T080000
END:STANDARD
END:VTIMEZONE
BEGIN:VEVENT
DTSTART;TZID=America/Denver:20260227T090000
DTEND;TZID=America/Denver:20260302T170000
DTSTAMP:20260423T113758
CREATED:20251125T234100Z
LAST-MODIFIED:20260305T150637Z
UID:7651-1772182800-1772470800@nmvfo.org
SUMMARY:Burro Mountains CDT Backpack (Gila NF)
DESCRIPTION:RESULTS: BCH-Gila and NMVFO cleared 5.5 miles of trail on the CDT near Saddle Rock. \n\n\n	\n		\n			\n				\n			\n		\n		\n			\n				\n			\n		\n		\n			\n				\n			\n		\n		\n			\n				\n			\n		\n		\n			\n				\n			\n		\n		\n			\n				\n			\n		\n\n	 \n	\n	Show More\n\n\n\nPHOTO ALBUM LINK \n\n  \nDescription: Join us for an early-season trail project with our partners Gila Back Country Horsemen. We will be brushing with some logging and building trail markers. A map of the project is at https://caltopo.com/m/KVQC4HL \nWhat to bring: Come prepared with layers. Mornings and evenings may be chilly. Days will likely be cool to warm. See the packing list and a more detailed description at this link\n \nFood and Water: Gila BCH homemade vacuum-sealed meals (breakfasts and dinners) will be available for this project. We can accommodate meat eaters\, vegetarians\, and some gluten-free diets. But you can also bring your own breakfasts and dinners if you prefer.\nEveryone will need to provide their own lunches and snacks.\nPlease bring water for the hike to base camp. Once at basecamp\, we will pack in water for us to drink. There is no water along the trail\, so bring a 3-quart water capacity.  \nWhy This Trail: This trail is a part of a nice loop that we want to reopen. The loop is the Gnarly Trail\, CDT\, and then back to Saddle Rock Canyon. We will also improve the CDT south of Saddle Rock. \nDirections: From Silver City:It is about a 20-minute drive. Take 180 12 miles west of Silver City to Saddle Rock Road. Turn left onto the Saddle Rock Road. Parking TBD. 2wd can work\, but this road is sandy so 4wd is preferable \nDifficulty: Easy to moderate. Be able to hike up to 6.5 miles per day. The elevation is from 5000 ft up to 6300 ft. \nFor more information: go to the Gila Trails Info website. \nPlease read our Volunteer Guidelines before signing up for this project.\nOn the signup form please leave the "Number of Volunteers" at 1. If you would like to sign up additional volunteers please submit multiple signups.\n\n	\n	\n	\n\n 
URL:https://nmvfo.org/projects/burro-mountains-cdt-gila-nf/
CATEGORIES:Project
ATTACH;FMTTYPE=image/jpeg:https://nmvfo.org/wp-content/uploads/2025/11/cdt_near_saddle_rock.jpg
ORGANIZER;CN="Melissa Green":MAILTO:m.green@nmvfo.org
END:VEVENT
BEGIN:VEVENT
DTSTART;TZID=America/Denver:20260307T090000
DTEND;TZID=America/Denver:20260307T160000
DTSTAMP:20260423T113759
CREATED:20260125T233708Z
LAST-MODIFIED:20260308T204200Z
UID:7804-1772874000-1772899200@nmvfo.org
SUMMARY:Sevilleta NWR
DESCRIPTION:RESULTS: NMVFO volunteers\, along with Amigos de la Sevilleta and UNM staff\, dismantled an entire Rainfall Study experiment array in the far northeast corner of Sevilleta National Wildlife Refuge  \n\n\n	\n		\n			\n				\n			\n		\n		\n			\n				\n			\n		\n		\n			\n				\n			\n		\n		\n			\n				\n			\n		\n		\n			\n				\n			\n		\n		\n			\n				\n			\n		\n\n	 \n	\n	Show More\n\n\n\nPHOTO ALBUM LINK \n\n  \nThe Sevilleta National Wildlife Refuge protects a large expanse of land north of Socorro encompassing a variety of terrain and habitats on both sides of the Rio Grande. \nSevilleta partners with UNM for scientific research\, and this year NMVFO will be removing  hardware from a past research study\, working with Professor Pockman\, Director of the UNM Sevilleta Field Station. We will be working with the refuge volunteer group\, Amigos de la Sevilleta. \nDescription: On the eastern reaches of the refuge in pinon-juniper woodland in the north end of the Los Pinos mountains is located equipment for a rainfall manipulation study that now needs to be removed (see photo above).  The work involves using rechargeable drill/drivers to dismantle the rainfall structures and remove the material from the site to vehicles at a nearby road so they can be hauled from the refuge. \nWhat to bring: Volunteers must wear sturdy boots (preferred) or shoes (no sandals)\, long pants\, eye protection\, and work gloves. Long sleeve shirts are recommended. Bring a hat\, sun protection\, and other apparel appropriate for the predicted weather. Also bring a day pack with extra sunscreen\, snacks and a pack lunch\, a waterproof jacket if rain is possible\, and at least a liter container of water.\nIf you have your own battery-operated driver\, you are welcome to bring it– otherwise NMVFO and the Refuge will provide tools. \nDirections: We will meet at the far northeastern corner of the refuge. Take I-25 south from Albuquerque about 50 miles to US Highway 60 (Exit 175) and drive east approximately 20 miles (where the road curves south into the Los Pinos Mountains and then starts to turn east again). Turn right where a green NMVFO sign should be visible\, and park just past the gate. We’ll then carpool in high clearance vehicles to the work site\, about 6 miles to the south. Corrected Google Map Link.\nNote: check email updates shortly before the project\, in case the meeting location has changed. \nUpon arrival volunteers will sign-in at the Visitor Center and then we will carpool to the work site. \nGroup Size: Up to 20 \nDifficulty:  \nPlease read our Volunteer Guidelines before signing up for this project.\nOn the signup form please leave the "Number of Volunteers" at 1. If you would like to sign up additional volunteers please submit multiple signups.
URL:https://nmvfo.org/projects/sevilleta-nwr/
CATEGORIES:Project
ATTACH;FMTTYPE=image/jpeg:https://nmvfo.org/wp-content/uploads/2026/01/sevilleta_rain_study_2026.jpg
ORGANIZER;CN="Jim (Sagebrush) Sells":MAILTO:j.sells@nmvfo.org
END:VEVENT
BEGIN:VEVENT
DTSTART;TZID=America/Denver:20260309T100000
DTEND;TZID=America/Denver:20260309T150000
DTSTAMP:20260423T113759
CREATED:20260310T140854Z
LAST-MODIFIED:20260310T140854Z
UID:7934-1773050400-1773068400@nmvfo.org
SUMMARY:Coronado Bosque Add-On 2
DESCRIPTION:RESULTS: Volunteers return to the Coronado Historic Site to cut and pile dead trees in the bosque\, making room for new native growth.\nWe do not want to disturb wild turkeys in the area\, so we will not be back until the Fall. \n\n\n	\n		\n			\n				\n			\n		\n		\n			\n				\n			\n		\n		\n			\n				\n			\n		\n		\n			\n				\n			\n		\n		\n			\n				\n			\n		\n		\n			\n				\n			\n		\n\n	 \n	\n	Show More\n\n\n\nPHOTO ALBUM LINK \n\nWhat is an add-on? We organize several off-schedule short-notice word-of-mouth projects during the trail season. If you show up to a large number of projects\, mention to your project leader that you are interested.
URL:https://nmvfo.org/projects/coronado-bosque-add-on-2/
CATEGORIES:Project
ORGANIZER;CN="Sue Harrelson":MAILTO:s.harrelson@nmvfo.org
END:VEVENT
BEGIN:VEVENT
DTSTART;TZID=America/Denver:20260314T091500
DTEND;TZID=America/Denver:20260314T143000
DTSTAMP:20260423T113759
CREATED:20251212T164844Z
LAST-MODIFIED:20260318T004635Z
UID:7702-1773479700-1773498600@nmvfo.org
SUMMARY:Trail Workshop - Classroom (CABQ Open Space)
DESCRIPTION:RESULTS: Nineteen NMVFO volunteers joined four members of Albuquerque Open Space Division staff for a class at the Holiday Park Community Center\, featuring PowerPoint presentations on how to build and maintain trails. They then went for some practice supervised by Open Space personnel at the Tijeras Canyon Biozone. After hiking in for about a mile\, they broke into groups and improved some existing trails by excavating drain dips to control erosion\, building a rock wall to hold up a collapsing section of trail tread\, erecting some signage\, and closing off entry to an old deteriorating trail by transplanting cholla and prickly pear cactus and setting out other barriers.  \n\n\n	\n		\n			\n				\n			\n		\n		\n			\n				\n			\n		\n		\n			\n				\n			\n		\n		\n			\n				\n			\n		\n		\n			\n				\n			\n		\n		\n			\n				\n			\n		\n\n	 \n	\n	Show More\n\n\n\nPHOTO ALBUM LINK \n\n  \nDescription: Learn the fundamentals of building and maintaining trails with Larry\, and Jim Sattler\, the Deputy Superintendent of Albuquerque’s Open Space Division. This class is especially designed for beginners\, although anyone who would like a skills refresher will be welcome. To follow-up on this introduction\, a full-day field training project will be held one week later on Saturday\, March 21. \nIndoor Class. The workshop will begin with an indoor class at the Holiday Park Community Center\, 11710 Comanche Road NE (just south of Tramway Blvd). Larry will narrate NMVFO PowerPoint presentations that show the challenges and techniques of building and maintaining trails in terrain across New Mexico. Jim will present some background on the Tijeras Canyon Biozone Open Space and use a whiteboard to illustrate the specific trail problems to be dealt with during the outdoor session. You will also receive some handouts about doing trail work. \nOutdoor Practice. After the classroom session\, we will drive east to Tramway Blvd\, south to Central Ave.\, and left for about a mile on Old Route 66 (NM 333) to the Tijeras Biozone Open Space at 15600 Central Ave SE. We will meet in front of the old building located there. Jim will then demonstrate how to safely use the tools that we will carry farther into the Open Space to do some maintenance on an existing trail and (time permitting) build a short new section of trail. \nPreparations: Wear long pants\, long-sleeved shirts\, sturdy boots or work shoes\, eye protection (glasses or sun glasses)\, caps or hats\, and outer layers appropriate for the weather forecast. Bring work gloves if you have them (extras will be available to borrow) and a daypack with water\, snacks\, and sunscreen. An email update will be sent out during the week before the project. Please sign up no later than March 12. \nDifficulty:  \nSign up by clicking the button below. If this is your first NMVFO project\, you can find out more information at Volunteer FAQs. If you have any more questions\, or would like to be put on a waitlist if the project is full\, you can email the project leaders or call Larry at 505-821-7999. \nGroup Size: 20  \nCost: Free! \nPlease read our Volunteer Guidelines before signing up for this project.\nOn the signup form please leave the "Number of Volunteers" at 1. If you would like to sign up additional volunteers please submit multiple signups.
URL:https://nmvfo.org/projects/trail-workshop-classroom-cabq-open-space-4/
CATEGORIES:Class,Project
ATTACH;FMTTYPE=image/jpeg:https://nmvfo.org/wp-content/uploads/2025/12/trail_classroom.jpg
ORGANIZER;CN="Larry Benson":MAILTO:L.Benson@nmvfo.org
END:VEVENT
BEGIN:VEVENT
DTSTART;TZID=America/Denver:20260316T090000
DTEND;TZID=America/Denver:20260316T160000
DTSTAMP:20260423T113800
CREATED:20251211T221348Z
LAST-MODIFIED:20260318T140615Z
UID:7689-1773651600-1773676800@nmvfo.org
SUMMARY:Emory Pass Scenic Trail (Gila NF)
DESCRIPTION:RESULTS: Members of Gila BCH\, NMVFO\, and a new Kingston trail group brushed 1.3 miles of the Scenic Trail. \n\n\n	\n		\n			\n				\n			\n		\n		\n			\n				\n			\n		\n		\n			\n				\n			\n		\n		\n			\n				\n			\n		\n		\n			\n				\n			\n		\n		\n			\n				\n			\n		\n\n	 \n	\n	Show More\n\n\n\nPHOTO ALBUM LINK \n\n  \nDescription: We will meet at Emory Pass Overlook. Our group will work from there on Trail #796 down hill towards the other trailhead. There will be vehicles already parked at the bottom to run a shuttle back up to Emory Pass.\nThe work will consist of lopping\, with some sawing. Please note that this is a Monday project. \nWhat to bring: Come prepared with layers. Mornings will be cool\, while daytime may be warm. Emory Pass is always extra windy\, but once we are on the trail\, the wind should be less. Bring sturdy boots/shoes\, at least 3 quarts of water\, lunch and snacks (more than you think you will need)\,  long-sleeve shirt (for sun protection and protection from the brush)\, raincoat\,  daypack (preferably one that can carry a lopper and hand saw safely)\, extra layer\, long pants\, sunscreen and sunhat\, heavy-duty work gloves\, eye protection (can be sunglasses that cover eyes well) and hand sanitizer. All tools will be provided. \nWhy This Trail: It offers expansive views! \nCamping optional: Iron Creek Campground. You must bring all your camping gear\, food\, and water. \nDirections:  Emory Pass\, 9AM. Be there. \nDifficulty: Be able to hike 4.5 miles. The elevation is from 6300 to 8\,200 feet. \nFor more information: go to the Gila Trails Info website. \nPlease read our Volunteer Guidelines before signing up for this project.\nOn the signup form please leave the "Number of Volunteers" at 1. If you would like to sign up additional volunteers please submit multiple signups.
URL:https://nmvfo.org/projects/emory-pass-scenic-trail-gila-nf-2/
CATEGORIES:Project
ATTACH;FMTTYPE=image/jpeg:https://nmvfo.org/wp-content/uploads/2025/12/emory_scenic_trail.jpg
ORGANIZER;CN="Melissa Green":MAILTO:m.green@nmvfo.org
END:VEVENT
BEGIN:VEVENT
DTSTART;TZID=America/Denver:20260320T080000
DTEND;TZID=America/Denver:20260322T160000
DTSTAMP:20260423T113801
CREATED:20260128T201344Z
LAST-MODIFIED:20260129T193450Z
UID:7812-1773993600-1774195200@nmvfo.org
SUMMARY:Los Luceros Historic Site - Invasive Tree Removal
DESCRIPTION:Description: Join NMVFO as we remove invasive trees (Russian olive and tamarisk) from the bosque at the Los Luceros Historic Site just north of Espanola. We will be using loppers and hand saws to cut the trees at ground level and piling the cut trees next to a nearby gravel road. We will also use hatchets to macerate the remaining trunks to help prevent them from sprouting. All tools will be provided. \nYou can join us on either Friday or Saturday (March 20th or 21st) for a day of work starting at 8:00am or car camp with us starting either Thursday or Friday evening (March 19th or 20th). \nNMVFO cooks will provide breakfasts on Friday\, Saturday and Sunday mornings and dinners on Friday and Saturday evenings. Folks can eat in the dining hall adjacent to the kitchen. Please let the Project Leader (Mike Timmer at m.timmer@nmvfo.org) know when you plan to arrive and depart so he will know how many tools to bring and the cooks will know how much food to prepare. \nThe site will provide a level spot for tent campers and a gravel parking lot for RV campers. Both sites are near the dining hall\, restrooms\, and showers. \nSite staff anticipate that many of the 1\,000 apple trees at the Site will be in bloom for us to enjoy. \nWe suggest that you wear boots\, long pants\, long sleeves\, work gloves\, hats\, and eye protection (sunglasses okay) while working. Please bring a day pack to carry your lunch\, snacks\, sunblock\, and rain gear (if rain is expected)\, and water. \nReminder: Pets are not allowed on NMVFO projects. \nPlease sign up below. The closing date for signups is March 16th\, 2026 \nDifficulty:  \nGroup size: Up to 25. If the project becomes full\, please add your name to the waitlist\, and we will contact you if a spot opens up. \nMeet at: Visitor Information Center\, Los Luceros Historic Site\, 253 County Road 41\, Alcalde\, NM 87511 \nHow to find us: Look for the sign to the Los Luceros Historic Site on State Highway 68 about 15 miles north of Espanola. Green NMVFO signs will point you to the Visitor Center at approximate coordinates 36.1174\, -106.0396 \nFor more information: If this is your first NMVFO project\, you can find more information about difficulty ratings and what to expect at Volunteer FAQs or email the project leader. \nPlease read our Volunteer Guidelines before signing up for this project.\nOn the signup form please leave the "Number of Volunteers" at 1. If you would like to sign up additional volunteers please submit multiple signups.\n\n	\n	\n	\n\n 
URL:https://nmvfo.org/projects/los-luceros-historic-site-invasive-tree-removal-2/
CATEGORIES:Project
ATTACH;FMTTYPE=image/jpeg:https://nmvfo.org/wp-content/uploads/2026/01/luceros1.jpg
ORGANIZER;CN="Mike Timmer":MAILTO:m.timmer@nmvfo.org
END:VEVENT
BEGIN:VEVENT
DTSTART;TZID=America/Denver:20260321T083000
DTEND;TZID=America/Denver:20260321T143000
DTSTAMP:20260423T113801
CREATED:20251212T165801Z
LAST-MODIFIED:20260329T195828Z
UID:7706-1774081800-1774103400@nmvfo.org
SUMMARY:Trail Workshop - Field (CABQ Open Space)
DESCRIPTION:RESULTS: Training project conducted on Albuquerque Open Space land in the Tijeras Canyon Biozone just east of the city. Experienced Open Space personnel and the NMVFO project leaders mentored volunteers to build a new trail section and close an old one.  \n\n\n	\n		\n			\n				\n			\n		\n		\n			\n				\n			\n		\n		\n			\n				\n			\n		\n		\n			\n				\n			\n		\n		\n			\n				\n			\n		\n		\n			\n				\n			\n		\n\n	 \n	\n	Show More\n\n\n\nPHOTO ALBUM LINK \n\n  \nThis session will build upon skills introduced to new volunteers at an indoor class on March 14\, but anyone is welcome to sign up for either or both sessions. For those who miss last week’s class\, we recommend you review its two PowerPoint presentations at the top of the following webpage: https://nmvfo.org/volunteer/resources/. \nDescription: This training project will be conducted on Albuquerque Open Space land in the Tijeras Canyon Biozone just east of the city. Experienced Open Space personnel and the NMVFO project leaders will help mentor volunteers as we build a new trail section and close an old one. The trail’s new route will be marked with pin flags that carefully follow the terrain to permit proper drainage. Any large trees in the way will have already been felled with a chainsaw\, but we will use hand tools to remove stumps\, smaller trees\, brush\, and intruding branches. We will also reshape and smooth the tread\, digging out rocks and roots\, and build rock walls as needed to buttress the trail along steep slopes or at drainage crossings. For closing the old trail segment\, we will scarify the tread and scatter foliage to limit erosion and block its entrances with rocks\, branches\, and replanted cactuses where available. \nPreparations: Wear long pants\, long-sleeved shirts\, sturdy boots or work shoes\, eye protection (such as sun glasses)\, caps or hats\, and outer layers appropriate for the weather forecast. Bring work gloves if you have them (but extras will be available to borrow) and a daypack with water\, a light lunch and/or snacks\, and sunscreen. An email update will be sent out during the week before the project. Please sign up no later than March 19. \nDirections: The Tijeras Biozone facilities are located at 15600 Central Ave SE as shown on this map. If coming from Albuquerque on I-40\, turn south on Tramway Blvd (Exit 167)\, then turn left on Central Ave. and continue east on Old Route 66 (NM 333) for 1.2 miles to the parking lot. \nDifficulty: \nSign up by clicking the button below. If this is your first NMVFO project\, you can find out more information at Volunteer FAQs. If you have any more questions\, or would like to be put on a waitlist if the project is full\, please email Larry and Christy or call Larry at 505-821-7999. \nGroup Size: 20-ish. \nCost: Free!Please read our Volunteer Guidelines before signing up for this project.\nOn the signup form please leave the "Number of Volunteers" at 1. If you would like to sign up additional volunteers please submit multiple signups.\n\n	\n	\n	\n \n 
URL:https://nmvfo.org/projects/trail-workshop-field-cabq-open-space-4/
CATEGORIES:Class,Project
ATTACH;FMTTYPE=image/jpeg:https://nmvfo.org/wp-content/uploads/2025/01/FieldTrng-Mar2024.jpg
ORGANIZER;CN="Larry Benson":MAILTO:L.Benson@nmvfo.org
END:VEVENT
BEGIN:VEVENT
DTSTART;TZID=America/Denver:20260328T090000
DTEND;TZID=America/Denver:20260328T160000
DTSTAMP:20260423T113801
CREATED:20251217T122947Z
LAST-MODIFIED:20260329T152256Z
UID:7710-1774688400-1774713600@nmvfo.org
SUMMARY:Bosque del Apache NWR
DESCRIPTION:RESULTS: Fifteen NMVFO volunteers and two Bosque del Apache staff removed tangles of dead willows along a trail near the Observation Blind and Pollinator Enhancement Project\, and installed two benches and cleared weeds. \n\n\n	\n		\n			\n				\n			\n		\n		\n			\n				\n			\n		\n		\n			\n				\n			\n		\n		\n			\n				\n			\n		\n		\n			\n				\n			\n		\n		\n			\n				\n			\n		\n\n	 \n	\n	Show More\n\n\n\nPHOTO ALBUM LINK \n\n  \nDescription: Volunteers will assist refuge and Friends staff in reducing fire hazards along a newly installed 0.4-mile addition at the Observation Blind Trail. Removal of dead and downed cottonwoods and willows will encourage existing native plants to grow and help to improve wildlife observation opportunities.\nMost of the work will involve bucking and moving plant debris into piles or trailers to be moved offsite. Some shovel work may be needed to remove roots of invasive trees. \nWe will meet in the Bosque del Apache Visitor Center parking lot at 9:00 AM to sign in.  We will then proceed by car caravan to the work site to review the planned work and conduct a safety briefing. \nVolunteers must wear sturdy boots (preferred) or shoes (no sandals)\, long pants\, eye protection\, and work gloves. Long sleeve shirts are recommended. Bring a hat\, sun protection\, and other apparel appropriate for the predicted weather. Also bring a day pack with water\, snacks\, lunch\, and other necessities. NMVFO will provide tools. We plan to finish work by 4:00 pm. \nAfter completion of the project\, volunteers are invited to share a late-afternoon meal at the Owl Cafe in San Antonio\, NM. \nDirections: Bosque del Apache is located approximately 7.7 miles south of San Antonio NM. Coming from the North\, take Interstate 25 South to the San Antonio (Exit 139). Go East on US-380 E for 0.2 miles\, then South on Main St\, NM-1 S/Old US Hwy 85\, for 7.7 miles. At the entrance\, proceed to Visitor Center parking. Please plan to be there a little before 9:00 AM. \nDifficulty:  \nTo sign up: Click on the button below and fill out the contact information. If the project is full\, you can email the project leader to be put on a wait list. \nPlease read our Volunteer Guidelines before signing up for this project.\nOn the signup form please leave the "Number of Volunteers" at 1. If you would like to sign up additional volunteers please submit multiple signups.
URL:https://nmvfo.org/projects/bosque-del-apache-nwr/
CATEGORIES:Project
ATTACH;FMTTYPE=image/jpeg:https://nmvfo.org/wp-content/uploads/2025/12/bosque_del_apache.jpg
ORGANIZER;CN="Jim (Sagebrush) Sells":MAILTO:j.sells@nmvfo.org
END:VEVENT
END:VCALENDAR