BEGIN:VCALENDAR
VERSION:2.0
PRODID:-//New Mexico Volunteers For The Outdoors - ECPv6.15.15//NONSGML v1.0//EN
CALSCALE:GREGORIAN
METHOD:PUBLISH
X-WR-CALNAME:New Mexico Volunteers For The Outdoors
X-ORIGINAL-URL:https://nmvfo.org
X-WR-CALDESC:Events for New Mexico Volunteers For The Outdoors
REFRESH-INTERVAL;VALUE=DURATION:PT1H
X-Robots-Tag:noindex
X-PUBLISHED-TTL:PT1H
BEGIN:VTIMEZONE
TZID:America/Denver
BEGIN:DAYLIGHT
TZOFFSETFROM:-0700
TZOFFSETTO:-0600
TZNAME:MDT
DTSTART:20240310T090000
END:DAYLIGHT
BEGIN:STANDARD
TZOFFSETFROM:-0600
TZOFFSETTO:-0700
TZNAME:MST
DTSTART:20241103T080000
END:STANDARD
BEGIN:DAYLIGHT
TZOFFSETFROM:-0700
TZOFFSETTO:-0600
TZNAME:MDT
DTSTART:20250309T090000
END:DAYLIGHT
BEGIN:STANDARD
TZOFFSETFROM:-0600
TZOFFSETTO:-0700
TZNAME:MST
DTSTART:20251102T080000
END:STANDARD
BEGIN:DAYLIGHT
TZOFFSETFROM:-0700
TZOFFSETTO:-0600
TZNAME:MDT
DTSTART:20260308T090000
END:DAYLIGHT
BEGIN:STANDARD
TZOFFSETFROM:-0600
TZOFFSETTO:-0700
TZNAME:MST
DTSTART:20261101T080000
END:STANDARD
END:VTIMEZONE
BEGIN:VEVENT
DTSTART;TZID=America/Denver:20251101T083000
DTEND;TZID=America/Denver:20251101T150000
DTSTAMP:20260423T170135
CREATED:20250623T144512Z
LAST-MODIFIED:20251105T155440Z
UID:7440-1761985800-1762009200@nmvfo.org
SUMMARY:Randall Davey Audubon Center (Santa Fe)
DESCRIPTION:RESULTS: NMVFO volunteers returned to the Randall Davey Audubon Center to work on trails\, and later were treated to a guided tour of the historic buildings by staff. \n\n\n	\n		\n			\n				\n			\n		\n		\n			\n				\n			\n		\n		\n			\n				\n			\n		\n		\n			\n				\n			\n		\n		\n			\n				\n			\n		\n		\n			\n				\n			\n		\n\n	 \n	\n	Show More\n\n\n\nPHOTO ALBUM LINK \n\nDescription: Join us at the beautiful Randall Davey Audubon Center at the end of Upper Canyon Road in Santa Fe where we will continue to improve trails we worked on a couple of years ago. Our main mission is to relocate a badly eroded section of the main loop trail and close the old section. We will also improve a nearby connecting trail. If time permits\, we will work on other parts of the trails that suffer from constant erosion. \nWe’ll meet in the center’s parking lot (look for NMVFO project signs) at 8:30 in the morning for a safety briefing and walk a short distance to the work site. We’ll work until around 3 p.m. when we’ll break for light refreshments and a tour of the former home of artist Randall Davey for those interested. \nPlease bring your own snacks and lunch as well as water. Tools will be provided. Participants should wear sturdy boots or work shoes (no sandals)\, long pants\, hat\, eye protection\, gloves\, and bring gear for rain if forecasted.  Pets are not allowed on projects or at the Audubon center. \nDifficulty:  \nGroup Size: Up to 15 \nPlease read our Volunteer Guidelines before signing up for this project.\nOn the signup form please leave the "Number of Volunteers" at 1. If you would like to sign up additional volunteers please submit multiple signups.
URL:https://nmvfo.org/projects/randall-davey-audubon-center-santa-fe/
CATEGORIES:Project
ATTACH;FMTTYPE=image/jpeg:https://nmvfo.org/wp-content/uploads/2025/06/DaveyHouseFront_Credit_Judy_Kohn.jpg
ORGANIZER;CN="Russ Garland":MAILTO:r.garland@nmvfo.org
END:VEVENT
BEGIN:VEVENT
DTSTART;TZID=America/Denver:20251104T080000
DTEND;TZID=America/Denver:20251104T170000
DTSTAMP:20260423T170136
CREATED:20251105T155906Z
LAST-MODIFIED:20251105T160541Z
UID:7634-1762243200-1762275600@nmvfo.org
SUMMARY:Red Canyon Tree Planting ADD-ON (Mountainair RD)
DESCRIPTION:RESULTS: Members of NMVFO\, TreeNM\, and the Cibola National Forest planted 500 seedlings near Red Canyon in the Manzanos.  \n\n\n	\n		\n			\n				\n			\n		\n		\n			\n				\n			\n		\n		\n			\n				\n			\n		\n		\n			\n				\n			\n		\n		\n			\n				\n			\n		\n		\n			\n				\n			\n		\n\n	 \n	\n	Show More\n\n\n\nPHOTO ALBUM LINK \n\nWhat is an add-on? We organize several off-schedule short-notice word-of-mouth projects during the trail season. If you show up to a large number of projects\, mention to your project leader that you are interested.
URL:https://nmvfo.org/projects/red-canyon-tree-planting-add-on-mountainair-rd/
CATEGORIES:Project
ATTACH;FMTTYPE=image/jpeg:https://nmvfo.org/wp-content/uploads/2025/11/red_canyon_trees_2025.jpg
ORGANIZER;CN="Don Lemke":MAILTO:d.lemke@nmvfo.org
END:VEVENT
BEGIN:VEVENT
DTSTART;TZID=America/Denver:20251108T100000
DTEND;TZID=America/Denver:20251108T140000
DTSTAMP:20260423T170136
CREATED:20250626T153624Z
LAST-MODIFIED:20251119T234854Z
UID:7466-1762596000-1762610400@nmvfo.org
SUMMARY:Latino Outdoors Fair
DESCRIPTION:Results: Six NMVFO volunteers supported the Latino Outdoors’ “Bow in the Burque” outdoor festival on November 8\, 2025 by providing both adults and children the experience of cutting a log using a 2-person crosscut saw – an experience that may be a once-in-a-lifetime event. Attendees also learned about NMVFO and our projects. \n  \n\n\n	\n		\n			\n				\n			\n		\n		\n			\n				\n			\n		\n		\n			\n				\n			\n		\n\n	 \n	\n\n\nPHOTO ALBUM LINK
URL:https://nmvfo.org/projects/latino-conservation-week-fiesta-in-the-park-2/
CATEGORIES:Project,Tabling
ATTACH;FMTTYPE=image/jpeg:https://nmvfo.org/wp-content/uploads/2025/06/fiiesta_in_the_park_2024.jpg
ORGANIZER;CN="Mike Timmer":MAILTO:m.timmer@nmvfo.org
END:VEVENT
BEGIN:VEVENT
DTSTART;TZID=America/Denver:20251112T080000
DTEND;TZID=America/Denver:20251112T170000
DTSTAMP:20260423T170137
CREATED:20251119T235419Z
LAST-MODIFIED:20251119T235419Z
UID:7644-1762934400-1762966800@nmvfo.org
SUMMARY:Juan Tomas Open Space Signs ADD-ON
DESCRIPTION:RESULTS: Volunteers put up 10 signs in Juan Tomas Open Space on trails that NMVFO has worked on over the last 6 years.  \n\n\n	\n		\n			\n				\n			\n		\n		\n			\n				\n			\n		\n		\n			\n				\n			\n		\n		\n			\n				\n			\n		\n		\n			\n				\n			\n		\n		\n			\n				\n			\n		\n\n	 \n	\n	Show More\n\n\n\nPHOTO ALBUM LINK \n\nWhat is an add-on? We organize several off-schedule short-notice word-of-mouth projects during the trail season. If you show up to a large number of projects\, mention to your project leader that you are interested.
URL:https://nmvfo.org/projects/juan-tomas-open-space-signs-add-on/
CATEGORIES:Project
ATTACH;FMTTYPE=image/jpeg:https://nmvfo.org/wp-content/uploads/2025/11/juan_tomas_signs_2025.jpg
ORGANIZER;CN="Don Lemke":MAILTO:d.lemke@nmvfo.org
END:VEVENT
BEGIN:VEVENT
DTSTART;TZID=America/Denver:20251115T080000
DTEND;TZID=America/Denver:20251115T160000
DTSTAMP:20260423T170137
CREATED:20251001T112323Z
LAST-MODIFIED:20251002T190007Z
UID:7603-1763193600-1763222400@nmvfo.org
SUMMARY:Coronado Historic Site 2 - Invasive Tree Removal
DESCRIPTION:Description: Join NMVFO on a one-day project as we remove more invasive trees (juniper\, tamarisk\, Russian olive) in the bosque at the Coronado Historic Site in Bernalillo. NMVFO removed approximately 400 invasive trees in March 2025\, but there are plenty more to remove. \nWe will use loppers and hand saws to cut the trees at ground level and pile the cut trees. We will also spray the remaining trunks with an approved herbicide to help prevent resprouting.\nPlease bring a daypack to carry your lunch\, snacks\, sunblock\, rain gear\, and water. We highly recommend wearing long sleeve shirts\, long pants\, sturdy boots\, and gloves. All tools will be provided. \nThe Project starts at 8:00 am on Saturday\, November 15th\, 2025\, and ends at 4:00 pm \nMeet at: Coronado Historic Site Visitor Center \nHow to find us: Look for the signs to the Coronado Historic Site on Highway 550 west of I25. \nAfter parking in the parking lot\, join us on the patio of the Visitor Center. \nReminder: Pets are not allowed on NMVFO projects. \nPlease sign up below by November 13th. One person per signup. \nDifficulty:  \nGroup Size: 20. If the project becomes full\, please email the project leader to add your name to the waitlist\, and we will contact you if a spot opens up. \nFor more information: If this is your first NMVFO project\, you can find more information about difficulty ratings and what to expect at Volunteer FAQs or email the project leader. \nPlease read our Volunteer Guidelines before signing up for this project.\nOn the signup form please leave the "Number of Volunteers" at 1. If you would like to sign up additional volunteers please submit multiple signups.
URL:https://nmvfo.org/projects/coronado-historic-site-2-invasive-tree-removal/
CATEGORIES:Project
ATTACH;FMTTYPE=image/jpeg:https://nmvfo.org/wp-content/uploads/2025/10/coronado_2025.jpg
ORGANIZER;CN="Mike Timmer":MAILTO:m.timmer@nmvfo.org
END:VEVENT
END:VCALENDAR