BEGIN:VCALENDAR
VERSION:2.0
PRODID:-//New Mexico Volunteers For The Outdoors - ECPv6.15.15//NONSGML v1.0//EN
CALSCALE:GREGORIAN
METHOD:PUBLISH
X-WR-CALNAME:New Mexico Volunteers For The Outdoors
X-ORIGINAL-URL:https://nmvfo.org
X-WR-CALDESC:Events for New Mexico Volunteers For The Outdoors
REFRESH-INTERVAL;VALUE=DURATION:PT1H
X-Robots-Tag:noindex
X-PUBLISHED-TTL:PT1H
BEGIN:VTIMEZONE
TZID:America/Denver
BEGIN:DAYLIGHT
TZOFFSETFROM:-0700
TZOFFSETTO:-0600
TZNAME:MDT
DTSTART:20240310T090000
END:DAYLIGHT
BEGIN:STANDARD
TZOFFSETFROM:-0600
TZOFFSETTO:-0700
TZNAME:MST
DTSTART:20241103T080000
END:STANDARD
BEGIN:DAYLIGHT
TZOFFSETFROM:-0700
TZOFFSETTO:-0600
TZNAME:MDT
DTSTART:20250309T090000
END:DAYLIGHT
BEGIN:STANDARD
TZOFFSETFROM:-0600
TZOFFSETTO:-0700
TZNAME:MST
DTSTART:20251102T080000
END:STANDARD
BEGIN:DAYLIGHT
TZOFFSETFROM:-0700
TZOFFSETTO:-0600
TZNAME:MDT
DTSTART:20260308T090000
END:DAYLIGHT
BEGIN:STANDARD
TZOFFSETFROM:-0600
TZOFFSETTO:-0700
TZNAME:MST
DTSTART:20261101T080000
END:STANDARD
END:VTIMEZONE
BEGIN:VEVENT
DTSTART;TZID=America/Denver:20251011T083000
DTEND;TZID=America/Denver:20251011T150000
DTSTAMP:20260423T181535
CREATED:20250818T134652Z
LAST-MODIFIED:20251026T161926Z
UID:7564-1760171400-1760194800@nmvfo.org
SUMMARY:Los Luceros Historic Site - Saturday Invasive Tree Removal
DESCRIPTION:RESULTS: Eight NMVFO volunteers removed over 1200 invasive Russian olive tree stems from 0.52 miles of the Bosque Loop trail at the Los Luceros Historic Site in Alcalde. They used loppers and hand saws to cut the trees at ground level and piled the cut trees. They also macerated the trunks of the trees with hatchets to prevent sprouting. The volunteers enjoyed the beautiful fall colors of the cottonwood and New Mexico olive trees and the fresh from the tree apples from the Site’s 1\,000-treee apple orchard.  \n\n\n	\n		\n			\n				\n			\n		\n		\n			\n				\n			\n		\n		\n			\n				\n			\n		\n		\n			\n				\n			\n		\n		\n			\n				\n			\n		\n		\n			\n				\n			\n		\n\n	 \n	\n	Show More\n\n\n\nPHOTO ALBUM LINK \n\n  \nDescription: Join NMVFO on Saturday\, October 11th starting at 8:30 am as we remove invasive trees (Russian olive and tamarisk) from the bosque at the Los Luceros Historic Site just north of Espanola. These invasive trees are crowding out native plants and using water needed by the cottonwood trees.\nWe will be using loppers and hand saws to cut the trees at ground level and piling the cut trees next to a nearby gravel road. We will then load the cut trees into trailers to be hauled off. All tools will be provided.\nWe suggest that you wear boots\, long pants\, long sleeves\, work gloves\, hats\, and eye protection (sunglasses okay) while working. Please bring a day pack to carry your lunch\, snacks\, sunblock\, and rain gear (if rain is expected)\, and water. \nReminder: Pets are not allowed on NMVFO projects. \nPlease sign up below. The closing date for signups is October 7th\, 2025. \nDifficulty:  \nGroup size: Up to 25. If the project becomes full\, please add your name to the waitlist\, and we will contact you if a spot opens up. \nMeet at: Visitor Information Center\, Los Luceros Historic Site \nHow to find us: Look for the sign to the Los Luceros Historic Site on State Highway 68 about 15 miles north of Espanola. Green NMVFO signs will point you to the Visitor Center at approximate coordinates 36.1174\, -106.0396 \nFor more information: If this is your first NMVFO project\, you can find more information about difficulty ratings and what to expect at Volunteer FAQs or email the project leader. \nPlease read our Volunteer Guidelines before signing up for this project.\nOn the signup form please leave the "Number of Volunteers" at 1. If you would like to sign up additional volunteers please submit multiple signups.
URL:https://nmvfo.org/projects/los-luceros-historic-site-saturday-invasive-tree-removal/
CATEGORIES:Project
ATTACH;FMTTYPE=image/jpeg:https://nmvfo.org/wp-content/uploads/2025/08/luceros.jpg
ORGANIZER;CN="Mike Timmer":MAILTO:m.timmer@nmvfo.org
END:VEVENT
BEGIN:VEVENT
DTSTART;TZID=America/Denver:20251016T080000
DTEND;TZID=America/Denver:20251016T170000
DTSTAMP:20260423T181536
CREATED:20251019T115424Z
LAST-MODIFIED:20251019T115530Z
UID:7620-1760601600-1760634000@nmvfo.org
SUMMARY:New Canyon Tree Removal ADD-ON (Mountainair RD)
DESCRIPTION:RESULTS: Six volunteers cleared all of the downfall along four miles of trail from the New Canyon trailhead to the intersection of Manzano Crest Trail with Spruce Canyon Trail.  \n\n\n	\n		\n			\n				\n			\n		\n		\n			\n				\n			\n		\n		\n			\n				\n			\n		\n		\n			\n				\n			\n		\n		\n			\n				\n			\n		\n		\n			\n				\n			\n		\n\n	 \n	\n	Show More\n\n\n\nPHOTO ALBUM LINK \n\nWhat is an add-on? We organize several off-schedule short-notice word-of-mouth projects during the trail season. If you show up to a large number of projects\, mention to your project leader that you are interested.
URL:https://nmvfo.org/projects/new-canyon-tree-removal-add-on-mountainair-rd/
CATEGORIES:Project
ATTACH;FMTTYPE=image/jpeg:https://nmvfo.org/wp-content/uploads/2025/10/new_canyon_trees.jpg
ORGANIZER;CN="Don Lemke":MAILTO:d.lemke@nmvfo.org
END:VEVENT
BEGIN:VEVENT
DTSTART;TZID=America/Denver:20251016T170000
DTEND;TZID=America/Denver:20251019T133000
DTSTAMP:20260423T181536
CREATED:20250616T151121Z
LAST-MODIFIED:20251105T154801Z
UID:7421-1760634000-1760880600@nmvfo.org
SUMMARY:Ghost Ranch 2 (Carson NF)
DESCRIPTION:RESULTS: NMVFO volunteers returned Ghost Ranch to work on the Chimney Rock Trail \n\n\n	\n		\n			\n				\n			\n		\n		\n			\n				\n			\n		\n		\n			\n				\n			\n		\n		\n			\n				\n			\n		\n\n	 \n	\n\n\nPHOTO ALBUM LINK \n\nDescription: Join us as we return for a second dorm-camping event at Ghost Ranch in the same year! Yes\, a Dorm event\, in case you missed the first one! Ghost Ranch is allowing us to stay in the dorm-style accommodations with multiple beds in each room\, separate rooms for women and men. If you prefer camping\, you are welcome to camp for free. Meals will be provided at the dining hall. Members will need to bring their own lunch! \nYou can join us on Thursday night Ghost Ranch. We will work on Trail Friday\, Saturday and a half day on Sunday. \nWork will take place on Friday and Saturday starting with a safety talk at 8:00 am and finishing around 5:00 pm. We will work Sunday\, starting around 8:30 and work until the afternoon. \nTrail priorities will include a mixture of closing old sections of the Chimney Rock trail\, building a new section of the Kitchen Mesa trail\, and even some drainage work on the Kitchen Mesa trail if time. If you love to work and enjoy hands-on trail construction\, this is the perfect project for you! \nRequired gear: sturdy boots\, work gloves\, long sleeves\, long pants\, eye protection (sunglasses okay). Please also bring a day pack\, snacks\, trail lunches\, sunblock\, rain gear\, and water bottles. \nDifficulty:  \nGroup Size: up to 15. Please sign up by October 11. \nPlease read our Volunteer Guidelines before signing up for this project.\nOn the signup form please leave the "Number of Volunteers" at 1. If you would like to sign up additional volunteers please submit multiple signups.
URL:https://nmvfo.org/projects/ghost-ranch-2-carson-nf/
CATEGORIES:Project
ATTACH;FMTTYPE=image/jpeg:https://nmvfo.org/wp-content/uploads/2025/06/ghost_ranch_2025.jpg
ORGANIZER;CN="Catlin Herrera":MAILTO:c.herrera@nmvfo.org
END:VEVENT
BEGIN:VEVENT
DTSTART;TZID=America/Denver:20251025T090000
DTEND;TZID=America/Denver:20251025T150000
DTSTAMP:20260423T181536
CREATED:20250811T110059Z
LAST-MODIFIED:20251026T161402Z
UID:7525-1761382800-1761404400@nmvfo.org
SUMMARY:Galisteo Basin Fence Removal
DESCRIPTION:RESULTS: NMVFO volunteers returned to the Galisteo Basin to remove barbed wire fencing from the Dovetail Preserve near Lamy\, NM. Fence segments totaling two thirds of a mile were taken down\, coiled\, and stacked. This was NMVFO’s 4th year of fence removal from Dovetail and the adjacent Galisteo Basin Preserve\, resulting in all interior fencing from the old Thornton Ranch now being taken down for the benefit of wildlife and recreational users.  \n\n\n	\n		\n			\n				\n			\n		\n		\n			\n				\n			\n		\n		\n			\n				\n			\n		\n		\n			\n				\n			\n		\n		\n			\n				\n			\n		\n		\n			\n				\n			\n		\n\n	 \n	\n	Show More\n\n\n\nPHOTO ALBUM LINK \n\n  \nDescription: After 4 years of removing fencing in the Galisteo Basin Preserves\, join NMVFO for what may be our final fence-removal project with our partner\, the Santa Fe Conservation Trust.  Cattle fencing of this type presents a barrier and hazard for wildlife and people.  We will meet at the Cottonwood Trailhead at 9:00 AM\, then carpool to the worksites.  Fence removal will continue to 3PM\, or until these sections of fence are removed. \nWork: Our focus is on two stretches of 4-strand barbed wire fencing.  Our work will include cutting and coiling the barbed wire\, as well as pulling and stacking all metal “T-Post” fenceposts.  A hike of less than a mile is required to reach one of the fences. \nFood/Water: Volunteers should bring their own snacks  and water.  After completion of the project\, all volunteers are invited to share a late-afternoon meal at the historic Legal Tender restaurant in Lamy\, NM. \nTools/Equipment/Clothing:  NMVFO will supply wire-cutters\, loppers for brush-clearing\, and post-pullers.  If any volunteers have their own fencing pliers (linesmen pliers also work well)\, please bring them with you.  Volunteers should wear long sleeved shirts and long pants\, eye protection/sunglasses\, sturdy leather gloves and boots\, and a day pack don’t forget your rain gear. \nDifficulty:  due to barbed wire hazard \nGroup Size: 20. If the project is full\, please email the project leader to be put on a waitlist. \nPlease read our Volunteer Guidelines before signing up for this project.\nOn the signup form please leave the "Number of Volunteers" at 1. If you would like to sign up additional volunteers please submit multiple signups.
URL:https://nmvfo.org/projects/galisteo-basin-fence-removal/
CATEGORIES:Project
ATTACH;FMTTYPE=image/jpeg:https://nmvfo.org/wp-content/uploads/2025/08/galisteo_fence.jpeg
ORGANIZER;CN="Bruce Wollens":MAILTO:b.wollens@nmvfo.org
END:VEVENT
END:VCALENDAR