BEGIN:VCALENDAR
VERSION:2.0
PRODID:-//New Mexico Volunteers For The Outdoors - ECPv6.15.15//NONSGML v1.0//EN
CALSCALE:GREGORIAN
METHOD:PUBLISH
X-WR-CALNAME:New Mexico Volunteers For The Outdoors
X-ORIGINAL-URL:https://nmvfo.org
X-WR-CALDESC:Events for New Mexico Volunteers For The Outdoors
REFRESH-INTERVAL;VALUE=DURATION:PT1H
X-Robots-Tag:noindex
X-PUBLISHED-TTL:PT1H
BEGIN:VTIMEZONE
TZID:America/Denver
BEGIN:DAYLIGHT
TZOFFSETFROM:-0700
TZOFFSETTO:-0600
TZNAME:MDT
DTSTART:20240310T090000
END:DAYLIGHT
BEGIN:STANDARD
TZOFFSETFROM:-0600
TZOFFSETTO:-0700
TZNAME:MST
DTSTART:20241103T080000
END:STANDARD
BEGIN:DAYLIGHT
TZOFFSETFROM:-0700
TZOFFSETTO:-0600
TZNAME:MDT
DTSTART:20250309T090000
END:DAYLIGHT
BEGIN:STANDARD
TZOFFSETFROM:-0600
TZOFFSETTO:-0700
TZNAME:MST
DTSTART:20251102T080000
END:STANDARD
BEGIN:DAYLIGHT
TZOFFSETFROM:-0700
TZOFFSETTO:-0600
TZNAME:MDT
DTSTART:20260308T090000
END:DAYLIGHT
BEGIN:STANDARD
TZOFFSETFROM:-0600
TZOFFSETTO:-0700
TZNAME:MST
DTSTART:20261101T080000
END:STANDARD
END:VTIMEZONE
BEGIN:VEVENT
DTSTART;TZID=America/Denver:20250607T083000
DTEND;TZID=America/Denver:20250607T160000
DTSTAMP:20260423T234732
CREATED:20250326T140304Z
LAST-MODIFIED:20250625T141622Z
UID:7233-1749285000-1749312000@nmvfo.org
SUMMARY:Quarai Spanish Corral Trail (Salinas Pueblo Missions NM)
DESCRIPTION:RESULTS: Sixteen NMVFO volunteers and Salinas Pueblo Missions National Monument staff celebrated National Trails Day at the Quarai site. We rehabilitated the Spanish Corral Trail. NMVFO crews originally built this one mile loop trail in 1996. This year\, we added wood chips to improve the tread. The trail is classified as “primitive\,” so we did not widen the corridor. The purpose of the chips is to absorb moisture from the local “gumbo” soil to prevent hikers from making multiple paths to avoid muddy sections. After we completed the project work\, Natalia Sanchez-Hernandez\, Chief of Interpretation\, gave us a tour of the site and explained Quarai’s rich Native American and Spanish history.  \n\n\n	\n		\n			\n				\n			\n		\n		\n			\n				\n			\n		\n		\n			\n				\n			\n		\n		\n			\n				\n			\n		\n		\n			\n				\n			\n		\n		\n			\n				\n			\n		\n\n	 \n	\n	Show More\n\n\n\nPHOTO ALBUM LINK \n\nDescription: Join NMVFO and the Salinas Pueblo Missions National Monument Staff on June 7th for National Trails Day 2025. The National Monument is a complex of three pueblo and Spanish mission sites located near Mountainair\, NM. The Quarai site is located about 8 miles north of Mountainair\, at about 6650 feet. Quarai encompasses the archaeological remains of prehistoric Native American settlements\, historic remains of a pueblo that was abandoned in the 1670s\, the ruins of a 17th-century Spanish mission compound\, and 19th-century Spanish ranching artifacts. For this project\, we will improve the one mile Spanish Corral Loop Trail by adding wood chips to the tread\, trim back brush\, and improve drainage. We will meet in the Quarai Visitor Center parking lot at 8:30 AM to sign in\, review the planned work\, and conduct a safety briefing. \nVolunteers must wear sturdy boots (preferred) or shoes (no sandals)\, long pants\, eye protection\, and work gloves. Long sleeve shirts are required for brushing. Bring a hat\, sun protection\, and other apparel appropriate for the predicted weather. Also bring a day pack with water\, snacks\, lunch\, and other necessities. We plan to finish work by 4:00 pm. \nDirections: From Albuquerque\, drive east on I-40\, exit at Tijeras (Exit 175). Proceed south on Hwy 337 (old South 14) through Chilili. At the intersection with Hwy 55\, turn west and proceed on Hwy 55 through Tajique\, Torreon and Manzano. Approximately 5 miles south Manzano\, just as you enter the village of Punta de Agua\, turn west on County Rd B076 and proceed to Quarai Site Visitor Center parking. The estimated driving time from the Big I is approximately 1.5 hours\, so plan accordingly. Please be there a little before 8:30 AM. If coming from the South (Socorro\, etc.) contact the Project Leader for directions as needed.\nTo sign up: Click on the button below and fill out the contact information. If the project is full\, you can ask to be put on a wait list. \nDifficulty:  \nTo sign up: Click on the button below and fill out the contact information. If the project is full\, you can ask to be put on a wait list. \nPlease read our Volunteer Guidelines before signing up for this project.\nOn the signup form please leave the "Number of Volunteers" at 1. If you would like to sign up additional volunteers please submit multiple signups.\n\n	\n	\n	\n \n 
URL:https://nmvfo.org/projects/quarai-spanish-corral-trail-salinas-pueblo-missions-nm/
CATEGORIES:Project
ATTACH;FMTTYPE=image/jpeg:https://nmvfo.org/wp-content/uploads/2025/03/Quarai_View.jpg
ORGANIZER;CN="Ed DiBello":MAILTO:e.dibello@nmvfo.org
END:VEVENT
BEGIN:VEVENT
DTSTART;TZID=America/Denver:20250608T080000
DTEND;TZID=America/Denver:20250608T170000
DTSTAMP:20260423T234732
CREATED:20250625T143643Z
LAST-MODIFIED:20250625T145336Z
UID:7457-1749369600-1749402000@nmvfo.org
SUMMARY:Salas Trail ADD-ON (Mountainair RD)
DESCRIPTION:RESULTS: On a beautiful Sunday\, eight NMVFO volunteers cleared downed trees on the Manzano Crest Trail south of the intersection with Red Canyon Trail and re-planted the Salas Trail sign. The volunteers then removed all of the deadfall to the bottom of the first set of switchbacks along Salas Trail.  \n\n\n	\n		\n			\n				\n			\n		\n		\n			\n				\n			\n		\n		\n			\n				\n			\n		\n		\n			\n				\n			\n		\n		\n			\n				\n			\n		\n		\n			\n				\n			\n		\n\n	 \n	\n	Show More\n\n\n\nPHOTO ALBUM LINK \n\nWhat is an add-on? These are our small impromptu projects\, often mid-week\, not on our published schedule. If you have attended many projects\, you may be invited. Or reach out to the project leader if you are interested.
URL:https://nmvfo.org/projects/salas-trail-add-on-mountainair-rd/
CATEGORIES:Project
ATTACH;FMTTYPE=image/jpeg:https://nmvfo.org/wp-content/uploads/2025/06/salas_addon_2025.jpg
ORGANIZER;CN="Don Lemke":MAILTO:d.lemke@nmvfo.org
END:VEVENT
BEGIN:VEVENT
DTSTART;TZID=America/Denver:20250614T080000
DTEND;TZID=America/Denver:20250615T140000
DTSTAMP:20260423T234733
CREATED:20241217T212351Z
LAST-MODIFIED:20250625T141357Z
UID:6943-1749888000-1749996000@nmvfo.org
SUMMARY:Beatty’s Trail Full/WAITLIST (SFNF)
DESCRIPTION:RESULTS: On June 14-15\, Santa Fe National Forest\, Pecos/Las Vegas RD\, 17 NMVFO volunteers conducted maintenance on the initial 2.1 miles of the popular Beatty’s Trail out of the Jack’s Creek Trailhead. 12 logs were removed\, significant portions of the trail were bench-cut and outslope angle corrected\, two steel drainage culverts were cleared. Stone steps were set in two badly-eroded/incised climbing turns to help control erosion. New grade-reversals were set both immediately above and below three of the four climbing turns on Beatty’s to remove runoff and combat further incision. Numerous other grade-reversals and/or drains were constructed where appropriate. A total of approx. 40 of these were installed within the project area. Finally\, the trail within our project area was cleared of obstructing brush using the 6’ X 8’ USFS standard.  \n\n\n	\n		\n			\n				\n			\n		\n		\n			\n				\n			\n		\n		\n			\n				\n			\n		\n		\n			\n				\n			\n		\n		\n			\n				\n			\n		\n		\n			\n				\n			\n		\n\n	 \n	\n	Show More\n\n\n\nPHOTO ALBUM LINK \n\nIf this project is full\, please contact the project leaders to be placed on a waitlist. \nDescription: Join us for a car-camping weekend at Jack’s Creek Group Camp Sites A and B\, Pecos/Las Vegas Ranger District of the Santa Fe National Forest. At 9\,000 feet elevation\, Jack’s Creek is the northern-most and highest campground in the Pecos Canyon\, providing fine views to the South and West. The road to the camp is paved throughout. Volunteers wishing to arrive early may do so\, the camp will be open Friday evening\, June 13. The camp is provided with tables\, fire rings\, and a composting toilet. Nights will be chilly\, so bring warm clothes and some firewood if you have it. Remember that folding chair! \nWork: Our work will focus on clearing the trailhead of brush\, and improving the first two miles of Beatty’s Trail\, FT25. Bench-cutting will address a “trail-creep” problem on the trail\, we’ll improve the tread as well\, and install grade-reversals (also known as “rolling dips”) where needed. As such\, this project will involve some brushing with loppers\, but will mostly focus on modifying the trail tread with McLeods and pick-mattocks. \nFood: Our cook team will provide a light meal or snacks on Friday night\, breakfast on Saturday and Sunday mornings\, and supper on Saturday night. Volunteers should bring their own snacks and lunch materials\, as well as beverages of their choice and a cooler. \nWater: Due to maintenance issues\, this will be a dry camp. NMVFO will provide some water for camp\, but volunteers should be prepared with your own extra water for the weekend. \nTools/Equipment/Clothing: NMVFO will provide all tools needed and hard hats\, which are required on this project. Participants should wear sturdy boots (no sandals or light shoes)\, long pants\, long-sleeved shirts\, hat\, eye protection (sunglasses are fine)\, gloves\, daypack with plenty of room for water\, sunblock\, and bring gear for rain. \nDifficulty:  for treadwork and 1\,000 ft elevation gain on trail. \nGroup Size: Up to 15\, plus 2 cooks \nPlease remember that while we love our pets\, they are not allowed on NMVFO projects. \nIf the project is full\, please contact the project leaders to be put on a waitlist. \nPlease read our Volunteer Guidelines before signing up for this project.\nOn the signup form please leave the "Number of Volunteers" at 1. If you would like to sign up additional volunteers please submit multiple signups.
URL:https://nmvfo.org/projects/beattys-trail-sfnf/
CATEGORIES:Project
ATTACH;FMTTYPE=image/jpeg:https://nmvfo.org/wp-content/uploads/2024/12/George-Beatty.jpg
ORGANIZER;CN="Dan Potter":MAILTO:d.potter@nmvfo.org
END:VEVENT
BEGIN:VEVENT
DTSTART;TZID=America/Denver:20250621T090000
DTEND;TZID=America/Denver:20250622T140000
DTSTAMP:20260423T234733
CREATED:20250327T202122Z
LAST-MODIFIED:20250625T141031Z
UID:7263-1750496400-1750600800@nmvfo.org
SUMMARY:Adopt-a-Trail (Carson NF)
DESCRIPTION:RESULTS: Cleared 3.3 miles of Trail #25 of all blowdowns\, lopped and cleared blowdowns on Trail #24\, and built a wetland crossing structure to span a muddy area. \n\n\n	\n		\n			\n				\n			\n		\n		\n			\n				\n			\n		\n		\n			\n				\n			\n		\n		\n			\n				\n			\n		\n		\n			\n				\n			\n		\n		\n			\n				\n			\n		\n\n	 \n	\n	Show More\n\n\n\nPHOTO ALBUM LINK \n\nDescription: Come join us for our returning project on NMVFO’s adopted trail\, Middle Fork 24 on the Camino Real Ranger District. We will begin work at 9AM Saturday morning from our group campsite\, but you are welcome to join us anytime Friday after 2PM for camping and dinner at a local restaurant in Peñasco. Our adopted section takes us roughly two miles south along the Rio Santa Barbara from the campground. We’ll remove downed trees\, brush back encroaching vegetation and focus significantly on improving drainage and address erosion issues along the trail. Tools and hard hats will be provided. \nThis year there will be two groups of people working in Carson.  A  backpacking group and a  car camping group. Please see the details below: \nBackpacking Group \n\nFriday: Hike in and camp at the last meadow before No Fish Lake.\nSaturday: Clear blowdowns from the upper end of the West Fork Trail (last creek crossing up the switchbacks). In the evening\, hike back down to rejoin and have dinner with the car camping group.\nSunday: Work with the full group on the Middle Fork 24 Trail.\nMeals Provided: Saturday dinner & Sunday breakfast.\n\nCar Camping Group \n\nFriday: Meet for dinner at a local restaurant\, then camp at the campground.\nSaturday: Work on the Middle Fork 24 Trail\, clearing blowdowns\, brushing back vegetation\, and improving drainage.\nSunday: Continue working on the Middle Fork 24 Trail with the full group.\nMeals Provided: Saturday & Sunday breakfast\, Saturday dinner.\n\nBoth Groups \n\nSaturday Night: Join together for dinner and camp at the trailhead.\nSunday: Work on the Middle Fork 24 Trail before wrapping up.\n\nRequired gear: sturdy boots\, work gloves\, long sleeves\, long pants\, eye protection (sunglasses okay). Please also bring a day pack\, snacks\, trail lunch\, sunblock\, rain gear\, and plenty of water for each work day.  We’ll plan for a long day on Saturday\, ending at around 4:00. On Sunday we’ll plan to be heading out by 2PM. \nFor camping\, feel free to bring a cooler for beverages (adult or other). A camp chair is also a good idea. Nights could be chilly and rain is possible\, so come prepared! \nThe Santa Barbara Campground has pit toilets. It’s a nice campground\, and our adopted section of trail is very pleasant\, in sight of the Rio Santa Barbara for most of its length. Hope to see you there! \nDifficulty:  \nGroup Size: up to 15. Please sign up by June 15. \nPlease read our Volunteer Guidelines before signing up for this project.\nOn the signup form please leave the "Number of Volunteers" at 1. If you would like to sign up additional volunteers please submit multiple signups.
URL:https://nmvfo.org/projects/adopt-a-trail-carson-nf-2/
CATEGORIES:Project
ATTACH;FMTTYPE=image/jpeg:https://nmvfo.org/wp-content/uploads/2025/03/adoptatrail_2024.jpg
ORGANIZER;CN="Catlin Herrera":MAILTO:c.herrera@nmvfo.org
END:VEVENT
BEGIN:VEVENT
DTSTART;TZID=America/Denver:20250628T083000
DTEND;TZID=America/Denver:20250628T160000
DTSTAMP:20260423T234733
CREATED:20250402T133601Z
LAST-MODIFIED:20250603T232151Z
UID:7292-1751099400-1751126400@nmvfo.org
SUMMARY:Salinas Pueblo Missions Wall Stabilization CANCELED (NPS)
DESCRIPTION:Description: Join NMVFO and the Salinas Pueblo Missions National Monument Staff on June 28\, 2025. The National Monument is a complex of three pueblo and Spanish mission sites located near Mountainair\, NM. The sites encompass the archaeological remains of prehistoric Native American settlements\, historic remains of a pueblos that were abandoned in the 1670s\, the ruins of 17th-century Spanish mission compounds\, and 19th-century Spanish ranching artifacts. For this project\, we will preserve and stabilize ruin walls at either Abo or Quarai. The final work location will be determined at a latter date. We will meet in the Visitor Center parking lot a little before 8:30 AM to sign in\, review the planned work\, and conduct a safety briefing. \nVolunteers must wear sturdy boots (preferred) or shoes (no sandals)\, long pants\, eye protection\, and work gloves. Long sleeve shirts are preferred. Bring a hat\, sun protection\, and other apparel appropriate for the predicted weather. Also bring a day pack with water\, snacks\, lunch\, and other necessities. We plan to finish work by 4:00 pm. \nDirections: Directions to the project site will be provided by the Project Leader at a latter date. Please be there a little before 8:30 AM. \nTo sign up: Click on the button below and fill out the contact information. If the project is full\, you can email the project leader to be put on a wait list. \nDifficulty: \n 
URL:https://nmvfo.org/projects/salinas-pueblo-missions-wall-stabilization-nps/
CATEGORIES:Canceled,Project
ATTACH;FMTTYPE=image/jpeg:https://nmvfo.org/wp-content/uploads/2025/04/quarai23.jpg
ORGANIZER;CN="Ed DiBello":MAILTO:e.dibello@nmvfo.org
END:VEVENT
BEGIN:VEVENT
DTSTART;TZID=America/Denver:20250628T083000
DTEND;TZID=America/Denver:20250628T170000
DTSTAMP:20260423T234734
CREATED:20250204T205007Z
LAST-MODIFIED:20250716T233310Z
UID:7046-1751099400-1751130000@nmvfo.org
SUMMARY:North Baldy Trail (Magdalena RD)
DESCRIPTION:RESULTS: 11 Volunteers worked on the North Baldy Trail and Hop Canyon Trail in the Magdalena Mountains. A total of three miles of trail was improved.  \n\n\n	\n		\n			\n				\n			\n		\n		\n			\n				\n			\n		\n		\n			\n				\n			\n		\n		\n			\n				\n			\n		\n		\n			\n				\n			\n		\n		\n			\n				\n			\n		\n\n	 \n	\n	Show More\n\n\n\nPHOTO ALBUM LINK \n\n  \nDescription: Join us for some needed maintenance on the North BaldyTrail #8 in the Magdalena Mountains West of Socorro. We will focus on clearing downed trees and cutting back overgrowth that is obscuring the tread. If you have a grudge against Gambel Oak\, this is the project for you. The work will require several miles of hiking at altitude. For this reason\, we will rate this project as difficult. \nWe will meet 8:30AM Saturday at the Hop Canyon Trailhead\, which is approximately a 100 minute drive from the south side of Albuquerque. \nWe have reserved the group site at the Water Canyon Campground on Friday\, for those of you who want to camp the night before\, but meals will NOT be provided\, so bring your own dinner and breakfast please. \nThere will be a limit of 20 people on this project. Participants should wear sturdy boots or work shoes\, long pants\, eye protection\, gloves\, and bring gear for rain. Please note that pets are not allowed on this project. \nDifficulty:  \nPlease read our Volunteer Guidelines before signing up for this project.\nOn the signup form please leave the "Number of Volunteers" at 1. If you would like to sign up additional volunteers please submit multiple signups.\n\n	\n	\n	\n\n 
URL:https://nmvfo.org/projects/north-baldy-trail-magdalena-rd/
CATEGORIES:Project
ATTACH;FMTTYPE=image/jpeg:https://nmvfo.org/wp-content/uploads/2021/03/northBaldyTrail.jpg
ORGANIZER;CN="Rob Selina":MAILTO:r.selina@nmvfo.org
END:VEVENT
END:VCALENDAR