BEGIN:VCALENDAR
VERSION:2.0
PRODID:-//New Mexico Volunteers For The Outdoors - ECPv6.15.15//NONSGML v1.0//EN
CALSCALE:GREGORIAN
METHOD:PUBLISH
X-WR-CALNAME:New Mexico Volunteers For The Outdoors
X-ORIGINAL-URL:https://nmvfo.org
X-WR-CALDESC:Events for New Mexico Volunteers For The Outdoors
REFRESH-INTERVAL;VALUE=DURATION:PT1H
X-Robots-Tag:noindex
X-PUBLISHED-TTL:PT1H
BEGIN:VTIMEZONE
TZID:America/Denver
BEGIN:DAYLIGHT
TZOFFSETFROM:-0700
TZOFFSETTO:-0600
TZNAME:MDT
DTSTART:20230312T090000
END:DAYLIGHT
BEGIN:STANDARD
TZOFFSETFROM:-0600
TZOFFSETTO:-0700
TZNAME:MST
DTSTART:20231105T080000
END:STANDARD
BEGIN:DAYLIGHT
TZOFFSETFROM:-0700
TZOFFSETTO:-0600
TZNAME:MDT
DTSTART:20240310T090000
END:DAYLIGHT
BEGIN:STANDARD
TZOFFSETFROM:-0600
TZOFFSETTO:-0700
TZNAME:MST
DTSTART:20241103T080000
END:STANDARD
BEGIN:DAYLIGHT
TZOFFSETFROM:-0700
TZOFFSETTO:-0600
TZNAME:MDT
DTSTART:20250309T090000
END:DAYLIGHT
BEGIN:STANDARD
TZOFFSETFROM:-0600
TZOFFSETTO:-0700
TZNAME:MST
DTSTART:20251102T080000
END:STANDARD
END:VTIMEZONE
BEGIN:VEVENT
DTSTART;TZID=America/Denver:20241203T080000
DTEND;TZID=America/Denver:20241203T160000
DTSTAMP:20260424T085954
CREATED:20241015T141314Z
LAST-MODIFIED:20241015T141425Z
UID:6886-1733212800-1733241600@nmvfo.org
SUMMARY:Petroglyph National Monument
DESCRIPTION:Description: Join NMVFO as we restore the native plants garden at the Visitor Information Center of the Petroglyph National Monument in western Albuquerque.  We will be pruning\, removing\, and transplanting existing plants and planting seeds and new plants.  We’ll also install some new signs and remove some old signs. All tools will be provided. \nWe suggest that you wear boots\, long pants\, long sleeves\, work gloves\, hats\, and eye protection (sunglasses okay) while working. Please bring your lunch\, snacks\, sunblock\, and rain gear (if rain is expected)\, and water. \nReminder: Pets are not allowed on NMVFO projects. \nPlease sign up below. The closing date for signups is December 1\, 2024. \nDifficulty:  \nGroup size: Up to 15 \nMeet at: Visitor Information Center\, Petroglyph National Monument\, 6510 Western Trail NW\, Albuquerque\, NM 87120 \nPlease read our Volunteer Guidelines before signing up for this project.\nOn the signup form please leave the "Number of Volunteers" at 1. If you would like to sign up additional volunteers please submit multiple signups.
URL:https://nmvfo.org/projects/petroglyph-national-monument/
CATEGORIES:Project
ATTACH;FMTTYPE=image/jpeg:https://nmvfo.org/wp-content/uploads/2024/10/Petroglyph-Photo.jpg
ORGANIZER;CN="Mike Timmer":MAILTO:m.timmer@nmvfo.org
END:VEVENT
END:VCALENDAR