BEGIN:VCALENDAR
VERSION:2.0
PRODID:-//New Mexico Volunteers For The Outdoors - ECPv6.15.15//NONSGML v1.0//EN
CALSCALE:GREGORIAN
METHOD:PUBLISH
X-WR-CALNAME:New Mexico Volunteers For The Outdoors
X-ORIGINAL-URL:https://nmvfo.org
X-WR-CALDESC:Events for New Mexico Volunteers For The Outdoors
REFRESH-INTERVAL;VALUE=DURATION:PT1H
X-Robots-Tag:noindex
X-PUBLISHED-TTL:PT1H
BEGIN:VTIMEZONE
TZID:America/Denver
BEGIN:DAYLIGHT
TZOFFSETFROM:-0700
TZOFFSETTO:-0600
TZNAME:MDT
DTSTART:20230312T090000
END:DAYLIGHT
BEGIN:STANDARD
TZOFFSETFROM:-0600
TZOFFSETTO:-0700
TZNAME:MST
DTSTART:20231105T080000
END:STANDARD
BEGIN:DAYLIGHT
TZOFFSETFROM:-0700
TZOFFSETTO:-0600
TZNAME:MDT
DTSTART:20240310T090000
END:DAYLIGHT
BEGIN:STANDARD
TZOFFSETFROM:-0600
TZOFFSETTO:-0700
TZNAME:MST
DTSTART:20241103T080000
END:STANDARD
BEGIN:DAYLIGHT
TZOFFSETFROM:-0700
TZOFFSETTO:-0600
TZNAME:MDT
DTSTART:20250309T090000
END:DAYLIGHT
BEGIN:STANDARD
TZOFFSETFROM:-0600
TZOFFSETTO:-0700
TZNAME:MST
DTSTART:20251102T080000
END:STANDARD
END:VTIMEZONE
BEGIN:VEVENT
DTSTART;TZID=America/Denver:20240806T080000
DTEND;TZID=America/Denver:20240806T170000
DTSTAMP:20260424T142452
CREATED:20240812T202832Z
LAST-MODIFIED:20240812T203344Z
UID:6817-1722931200-1722963600@nmvfo.org
SUMMARY:Manzano Crest South of Cepilla Small Group Project
DESCRIPTION:RESULTS: Seven NMVFO volunteers worked on a 2-mile section of the Manzano Crest Trail between Capilla Peak and Trail Canyon Trail. Three of us spent the day lopping a heavily overgrown trail section near Ojo del Indio\, while the remaining four volunteers removed 24 trees\, most of them downfall from the last winter.\n \n\n\n	\n		\n			\n				\n			\n		\n		\n			\n				\n			\n		\n		\n			\n				\n			\n		\n		\n			\n				\n			\n		\n		\n			\n				\n			\n		\n		\n			\n				\n			\n		\n\n	 \n	\n	Show More\n\n\n\nPHOTO ALBUM LINK \n\nWhat is a Small Group Project? We organize several off-schedule short-notice word-of-mouth projects during the trail season. If you show up to a large number of projects\, mention to your project leader that you are interested.
URL:https://nmvfo.org/projects/manzano-crest-south-of-cepilla-small-group-project/
CATEGORIES:Project
ATTACH;FMTTYPE=image/jpeg:https://nmvfo.org/wp-content/uploads/2024/08/manano_crest_cepilla_2024.jpg
ORGANIZER;CN="Don Lemke":MAILTO:d.lemke@nmvfo.org
END:VEVENT
BEGIN:VEVENT
DTSTART;TZID=America/Denver:20240808T090000
DTEND;TZID=America/Denver:20240811T140000
DTSTAMP:20260424T142453
CREATED:20240107T235019Z
LAST-MODIFIED:20240717T151638Z
UID:6316-1723107600-1723384800@nmvfo.org
SUMMARY:Carson Backpack (Carson NF) CANCELED
DESCRIPTION:Description: Want more of the Carson? Come join us on a four-day backpacking project on NMVFO’s adopted trail\, Middle Fork 24 on the Camino Real Ranger District. Our adopted section takes us along the Rio Santa Barbara from the campground. We’ll remove downed trees and brush back encroaching vegetation. We will camp at various locations depending upon the availability of water and the amount of work we can accomplish. While the project starts on Thursday\, you are welcome to join us on Friday or Saturday and spend as much time working with us as you can. \nLocation: We will leave our cars in a parking area just outside the Santa Barbara Campground [Google Map] \nPlease sign up below by August 4. \nDifficulty:  \nGroup Size: Up to 15 \nPlease read our Volunteer Guidelines before signing up for this project.\nOn the signup form please leave the "Number of Volunteers" at 1. If you would like to sign up additional volunteers please submit multiple signups.\n\n	\n	\n	\n\n 
URL:https://nmvfo.org/projects/carson-backpack-carson-nf/
CATEGORIES:Canceled,Project
ATTACH;FMTTYPE=image/jpeg:https://nmvfo.org/wp-content/uploads/2024/01/carson_2023.jpg
ORGANIZER;CN="Catlin Herrera":MAILTO:c.herrera@nmvfo.org
END:VEVENT
BEGIN:VEVENT
DTSTART;TZID=America/Denver:20240810T080000
DTEND;TZID=America/Denver:20240810T170000
DTSTAMP:20260424T142453
CREATED:20240821T145256Z
LAST-MODIFIED:20240821T145256Z
UID:6835-1723276800-1723309200@nmvfo.org
SUMMARY:Red Spruce Small Group Project (Mountainair RD)
DESCRIPTION:RESULTS: This project was a joint project with Back Country Horsemen. We cleared trees and filled in a big hole on the Manzano Crest Trail.\n \n\n\n	\n		\n			\n				\n			\n		\n		\n			\n				\n			\n		\n		\n			\n				\n			\n		\n		\n			\n				\n			\n		\n		\n			\n				\n			\n		\n		\n			\n				\n			\n		\n\n	 \n	\n	Show More\n\n\n\nPHOTO ALBUM LINK \n\nWhat is a Small Group Project? We organize several off-schedule short-notice word-of-mouth projects during the trail season. If you show up to a large number of projects\, mention to your project leader that you are interested.
URL:https://nmvfo.org/projects/red-spruce-small-group-project-mountainair-rd/
CATEGORIES:Project
ATTACH;FMTTYPE=image/jpeg:https://nmvfo.org/wp-content/uploads/2024/08/red_spruce_2024.jpg
ORGANIZER;CN="Don Lemke":MAILTO:d.lemke@nmvfo.org
END:VEVENT
BEGIN:VEVENT
DTSTART;TZID=America/Denver:20240817T083000
DTEND;TZID=America/Denver:20240817T140000
DTSTAMP:20260424T142453
CREATED:20240209T220001Z
LAST-MODIFIED:20240821T020442Z
UID:6475-1723883400-1723903200@nmvfo.org
SUMMARY:Juan Tomas (ABQ Open Space) WAITLISTED
DESCRIPTION:RESULTS: Twenty-one NMVFO volunteers along with four personnel from Albuquerque’s Open Space Division built at least 2/10 mile of trail through a heavily forested area to intersect with the popular Ponderosa Loop. As shown in some or the photos\, this work included using pick mattocks and Pulaskis to chop and uproot numerous Gambel Oak and other tree trunks. This project completed a 3-year effort to build this 1.2-mile trail\, to be named Alligator Alley in the future because of the distinctive bark of many of the adjacent Junipers.\n \n\n\n	\n		\n			\n				\n			\n		\n		\n			\n				\n			\n		\n		\n			\n				\n			\n		\n		\n			\n				\n			\n		\n		\n			\n				\n			\n		\n		\n			\n				\n			\n		\n\n	 \n	\n	Show More\n\n\n\nPHOTO ALBUM LINK \n\n  \nDescription: Albuquerque’s Open Space Division maintains five areas on the east side of the Sandia and Manzanita Mountains.  The largest of these is the Juan Tomas Open Space\, which encompasses 1\,290 acres of primarily pinon-juniper and ponderosa forest growing at elevations up to 7\,760 feet.  Join us as we continue building a new trail to eventually replace an old eroded route.  The work area will be about a mile hike across level terrain from the parking lot.  An Open Space crew will have already marked the new trail corridor with pin flags and chain-sawed any large trees.  Using pick mattocks\, McLeods\, Pulaskis\, loppers\, hand saws\, and shovels\, we will clear out smaller vegetation and excavate a smooth well-drained tread for hikers\, mountain bikes\, and occasional horses.  We may also build some rock retaining walls if needed. \nPreparations:  Wear long pants\, sturdy boots or work shoes (no soft shoes or sandals)\, sun glasses\, or other eye protection. We’ll be working in only partial shade\, so wear a hat and put on some sunscreen.  Bring work or gardening gloves if you have them; otherwise\, loaners will be available.  Also bring a day pack with plenty of water or other drinks\, snacks or light lunch\, and a rain jacket or poncho (especially if the monsoon season will be active). \nDirections:  From Albuquerque\, take the Tijeras exit (#175) from I-40 and drive south on Highway 337 for 9 miles (bypassing Juan Tomas Road\, which leads to a village).  Turn east (left) on Oak Flat Road and continue about 3 miles (past a dirt parking area with a gate) and turn into the next gravel parking lot on the left side of the road as shown in this satellite view.  Please try to arrive No Later Than 8:30 AM.  There will be two rosters to sign: one for the Open Space Division and other for NMVFO. \nDifficulty:   \nGroup Size: 20. If the project is full\, please email the project leader to be put on a wait list. \nCost:  Free! \nPlease read our Volunteer Guidelines before signing up for this project.\nOn the signup form please leave the "Number of Volunteers" at 1. If you would like to sign up additional volunteers please submit multiple signups.
URL:https://nmvfo.org/projects/juan-tomas-abq-open-space-6/
CATEGORIES:Project
ATTACH;FMTTYPE=image/jpeg:https://nmvfo.org/wp-content/uploads/2024/02/juan_tomas_2023.jpg
ORGANIZER;CN="Larry Benson":MAILTO:L.Benson@nmvfo.org
END:VEVENT
BEGIN:VEVENT
DTSTART;TZID=America/Denver:20240823T090000
DTEND;TZID=America/Denver:20240825T120000
DTSTAMP:20260424T142454
CREATED:20240113T155213Z
LAST-MODIFIED:20240918T162453Z
UID:6360-1724403600-1724587200@nmvfo.org
SUMMARY:Sugarite Canyon State Park (ENMRD)
DESCRIPTION:RESULTS: Thirteen NMVFO volunteers camped at Sugarite Canyon State Park from August 22nd through the 24th. The group lopped and limbed locust trees on 0.65 miles of Highway 526 and along Lake Alice to improve the view of the lake from the highway and to improve access along the lake. In addition\, the group constructed or enhanced 18 drainage diversions along 1.3 miles of trail in the coal camp area.\n \n\n\n	\n		\n			\n				\n			\n		\n		\n			\n				\n			\n		\n		\n			\n				\n			\n		\n		\n			\n				\n			\n		\n		\n			\n				\n			\n		\n		\n			\n				\n			\n		\n\n	 \n	\n	Show More\n\n\n\nPHOTO ALBUM LINK \n\n  \nDescription: Join NMVFO on a car-camping project to improve several hiking trails at Sugarite Canyon State Park in northern New Mexico at a cool 7\,000 feet. We will be clearing trees\, brush\, and grasses that are encroaching upon the trails. \nSugarite Canyon State Park was once a coal mine/coal town right on the Colorado border. It offers interpretive trails of the coal town ruins\, great hiking trails\, and two lakes to fish in. \nVolunteers will camp at the Valve Tender’s Group Campground and need to provide their own recreational vehicle or camping gear including tent\, sleeping bag and pad\, camp chair\, headlamp\, etc.\, plus a cooler/beverages\, if desired. NMVFO cooks will provide breakfast on Friday\, Saturday\, and Sunday morning and dinner on Friday and Saturday evening; volunteers will need to supply their own lunches and snacks. Please bring your own plate\, bowl\, utensils\, and coffee mug. Chemical toilets will be provided by the park. \nPlease bring a daypack to carry your lunch\, snacks\, sunblock\, rain gear\, and a full-day’s supply of water. All tools will be provided. While the Project starts at 9:00 am on Friday\, August 23rd\, you can join us Thursday evening (dinner will not be provided)\, Friday morning or evening\, or Saturday morning. Please join us by 5:00 pm on Friday evening if you would like dinner. Join us by 7:00 am on Saturday morning if you would like breakfast. Just let us know what your plans are by contacting the project leader by email or phone. The project will end at about 12:00 pm on Sunday\, August 25th. \nMeet at: Sugarite Canyon State Park; Coordinates 36.95522\, -104.38739 Elevation: 6\,965 ft How to find us: Look for short green NMVFO signs on NM Highway 540 \nReminder: Pets are not allowed on NMVFO projects. \nPlease sign up by August 19th. One person per signup. \nDifficulty: \n \nGroup Size: 20. If the project becomes full\, please add your name to the waitlist\, and we will contact you if a spot opens up. \nPlease read our Volunteer Guidelines before signing up for this project.\nOn the signup form please leave the "Number of Volunteers" at 1. If you would like to sign up additional volunteers please submit multiple signups.
URL:https://nmvfo.org/projects/sugarite-canyon-state-park-enmrd/
CATEGORIES:Project
ATTACH;FMTTYPE=image/jpeg:https://nmvfo.org/wp-content/uploads/2023/02/sugarite_2022.jpg
ORGANIZER;CN="Mike Timmer":MAILTO:m.timmer@nmvfo.org
END:VEVENT
BEGIN:VEVENT
DTSTART;TZID=America/Denver:20240830T180000
DTEND;TZID=America/Denver:20240901T170000
DTSTAMP:20260424T142454
CREATED:20240318T011844Z
LAST-MODIFIED:20240903T140057Z
UID:6606-1725040800-1725210000@nmvfo.org
SUMMARY:Limestone Canyon (Magdalena RD)
DESCRIPTION:RESULTS: Ten NMVFO volunteers returned to Limestone Canyon with our partner Albuquerque Wildlife Federation\, building one-rock dams and “beaver dams” to capture sediment in the drainage.\n \n\n\n	\n		\n			\n				\n			\n		\n		\n			\n				\n			\n		\n		\n			\n				\n			\n		\n		\n			\n				\n			\n		\n		\n			\n				\n			\n		\n		\n			\n				\n			\n		\n\n	 \n	\n	Show More\n\n\n\nPHOTO ALBUM LINK \n\n  \nDescription: NMVFO returns with partner Albuquerque Wildlife Federation over Labor Day weekend to help restore wetland meadows in Limestone Canyon. Albuquerque Wildlife Federation has been working this area for over 16 years! We will be hand-building one-rock dams to slow and spread water to help re-wet a meadow. We may also repair or expand fencing enclosures that were built in years past to protect cottonwood saplings. \nWe’ll meet at our dispersed camping location(map). **Note that FR 549 has been impacted by the Bear Trap fire. Those who sign up will receive specific directions via FR 476. A high-clearance vehicle is recommended.** FR 476 has been recently scouted and is in good shape. Our camping locale is in a beautiful Ponderosa forest with lots of suitable tent locations. Portable toilets will be onsite\, supplied by AWF. Volunteers do not need to be present for the entire weekend to participate. Camping at the site on Friday night is highly recommended\, but you are welcome to join us just for the workday Saturday (please arrive by 8am)\, or camp for just one of the two nights. You are also welcome to stay at camp until Monday. Please let us know your plans. You are welcome to email any questions to the project leader. \nRequired Gear: Bring everything you need for a weekend of camping and restoration work\, including work gloves\, hat\, long sleeves\, long pants\, sturdy boots\, and sunscreen. We recommend bringing a change of shoes\, and high waterproof boots\, or boots you don’t mind getting wet. Rain gear\, layers\, warm clothes for the evenings and plenty of water are essential. Please bring your own dishes\, silverware\, cup and water for camping. Don’t forget that camp chair. \nFood: AWF will provide vegetarian breakfast burritos on Saturday morning and bison or veggie burgers on Saturday evening. Please bring a dish to share for the Saturday potluck dinner\, along with your own lunches\, Friday dinner\, Sunday breakfast\, and lots of water! \nDifficulty:  \nGroup Size: 15 \nSign up below by August 27. One person per signup. \n\nPlease read our Volunteer Guidelines before signing up for this project.\nOn the signup form please leave the "Number of Volunteers" at 1. If you would like to sign up additional volunteers please submit multiple signups.
URL:https://nmvfo.org/projects/limestone-canyon-magdalena-rd-2/
CATEGORIES:Project
ATTACH;FMTTYPE=image/jpeg:https://nmvfo.org/wp-content/uploads/2023/02/Limestone_Canyon_2022_-Armoring-Cutbank-e1677633209826.jpg
ORGANIZER;CN="Jim (Sagebrush) Sells":MAILTO:j.sells@nmvfo.org
END:VEVENT
BEGIN:VEVENT
DTSTART;TZID=America/Denver:20240831T073000
DTEND;TZID=America/Denver:20240831T143000
DTSTAMP:20260424T142455
CREATED:20240314T151934Z
LAST-MODIFIED:20240910T202213Z
UID:6575-1725089400-1725114600@nmvfo.org
SUMMARY:Valle de Oro Cleanup (NWR)
DESCRIPTION:RESULTS: Refuge by clearing debris and removing invasive vegetation and non-native bullfrog tadpoles from the refuge. The invasive vegetation is primarily Kochia aka Bassia scoparia. We removed at least six trailer loads of invasive plants which will be composted. Five of our volunteers worked in the cattail pond to remove invasive bullfrog tadpoles and algae. Over 350 bullfrog tadpoles were removed from the wetland for disposition by FWS personnel. All work was done in the area around the Visitor Center and around the trail that surrounds the cattail pond.\n \n\n\n	\n		\n			\n				\n			\n		\n		\n			\n				\n			\n		\n		\n			\n				\n			\n		\n		\n			\n				\n			\n		\n		\n			\n				\n			\n		\n		\n			\n				\n			\n		\n\n	 \n	\n	Show More\n\n\n\nPHOTO ALBUM LINK \n\n  \nProject Description:  The Valle de Oro National Wildlife Refuge is the Southwest’s first urban wildlife refuge.  It serves as an oasis for both wildlife and people.  Established in 2012\, the refuge is beginning to transition from agriculture fields to a diversity of native habitats and visitor amenities. \nWe will improve the refuge by clearing debris and removing invasive vegetation.  We will meet in the Valle de Oro Visitor Center parking lot at 7:30 AM to sign in. Dakota Dominguez\, Valle de Oro Park Ranger\, will present a short talk on the refuge.  We will then proceed to the work site to review the planned work and conduct a safety briefing. \nVolunteers must wear sturdy boots (preferred) or shoes (no sandals)\, long pants\, eye protection\, and work gloves.  Long sleeve shirts are recommended.  Bring a hat\, sun protection\, and other apparel appropriate for the predicted weather.  Also bring a day pack with water\, snacks\, lunch\, and other necessities. We plan to finish work by 2:30 pm. \nThe volunteer group will not exceed 20 participants.  The Visitors’ Center restroom facilities will be open.  Registrants will be updated by email in the week(s) before the project with the latest information.  If you have to cancel on the day of the project\, please text the Project Leader at 505-705-2584. \nDirections:  Valle de Oro is located approximately 10 miles south of Albuquerque’s Big I.  Coming from the North\, take Interstate 25 South to Rio Bravo (Exit 220).  Go West on Rio Bravo\, then South on Broadway for approximately 2.25 miles.  Turn West on Desert\, cross the Railrunner Tracks\, then turn South on 2nd Street.  The entrance to Valle de Oro will be on your right about 0.75 miles.  At the entrance\, proceed to Visitor Center parking.  Please plan to be there a little before 7:30 AM. \nDifficulty:  \nTo sign up: Click on the button below and fill out the contact information. If the project is full\, you can email the project leader to be put on a wait list. \nPlease read our Volunteer Guidelines before signing up for this project.\nOn the signup form please leave the "Number of Volunteers" at 1. If you would like to sign up additional volunteers please submit multiple signups.
URL:https://nmvfo.org/projects/valle-de-oro-cleanup-nwr/
CATEGORIES:Project
ATTACH;FMTTYPE=image/jpeg:https://nmvfo.org/wp-content/uploads/2023/03/valleDeOro_2022.jpg
ORGANIZER;CN="Ed DiBello":MAILTO:e.dibello@nmvfo.org
END:VEVENT
END:VCALENDAR