BEGIN:VCALENDAR
VERSION:2.0
PRODID:-//New Mexico Volunteers For The Outdoors - ECPv6.15.15//NONSGML v1.0//EN
CALSCALE:GREGORIAN
METHOD:PUBLISH
X-WR-CALNAME:New Mexico Volunteers For The Outdoors
X-ORIGINAL-URL:https://nmvfo.org
X-WR-CALDESC:Events for New Mexico Volunteers For The Outdoors
REFRESH-INTERVAL;VALUE=DURATION:PT1H
X-Robots-Tag:noindex
X-PUBLISHED-TTL:PT1H
BEGIN:VTIMEZONE
TZID:America/Denver
BEGIN:DAYLIGHT
TZOFFSETFROM:-0700
TZOFFSETTO:-0600
TZNAME:MDT
DTSTART:20230312T090000
END:DAYLIGHT
BEGIN:STANDARD
TZOFFSETFROM:-0600
TZOFFSETTO:-0700
TZNAME:MST
DTSTART:20231105T080000
END:STANDARD
BEGIN:DAYLIGHT
TZOFFSETFROM:-0700
TZOFFSETTO:-0600
TZNAME:MDT
DTSTART:20240310T090000
END:DAYLIGHT
BEGIN:STANDARD
TZOFFSETFROM:-0600
TZOFFSETTO:-0700
TZNAME:MST
DTSTART:20241103T080000
END:STANDARD
BEGIN:DAYLIGHT
TZOFFSETFROM:-0700
TZOFFSETTO:-0600
TZNAME:MDT
DTSTART:20250309T090000
END:DAYLIGHT
BEGIN:STANDARD
TZOFFSETFROM:-0600
TZOFFSETTO:-0700
TZNAME:MST
DTSTART:20251102T080000
END:STANDARD
END:VTIMEZONE
BEGIN:VEVENT
DTSTART;TZID=America/Denver:20240601T090000
DTEND;TZID=America/Denver:20240602T140000
DTSTAMP:20260424T170846
CREATED:20240107T231735Z
LAST-MODIFIED:20240117T235533Z
UID:6311-1717232400-1717336800@nmvfo.org
SUMMARY:Adopt-a-Trail (Carson NF)
DESCRIPTION:Description: Come join us for our returning project on NMVFO’s adopted trail\, Middle Fork 24 on the Camino Real Ranger District. We will begin work 9AM Saturday morning from our group campsite\, but you are welcome to join us anytime Friday after 2PM for camping and dinner at a local restaurant in Peñasco. Our adopted section takes us roughly two miles south along the Rio Santa Barbara from the campground. We’ll remove downed trees\, brush back encroaching vegetation and focus significantly on improving drainage and address erosion issues along the trail. Tools and hard hats will be provided. \nRequired gear: sturdy boots\, work gloves\, long sleeves\, long pants\, eye protection (sunglasses okay). Please also bring a day pack\, snacks\, trail lunch\, sunblock\, rain gear\, and plenty of water for each work day.  We’ll plan for a long day on Saturday\, ending at around 4:00. On Sunday we’ll plan to be heading out by 2PM. \nFor camping\, feel free to bring a cooler for beverages (adult or other). A camp chair is also a good idea. Nights could be chilly and rain is possible\, so come prepared! \nThe Santa Barbara Campground has pit toilets. It’s a nice campground\, and our adopted section of trail is very pleasant\, in sight of the Rio Santa Barbara for most of its length. Hope to see you there! \nDifficulty:  \nGroup Size: up to 15. Please sign up by May 20. \nPlease read our Volunteer Guidelines before signing up for this project.\nOn the signup form please leave the "Number of Volunteers" at 1. If you would like to sign up additional volunteers please submit multiple signups.
URL:https://nmvfo.org/projects/adopt-a-trail-carson-nf/
CATEGORIES:Project
ATTACH;FMTTYPE=image/jpeg:https://nmvfo.org/wp-content/uploads/2021/12/2022-adopt-a-trail.jpg
ORGANIZER;CN="Catlin Herrera":MAILTO:c.herrera@nmvfo.org
END:VEVENT
BEGIN:VEVENT
DTSTART;TZID=America/Denver:20240606T170000
DTEND;TZID=America/Denver:20240609T140000
DTSTAMP:20260424T170846
CREATED:20240304T151434Z
LAST-MODIFIED:20240611T155652Z
UID:6526-1717693200-1717941600@nmvfo.org
SUMMARY:CDT San Pedro Parks (Santa Fe NF)
DESCRIPTION:RESULTS: Six NMVFO volunteers joined CDTC staff and volunteers to fix tread near San Gregorio Lake Trailhead\, and clear trees between the trailhead and Nacimiento Mine\, about 6.7 miles.\n \n\n\n	\n		\n			\n				\n			\n		\n		\n			\n				\n			\n		\n		\n			\n				\n			\n		\n		\n			\n				\n			\n		\n		\n			\n				\n			\n		\n		\n			\n				\n			\n		\n\n	 \n	\n	Show More\n\n\n\nPHOTO ALBUM LINK \n\n  \nDescription: We partner with the Continental Divide Trail Coalition for a project in the San Pedro Parks\, with basecamp location: Trailhead on FS Rd 70. Cuba RD\, and working north from camp. We expect to do treadwork and brushing\, with sawing as needed. \nFrom the CDTC website: Itching to get into the wilderness? Join us for this wilderness logout and tread project in the Santa Fe National Forest. This early season project will be fun and challenging. We will focus on tread work and logout. Come flex your crosscut muscles with us in the San Pedro Parks Wilderness! \nThis is a car camp project\, and breakfasts and dinners will be provided. Bring your own lunches and snacks. \nPlease bring a daypack to carry your lunch\, snacks\, sunblock\, rain gear\, and a full-day’s supply of water. All tools will be provided. All dinners and breakfasts will be provided by our friends at the CDTC\, but bring your own lunches. Bring the normal camping gear you would need for a car camp\, and a camp chair might be a good idea. There is no water at water at base camp\, so bring your own supply. Base camp amenities include a vault toilet. \nSee the CDTC project description here. \nYou can sign up below until Tuesday May 28\, 2024. One person per signup. \nDifficulty:  \nPlease read our Volunteer Guidelines before signing up for this project.\nOn the signup form please leave the "Number of Volunteers" at 1. If you would like to sign up additional volunteers please submit multiple signups.\n\n	\n	\n	\n\n 
URL:https://nmvfo.org/projects/cdt-san-pedro-parks-santa-fe-nf/
CATEGORIES:Project
ATTACH;FMTTYPE=image/jpeg:https://nmvfo.org/wp-content/uploads/2024/03/san_pedro_parks.jpg
ORGANIZER;CN="Jim (Sagebrush) Sells":MAILTO:j.sells@nmvfo.org
END:VEVENT
BEGIN:VEVENT
DTSTART;TZID=America/Denver:20240608T080000
DTEND;TZID=America/Denver:20240608T150000
DTSTAMP:20260424T170847
CREATED:20240229T000240Z
LAST-MODIFIED:20240613T161318Z
UID:6498-1717833600-1717858800@nmvfo.org
SUMMARY:Women's Trail Day (CABQ Open Space)
DESCRIPTION:RESULTS: Building new trail and rock work at Tijeras BioZone Education Center\n \n\n\n	\n		\n			\n				\n			\n		\n		\n			\n				\n			\n		\n		\n			\n				\n			\n		\n		\n			\n				\n			\n		\n		\n			\n				\n			\n		\n		\n			\n				\n			\n		\n\n	 \n	\n	Show More\n\n\n\nPHOTO ALBUM LINK \n\n  \nDescription: Enjoy the camaraderie of other women as we review some trail work basics\, then spend the rest of our day together building brand new trail in Albuquerque Open Space in Tijeras\, NM. We will some time providing instruction on trail-building tools\, techniques\, and tips for making user-friendly and sustainable trails. There will be opportunities for questions\, feedback\, and networking with fellow women passionate about New Mexico’s hiking trails. Both experienced and completely new volunteers are welcome on this introductory trail-building project! \nPlease bring work gloves and eye protection (sunglasses or eyeglasses are fine)\, lunch\, snacks and plenty of water in a day pack. Come prepared with sturdy boots\, a hat\, sunblock\, and a notebook and pen if desired. Extra layers are recommended in case it is chilly in the morning\, as well as rain gear if rain is in the forecast. We’ll stop for lunch at around noon\, and after work we’ll begin hiking out at around 2:00. \nWe’ll be joined by City of Albuquerque Open Space staff\, who will be available for demonstrations and Q&A throughout the trail construction portion of the day. \nPlease register below by May 30. If you plan to invite a friend\, she will need to register as well. Hope you can join us! \nGroup Size: Up to 15. \nDifficulty:  \nTo sign up\, click on the button below and fill out the form. If the project is full\, you can email the project leader to be put on a wait list. \nPlease read our Volunteer Guidelines before signing up for this project.\nOn the signup form please leave the "Number of Volunteers" at 1. If you would like to sign up additional volunteers please submit multiple signups.
URL:https://nmvfo.org/projects/womens-trail-day-cabq-open-space/
CATEGORIES:Class,Project
ATTACH;FMTTYPE=image/jpeg:https://nmvfo.org/wp-content/uploads/2023/02/womens_trail_2021.jpg
ORGANIZER;CN="Julia Plews":MAILTO:j.plews@nmvfo.org
END:VEVENT
BEGIN:VEVENT
DTSTART;TZID=America/Denver:20240613T090000
DTEND;TZID=America/Denver:20240616T140000
DTSTAMP:20260424T170847
CREATED:20240123T195946Z
LAST-MODIFIED:20240620T155457Z
UID:6412-1718269200-1718546400@nmvfo.org
SUMMARY:Penas Negras Backpack (San Pedro Parks\, Cuba RD)
DESCRIPTION:RESULTS: Twelve NMVFO volunteers supported by five Back Country Horsemen removed 202 downed trees along 3.3 miles of the Perchas and Penas Negras trails in San Pedro Parks Wilderness.\n \n\n\n	\n		\n			\n				\n			\n		\n		\n			\n				\n			\n		\n		\n			\n				\n			\n		\n		\n			\n				\n			\n		\n		\n			\n				\n			\n		\n		\n			\n				\n			\n		\n\n	 \n	\n	Show More\n\n\n\nPHOTO ALBUM LINK \n\n  \nDescription: Join us on a four-day backpacking project to clear downed trees and brush on the Peñas Negras Trail #32 and others in the south eastern part San Pedro Parks Wilderness. We will camp along the Rito de las Perchas to ensure a good source of water. While the project starts on Thursday\, June 13th\, you are welcome to join us on Friday or Saturday and spend as much time working with us as you can. \nAll tools will be provided. We will be using one- and two-person crosscut saws\, pruning saws\, and loppers. USFS rules require all volunteers to wear ankle-high boots\, long pants\, long sleeves\, hard hats (provided)\, work gloves\, and eye protection (sunglasses okay) while working. Please bring a daypack to carry your lunch\, snacks\, sunblock\, rain gear\, and a full day’s supply of water. NMVFO will reimburse volunteers for food expenses at the rate of $20/day. Further information such as probable camping sites and water sources will be provided after the Project Leader scouts the entire loop just before the start date. \nReminder: Pets are not allowed on NMVFO projects. \nClosing date for signups is June 6\, 2024. \nDifficulty: \nGroup Size: 15 \nMeet at: Palomas Trailhead #50 on FR70 [Google Map] We will hike Palomas Trail #50 and Perchas Trail #418 to our campsite. \nPlease read our Volunteer Guidelines before signing up for this project.\nOn the signup form please leave the "Number of Volunteers" at 1. If you would like to sign up additional volunteers please submit multiple signups.
URL:https://nmvfo.org/projects/penas-negras-backpack-san-pedro-parks-cuba-rd-2/
CATEGORIES:Project
ATTACH;FMTTYPE=image/jpeg:https://nmvfo.org/wp-content/uploads/2023/03/rio_puerco_2022.jpg
ORGANIZER;CN="Christy Osmon":MAILTO:c.osmon@nmvfo.org
END:VEVENT
BEGIN:VEVENT
DTSTART;TZID=America/Denver:20240615T080000
DTEND;TZID=America/Denver:20240615T170000
DTSTAMP:20260424T170848
CREATED:20240229T152800Z
LAST-MODIFIED:20240620T160042Z
UID:6502-1718438400-1718470800@nmvfo.org
SUMMARY:Timber Peak Trail (Magdalena RD)
DESCRIPTION:RESULTS: 20 volunteers from NMVFO and Socorro Trails cleared deadfall and overgrowth on the northern 3.1 miles of Timber Peak Trail #70 in the Magdalena Mountains\n \n\n\n	\n		\n			\n				\n			\n		\n		\n			\n				\n			\n		\n		\n			\n				\n			\n		\n		\n			\n				\n			\n		\n		\n			\n				\n			\n		\n		\n			\n				\n			\n		\n\n	 \n	\n	Show More\n\n\n\nPHOTO ALBUM LINK \n\n  \nDescription: Join us for some needed maintenance on the Timber Peak Trail #70 in the Magdalena Mountains West of Socorro. This scenic trail is approximately 4 miles long and follows a north-south ridgeline between 9400′ and 10\,000′ in elevation with expansive views of central New Mexico. We will focus on clearing downed trees and cutting back overgrowth that is obscuring the tread of the trail. The work will not be too difficult but it will be an 8 mile (round trip) hike at altitude. For this reason\, we will rate this project as difficult. \nWe will meet at the Water Canyon Campground which is approximately a 90 minute drive from the south side of Albuquerque. The campground usually has vacancies if you wish to stay overnight. We will meet at 8am and be back at the campground by 5pm. \nThere will be a limit of 20 people on this project. Participants should wear sturdy boots or work shoes\, long pants\, eye protection\, gloves\, and bring gear for rain. Please note that pets are not allowed on this project. \nDifficulty:  \nPlease read our Volunteer Guidelines before signing up for this project.\nOn the signup form please leave the "Number of Volunteers" at 1. If you would like to sign up additional volunteers please submit multiple signups.
URL:https://nmvfo.org/projects/timber-peak-trail-magdalena-rd/
CATEGORIES:Project
ATTACH;FMTTYPE=image/jpeg:https://nmvfo.org/wp-content/uploads/2024/02/timber_ridge_trail.jpg
ORGANIZER;CN="Rob Selina":MAILTO:r.selina@nmvfo.org
END:VEVENT
BEGIN:VEVENT
DTSTART;TZID=America/Denver:20240619T080000
DTEND;TZID=America/Denver:20240619T160000
DTSTAMP:20260424T170848
CREATED:20240627T133641Z
LAST-MODIFIED:20240627T134104Z
UID:6767-1718784000-1718812800@nmvfo.org
SUMMARY:New Canyon Small Group Project (Mountainair RD)
DESCRIPTION:RESULTS: Five volunteers cleared deadfall on New Canyon Trail in the Manzano Mountains. There were 25 down trees in this 2 mile long trail. They also went a bit north on the Crest Trail and removed one large tree.\n \n\n\n	\n		\n			\n				\n			\n		\n		\n			\n				\n			\n		\n		\n			\n				\n			\n		\n		\n			\n				\n			\n		\n		\n			\n				\n			\n		\n		\n			\n				\n			\n		\n\n	 \n	\n	Show More\n\n\n\nPHOTO ALBUM LINK \n\nWhat is a Small Group Project? We organize several off-schedule short-notice word-of-mouth projects during the trail season. If you show up to a large number of projects\, mention to your project leader that you are interested.
URL:https://nmvfo.org/projects/new-canyon-small-group-project-mountainair-rd/
CATEGORIES:Project
ATTACH;FMTTYPE=image/jpeg:https://nmvfo.org/wp-content/uploads/2024/06/new_canyon_2024.jpg
ORGANIZER;CN="Don Lemke":MAILTO:d.lemke@nmvfo.org
END:VEVENT
BEGIN:VEVENT
DTSTART;TZID=America/Denver:20240621T080000
DTEND;TZID=America/Denver:20240623T160000
DTSTAMP:20260424T170848
CREATED:20240113T012004Z
LAST-MODIFIED:20240702T132049Z
UID:6345-1718956800-1719158400@nmvfo.org
SUMMARY:Cecilia Trail (SFNF Coyote RD)
DESCRIPTION:RESULTS: Eleven NMVFO volunteers cleared 174 deadfalls and constructed 10 cairns along 3.4 miles of the Cecilia Trail in the northern part of the San Pedro Parks Wilderness Area.\n \n\n\n	\n		\n			\n				\n			\n		\n		\n			\n				\n			\n		\n		\n			\n				\n			\n		\n		\n			\n				\n			\n		\n		\n			\n				\n			\n		\n		\n			\n				\n			\n		\n\n	 \n	\n	Show More\n\n\n\nPHOTO ALBUM LINK \n\n  \nDescription: Join NMVFO on a car-camping project to clear downed trees along the Cecilia Trail # 451 in the San Pedro Parks Wilderness of the Santa Fe National Forest (SFNF). We will camp off FR 171 at Coordinates 36.19022\, -106.79420 at a cool 8220’ elevation. \nAll tools will be provided. We will be using one- and two-person crosscut saws and pruning saws. USFS rules require all volunteers to wear boots\, long pants\, long sleeves\, hard hats (provided)\, work gloves\, and eye protection (sunglasses okay) while working. Please bring a daypack to carry your lunch\, snacks\, sunblock\, rain gear\, and a full-day’s supply of water. \nVolunteers will need to provide their own recreational vehicle or camping gear including tent\, sleeping bag and pad\, camp chair\, headlamp\, etc.\, plus a cooler/beverages if desired. Breakfasts and dinners will be provided; volunteers will supply their own lunches and snacks. Please bring your own plate\, bowl\, utensils\, and coffee mug. Since this is a dispersed camping area with no water\, please bring as much potable water (five gallons) as you can. NMVFO will provide a portable toilet and personal shelter. \nWhile the project starts at 8:00 am on Friday\, June 21st\, you are welcome to join us on Thursday evening at 5:00 pm or so for a social gathering. Dinner will not be provided on Thursday evening. \nAlso\, if you want to join us on Friday morning or evening or Saturday morning\, just let us know what your plans are by contacting Mike Timmer at m.timmer@nmvfo.org. \nReminder: Pets are not allowed on NMVFO projects. \nPlease sign up below. The closing date for signups is June 17th at 5:00 pm \nDifficulty:  \nGroup size: Up to 15 (17 counting cooks) \nMeet at: Coordinates 36.19022\, -106.79420. How to find us: Look for the green NMVFO signs starting at Highway 96. \nPlease read our Volunteer Guidelines before signing up for this project.\nOn the signup form please leave the "Number of Volunteers" at 1. If you would like to sign up additional volunteers please submit multiple signups.
URL:https://nmvfo.org/projects/cecilia-trail-sfnf-coyote-rd/
CATEGORIES:Project
ATTACH;FMTTYPE=image/jpeg:https://nmvfo.org/wp-content/uploads/2020/07/2020-Trigo-add-on-2.jpg
ORGANIZER;CN="Mike Timmer":MAILTO:m.timmer@nmvfo.org
END:VEVENT
BEGIN:VEVENT
DTSTART;TZID=America/Denver:20240626T080000
DTEND;TZID=America/Denver:20240628T170000
DTSTAMP:20260424T170849
CREATED:20240707T153631Z
LAST-MODIFIED:20240707T154207Z
UID:6784-1719388800-1719594000@nmvfo.org
SUMMARY:Valle de Oro YCC Trail Project
DESCRIPTION:RESULTS: The Valle de Oro Youth Conservation Corp (YCC) crew and volunteers from NMVFO worked for three days with Albuquerque (ABQ) Open Space staff at the Tijeras BioZone. Open Space staff provided hands-on trail construction and rock work training to the YCC crew. The group built 250 feet of new trail\, constructed an arroyo crossing\, performed maintenance on 800 feet of trail\, and closed 1\,350 feet of old roads. Prior to the field work\, on June 25\, NMVFO presented a tutorial on Trail Building & Maintenance and an overview of NMVFO to the YCC crew. During the lunch break on June 26\, Jim Sattler\, ABQ Open Space\, briefed the crew on the extensive history of Tijeras Canyon. The collaboration of Open Space\, Valle de Oro staff\, and NMVFO volunteers made this project a success and is greatly appreciated.\n \n\n\n	\n		\n			\n				\n			\n		\n		\n			\n				\n			\n		\n		\n			\n				\n			\n		\n		\n			\n				\n			\n		\n		\n			\n				\n			\n		\n		\n			\n				\n			\n		\n\n	 \n	\n	Show More\n\n\n\nPHOTO ALBUM LINK \n\n 
URL:https://nmvfo.org/projects/valle-de-oro-ycc-trail-project/
CATEGORIES:Project
ATTACH;FMTTYPE=image/jpeg:https://nmvfo.org/wp-content/uploads/2024/07/vdo_ycc_2024.jpg
ORGANIZER;CN="Ed DiBello":MAILTO:e.dibello@nmvfo.org
END:VEVENT
BEGIN:VEVENT
DTSTART;TZID=America/Denver:20240627T090000
DTEND;TZID=America/Denver:20240630T140000
DTSTAMP:20260424T170849
CREATED:20240126T202309Z
LAST-MODIFIED:20240705T134200Z
UID:6431-1719478800-1719756000@nmvfo.org
SUMMARY:Horsethief Trail Backpack (SFNF)
DESCRIPTION:RESULTS: Seven volunteers spent four days based at Horse Thief Meadow in the Pecos Wilderness clearing blowdowns and leaners from about 1.6 miles of the Skyline Trail. The Pecos Chapter of the Back County Horseman Association supported the volunteers by packing in tools and equipment and cooking delicious meals for us at a field kitchen they set up at the camp site.\n \n\n\n	\n		\n			\n				\n			\n		\n		\n			\n				\n			\n		\n		\n			\n				\n			\n		\n		\n			\n				\n			\n		\n		\n			\n				\n			\n		\n		\n			\n				\n			\n		\n\n	 \n	\n	Show More\n\n\n\nPHOTO ALBUM LINK \n\n  \nDescription: Spend 3 nights camping in remote Horse Thief Meadow\, which we will use as our basecamp for strenuous and fun days doing trail improvements and clearing blowdowns north and south along the Skyline Trail #251 and Horsethief Trail #253. Starting from the Panchuela campground\, we will backpack in 5.6 miles on the Cave Creek and Skyline trails to the meadow on Thursday and set up camp. We’ll decide on a work agenda for each day depending on the group’s interests\, then hike back out Sunday morning. The Back Country Horsemen Association will support us by packing tools and camp equipment from Panchuela to the meadow and back. \nBCHA will also cook morning and evening meals for the group at the campsite. Participants must provide their own lunch out on the trail during the day. \nLocation: We will park at the USFS Panchuela Campground\, driving the narrow road up from Cowles. \nDifficulty:   \nGroup Size: Up to 15 \nClosing date for signups is June 22\, 2024\n \nReminder: Pets are not allowed on NMVFO projects. \nPlease read our Volunteer Guidelines before signing up for this project.\nOn the signup form please leave the "Number of Volunteers" at 1. If you would like to sign up additional volunteers please submit multiple signups.
URL:https://nmvfo.org/projects/horsethief-trail-backpack-sfnf/
CATEGORIES:Project
ATTACH;FMTTYPE=image/jpeg:https://nmvfo.org/wp-content/uploads/2024/01/horsethief_meadow_2023.jpg
ORGANIZER;CN="Tom Slocum":MAILTO:t.slocum@nmvfo.org
END:VEVENT
BEGIN:VEVENT
DTSTART;TZID=America/Denver:20240629T083000
DTEND;TZID=America/Denver:20240629T120000
DTSTAMP:20260424T170850
CREATED:20240525T115253Z
LAST-MODIFIED:20240702T132504Z
UID:6724-1719649800-1719662400@nmvfo.org
SUMMARY:Keep it Clean at Tijeras BioZone (CABQ Albuquerque)
DESCRIPTION:RESULTS: Cleaning up trash and some trail maintenance in Tijeras BioZone.\n \n\n\n	\n		\n			\n				\n			\n		\n		\n			\n				\n			\n		\n		\n			\n				\n			\n		\n		\n			\n				\n			\n		\n		\n			\n				\n			\n		\n		\n			\n				\n			\n		\n\n	 \n	\n	Show More\n\n\n\nPHOTO ALBUM LINK \n\n  \nKeep it Clean at Tijeras BioZone with Little Toad Creek Brewery & Distillery \nDescription: Join us for a Keep it Clean project in Tijeras\, led by NMVFO and Little Toad Creek Brewery & Distillery! We’ll plan to be out on the Cottonwood-shaded trails performing light maintenance\, brushing\, and trash/brush cleanup between about 8:30am-noon. All skill levels are welcome on this accessible project very close to Albuquerque. Little Toad will be generously sponsoring an after party with swag\, beverages\, and food provided at nearby Boxing Bear Brewing Company. \nParticipants should wear sturdy boots or work shoes (no sandals)\, long pants\, hat\, eye protection\, gloves\, and bring gear for rain. Pets are not allowed on NMVFO projects\, though we love them. \nDifficulty:  \nGroup size: up to 40 \nPlease read our Volunteer Guidelines before signing up for this project.\nOn the signup form please leave the "Number of Volunteers" at 1. If you would like to sign up additional volunteers please submit multiple signups.
URL:https://nmvfo.org/projects/keep-it-clean-at-tijeras-biozone-cabq-albuquerque/
CATEGORIES:Project
ATTACH;FMTTYPE=image/png:https://nmvfo.org/wp-content/uploads/2024/05/keep_it_clean-e1716637191583.png
ORGANIZER;CN="Julia Plews":MAILTO:j.plews@nmvfo.org
END:VEVENT
END:VCALENDAR