BEGIN:VCALENDAR
VERSION:2.0
PRODID:-//New Mexico Volunteers For The Outdoors - ECPv6.15.15//NONSGML v1.0//EN
CALSCALE:GREGORIAN
METHOD:PUBLISH
X-WR-CALNAME:New Mexico Volunteers For The Outdoors
X-ORIGINAL-URL:https://nmvfo.org
X-WR-CALDESC:Events for New Mexico Volunteers For The Outdoors
REFRESH-INTERVAL;VALUE=DURATION:PT1H
X-Robots-Tag:noindex
X-PUBLISHED-TTL:PT1H
BEGIN:VTIMEZONE
TZID:America/Denver
BEGIN:DAYLIGHT
TZOFFSETFROM:-0700
TZOFFSETTO:-0600
TZNAME:MDT
DTSTART:20220313T090000
END:DAYLIGHT
BEGIN:STANDARD
TZOFFSETFROM:-0600
TZOFFSETTO:-0700
TZNAME:MST
DTSTART:20221106T080000
END:STANDARD
BEGIN:DAYLIGHT
TZOFFSETFROM:-0700
TZOFFSETTO:-0600
TZNAME:MDT
DTSTART:20230312T090000
END:DAYLIGHT
BEGIN:STANDARD
TZOFFSETFROM:-0600
TZOFFSETTO:-0700
TZNAME:MST
DTSTART:20231105T080000
END:STANDARD
BEGIN:DAYLIGHT
TZOFFSETFROM:-0700
TZOFFSETTO:-0600
TZNAME:MDT
DTSTART:20240310T090000
END:DAYLIGHT
BEGIN:STANDARD
TZOFFSETFROM:-0600
TZOFFSETTO:-0700
TZNAME:MST
DTSTART:20241103T080000
END:STANDARD
END:VTIMEZONE
BEGIN:VEVENT
DTSTART;TZID=America/Denver:20231108T080000
DTEND;TZID=America/Denver:20231108T120100
DTSTAMP:20260425T043114
CREATED:20231113T122232Z
LAST-MODIFIED:20231118T231359Z
UID:6237-1699430400-1699444860@nmvfo.org
SUMMARY:Pecos River Willow Add-On
DESCRIPTION:RESULTS: Six NMVFO volunteers spent a half-day trimming and planting willows along a thousand-foot stretch of the Pecos River near Cowles\, NM.  We partnered with the Upper Pecos Watershed Association and the National Forest Service Pecos/Las Vegas District\n \n\n\n	\n		\n			\n				\n			\n		\n		\n			\n				\n			\n		\n		\n			\n				\n			\n		\n		\n			\n				\n			\n		\n		\n			\n				\n			\n		\n		\n			\n				\n			\n		\n\n	 \n	\n	Show More\n\n\n\nPHOTO ALBUM LINK
URL:https://nmvfo.org/projects/pecos-river-willow-add-on/
CATEGORIES:Project
ATTACH;FMTTYPE=image/jpeg:https://nmvfo.org/wp-content/uploads/2023/11/pecos_river_2023.jpg
ORGANIZER;CN="Dan Potter":MAILTO:d.potter@nmvfo.org
END:VEVENT
END:VCALENDAR