BEGIN:VCALENDAR
VERSION:2.0
PRODID:-//New Mexico Volunteers For The Outdoors - ECPv6.15.15//NONSGML v1.0//EN
CALSCALE:GREGORIAN
METHOD:PUBLISH
X-WR-CALNAME:New Mexico Volunteers For The Outdoors
X-ORIGINAL-URL:https://nmvfo.org
X-WR-CALDESC:Events for New Mexico Volunteers For The Outdoors
REFRESH-INTERVAL;VALUE=DURATION:PT1H
X-Robots-Tag:noindex
X-PUBLISHED-TTL:PT1H
BEGIN:VTIMEZONE
TZID:America/Denver
BEGIN:DAYLIGHT
TZOFFSETFROM:-0700
TZOFFSETTO:-0600
TZNAME:MDT
DTSTART:20190310T090000
END:DAYLIGHT
BEGIN:STANDARD
TZOFFSETFROM:-0600
TZOFFSETTO:-0700
TZNAME:MST
DTSTART:20191103T080000
END:STANDARD
BEGIN:DAYLIGHT
TZOFFSETFROM:-0700
TZOFFSETTO:-0600
TZNAME:MDT
DTSTART:20200308T090000
END:DAYLIGHT
BEGIN:STANDARD
TZOFFSETFROM:-0600
TZOFFSETTO:-0700
TZNAME:MST
DTSTART:20201101T080000
END:STANDARD
BEGIN:DAYLIGHT
TZOFFSETFROM:-0700
TZOFFSETTO:-0600
TZNAME:MDT
DTSTART:20210314T090000
END:DAYLIGHT
BEGIN:STANDARD
TZOFFSETFROM:-0600
TZOFFSETTO:-0700
TZNAME:MST
DTSTART:20211107T080000
END:STANDARD
BEGIN:DAYLIGHT
TZOFFSETFROM:-0700
TZOFFSETTO:-0600
TZNAME:MDT
DTSTART:20220313T090000
END:DAYLIGHT
BEGIN:STANDARD
TZOFFSETFROM:-0600
TZOFFSETTO:-0700
TZNAME:MST
DTSTART:20221106T080000
END:STANDARD
BEGIN:DAYLIGHT
TZOFFSETFROM:-0700
TZOFFSETTO:-0600
TZNAME:MDT
DTSTART:20230312T090000
END:DAYLIGHT
BEGIN:STANDARD
TZOFFSETFROM:-0600
TZOFFSETTO:-0700
TZNAME:MST
DTSTART:20231105T080000
END:STANDARD
BEGIN:DAYLIGHT
TZOFFSETFROM:-0700
TZOFFSETTO:-0600
TZNAME:MDT
DTSTART:20240310T090000
END:DAYLIGHT
BEGIN:STANDARD
TZOFFSETFROM:-0600
TZOFFSETTO:-0700
TZNAME:MST
DTSTART:20241103T080000
END:STANDARD
BEGIN:DAYLIGHT
TZOFFSETFROM:-0700
TZOFFSETTO:-0600
TZNAME:MDT
DTSTART:20250309T090000
END:DAYLIGHT
BEGIN:STANDARD
TZOFFSETFROM:-0600
TZOFFSETTO:-0700
TZNAME:MST
DTSTART:20251102T080000
END:STANDARD
BEGIN:DAYLIGHT
TZOFFSETFROM:-0700
TZOFFSETTO:-0600
TZNAME:MDT
DTSTART:20260308T090000
END:DAYLIGHT
BEGIN:STANDARD
TZOFFSETFROM:-0600
TZOFFSETTO:-0700
TZNAME:MST
DTSTART:20261101T080000
END:STANDARD
END:VTIMEZONE
BEGIN:VEVENT
DTSTART;TZID=America/Denver:20250823T100000
DTEND;TZID=America/Denver:20250823T140000
DTSTAMP:20260423T133308
CREATED:20250803T152601Z
LAST-MODIFIED:20250805T143358Z
UID:7514-1755943200-1755957600@nmvfo.org
SUMMARY:Santa Ana Pueblo Environmental Fair
DESCRIPTION:NMVFO has been invited to the 24th annual Santa Ana Pueblo Environmental Fair\, at the Tamaya Wellness Center\, from 10AM to 2PM. Join us\, and meet with several other outdoor organizations. \nJust as in past years\, admission to the fair will be totally free\, with each attendee receiving one meal voucher\, one raffle entry\, and one door item. \nIf you would like to help staff our table\, please email c.herrera@nmvfo.org.
URL:https://nmvfo.org/projects/santa-ana-pueblo-environmental-fair/
CATEGORIES:Meeting,Project
ATTACH;FMTTYPE=image/jpeg:https://nmvfo.org/wp-content/uploads/2025/08/SandiaMtnNM.jpeg
ORGANIZER;CN="Catlin Herrera":MAILTO:c.herrera@nmvfo.org
END:VEVENT
BEGIN:VEVENT
DTSTART;TZID=America/Denver:20250214T120000
DTEND;TZID=America/Denver:20250216T170000
DTSTAMP:20260423T133308
CREATED:20250129T155725Z
LAST-MODIFIED:20250327T205239Z
UID:6998-1739534400-1739725200@nmvfo.org
SUMMARY:New Mexico Outdoor Adventure Show Tabling Event
DESCRIPTION:RESULTS: Volunteers staffed the NMVFO booth at this event put on by New Mexico Fish and Game\n \n\n\n	\n		\n			\n				\n			\n		\n		\n			\n				\n			\n		\n		\n			\n				\n			\n		\n		\n			\n				\n			\n		\n		\n			\n				\n			\n		\n		\n			\n				\n			\n		\n\n	 \n	\n	Show More\n\n\n\nPHOTO ALBUM LINK \n\n  \nFriday\, Feb 14\, 12 Noon – 6 PM\nSaturday\, Feb 15\, 9 AM – 6 PM\nSunday\, Feb 16\, 10 AM – 5 PM   \nCome help NMVFO staff a booth at the New Mexico Outdoor Adventure Show at the Albuquerque EXPO (300 San Pedro Drive NE) from February 14th through the 16th\, 2025. The show is sponsored by the New Mexico Department of Game and Fish. Over 10\,000 visitors are expected to attend the show\, making this a great opportunity for NMVFO to get our name and activities in front of a lot of outdoor-oriented folks. \nStaffing the booth is easy and fun as you get to talk with visitors about NMVFO’s wide range of projects\, training\, and social events\, about the camaraderie we experience during our projects\, and the satisfaction of giving something back to New Mexico’s outdoors. \nInformation concerning parking\, booth location\, passes\, etc. will be provided as it becomes available. \nDifficulty:  \nGroup Size:  Unlimited \nCost: Free! \nPlease email Mike Timmer at m.timmer@nmvfo.org to let him know when you can attend and then sign up for this event below. (Ignore the total hours in the signup acknowledgement email.) \nThe closing date for signups is February 12th at 5:00 pm \nPlease read our Volunteer Guidelines before signing up for this project.\nOn the signup form please leave the "Number of Volunteers" at 1. If you would like to sign up additional volunteers please submit multiple signups.
URL:https://nmvfo.org/projects/new-mexico-outdoor-adventure-show-tabling-event/
CATEGORIES:Meeting,Project
ATTACH;FMTTYPE=image/jpeg:https://nmvfo.org/wp-content/uploads/2025/02/Tabling_event_2.jpg
ORGANIZER;CN="Mike Timmer":MAILTO:m.timmer@nmvfo.org
END:VEVENT
BEGIN:VEVENT
DTSTART;TZID=America/Denver:20241212T183000
DTEND;TZID=America/Denver:20241212T203000
DTSTAMP:20260423T133309
CREATED:20241210T154110Z
LAST-MODIFIED:20241210T154954Z
UID:6927-1734028200-1734035400@nmvfo.org
SUMMARY:Annual Meeting
DESCRIPTION:ANNUAL BUSINESS MEETING\, DECEMBER 12 \nIn accordance with our bylaws\, NMVFO will have its Annual Business Meeting on December 12th.  This is in addition to the Volunteer Appreciation Night dinner.  All members are invited to attend the Annual Business Meeting to be held online on December 12th from 6:30 until 8:00.  We will discuss accomplishments from 2024 and recap other business items including membership and finances.  Below is the invitation to join the Google Meeting. \nNMVFO Annual Business Meeting\nThursday\, December 12\, 6:30 – 8:00pm\nTime zone: Mountain Standard Time \nFor a meeting link or phone number\, refer to the email that was sent to members.
URL:https://nmvfo.org/projects/annual-meeting/
CATEGORIES:Meeting
ORGANIZER;CN="Catlin Herrera":MAILTO:c.herrera@nmvfo.org
END:VEVENT
BEGIN:VEVENT
DTSTART;TZID=America/Denver:20240921T100000
DTEND;TZID=America/Denver:20240921T140000
DTSTAMP:20260423T133309
CREATED:20240821T154645Z
LAST-MODIFIED:20240928T222023Z
UID:6839-1726912800-1726927200@nmvfo.org
SUMMARY:Latino Conservation Week Fiesta in the Park
DESCRIPTION:RESULTS: Five NMVFO volunteers joined a tabling event for Albuquerque’s first LCW Fiesta in the Park\, organized by Latino Outdoors\, at Barelas Park. We set up a sawbuck and helped people try out a 2-person crosscut saw.\n \n\n\n	\n		\n			\n				\n			\n		\n		\n			\n				\n			\n		\n		\n			\n				\n			\n		\n\n	 \n	\n\n\nPHOTO ALBUM LINK \n\n  \nJoin us at Barelas Park\, alongside many other outdoor nonprofits\, for Latino Conservation Week Fiesta in the Park. The event is sponsored by Latino Outdoors NM and the Continental Divide Trail Coalition. \nIf you would like to volunteer to help staff our booth\, please email j.sells@nmvfo.org. We will set up a 2-person crosscut saw demonstration\, that was a great success at our recent tabling event at Canteen Brewhouse.
URL:https://nmvfo.org/projects/latino-conservation-week-fiesta-in-the-park/
CATEGORIES:Meeting,Project
ATTACH;FMTTYPE=image/png:https://nmvfo.org/wp-content/uploads/2024/08/lcw_2024.png
ORGANIZER;CN="Jim (Sagebrush) Sells":MAILTO:j.sells@nmvfo.org
END:VEVENT
BEGIN:VEVENT
DTSTART;TZID=America/Denver:20201205T183000
DTEND;TZID=America/Denver:20201205T193000
DTSTAMP:20260423T133309
CREATED:20201202T012154Z
LAST-MODIFIED:20201202T031151Z
UID:3382-1607193000-1607196600@nmvfo.org
SUMMARY:NMVFO Annual Meeting
DESCRIPTION:During our Annual Meeting for 2020 members and volunteers we’ll discuss project results\, accomplishments\, financials\, and our plans for next year. The meeting will take place via Google Meet\, and can be attended by a maximum of 100 people. If you have any questions please direct them to Kevin Wall (see above)\, or Jenny Blackmore\, chairperson@nmvfo.org.\nHope you can join us!
URL:https://nmvfo.org/projects/nmvfo-annual-meeting/
CATEGORIES:Meeting
ATTACH;FMTTYPE=image/png:https://nmvfo.org/wp-content/uploads/2020/07/sticker16x9.png
ORGANIZER;CN="Kevin Wall":MAILTO:k.wall@nmvfo.org
END:VEVENT
END:VCALENDAR