BEGIN:VCALENDAR
VERSION:2.0
PRODID:-//New Mexico Volunteers For The Outdoors - ECPv6.15.15//NONSGML v1.0//EN
CALSCALE:GREGORIAN
METHOD:PUBLISH
X-WR-CALNAME:New Mexico Volunteers For The Outdoors
X-ORIGINAL-URL:https://nmvfo.org
X-WR-CALDESC:Events for New Mexico Volunteers For The Outdoors
REFRESH-INTERVAL;VALUE=DURATION:PT1H
X-Robots-Tag:noindex
X-PUBLISHED-TTL:PT1H
BEGIN:VTIMEZONE
TZID:America/Denver
BEGIN:DAYLIGHT
TZOFFSETFROM:-0700
TZOFFSETTO:-0600
TZNAME:MDT
DTSTART:20240310T090000
END:DAYLIGHT
BEGIN:STANDARD
TZOFFSETFROM:-0600
TZOFFSETTO:-0700
TZNAME:MST
DTSTART:20241103T080000
END:STANDARD
BEGIN:DAYLIGHT
TZOFFSETFROM:-0700
TZOFFSETTO:-0600
TZNAME:MDT
DTSTART:20250309T090000
END:DAYLIGHT
BEGIN:STANDARD
TZOFFSETFROM:-0600
TZOFFSETTO:-0700
TZNAME:MST
DTSTART:20251102T080000
END:STANDARD
BEGIN:DAYLIGHT
TZOFFSETFROM:-0700
TZOFFSETTO:-0600
TZNAME:MDT
DTSTART:20260308T090000
END:DAYLIGHT
BEGIN:STANDARD
TZOFFSETFROM:-0600
TZOFFSETTO:-0700
TZNAME:MST
DTSTART:20261101T080000
END:STANDARD
END:VTIMEZONE
BEGIN:VEVENT
DTSTART;TZID=America/Denver:20250823T100000
DTEND;TZID=America/Denver:20250823T140000
DTSTAMP:20260424T004342
CREATED:20250803T152601Z
LAST-MODIFIED:20250805T143358Z
UID:7514-1755943200-1755957600@nmvfo.org
SUMMARY:Santa Ana Pueblo Environmental Fair
DESCRIPTION:NMVFO has been invited to the 24th annual Santa Ana Pueblo Environmental Fair\, at the Tamaya Wellness Center\, from 10AM to 2PM. Join us\, and meet with several other outdoor organizations. \nJust as in past years\, admission to the fair will be totally free\, with each attendee receiving one meal voucher\, one raffle entry\, and one door item. \nIf you would like to help staff our table\, please email c.herrera@nmvfo.org.
URL:https://nmvfo.org/projects/santa-ana-pueblo-environmental-fair/
CATEGORIES:Meeting,Project
ATTACH;FMTTYPE=image/jpeg:https://nmvfo.org/wp-content/uploads/2025/08/SandiaMtnNM.jpeg
ORGANIZER;CN="Catlin Herrera":MAILTO:c.herrera@nmvfo.org
END:VEVENT
END:VCALENDAR