BEGIN:VCALENDAR
VERSION:2.0
PRODID:-//New Mexico Volunteers For The Outdoors - ECPv6.15.15//NONSGML v1.0//EN
CALSCALE:GREGORIAN
METHOD:PUBLISH
X-WR-CALNAME:New Mexico Volunteers For The Outdoors
X-ORIGINAL-URL:https://nmvfo.org
X-WR-CALDESC:Events for New Mexico Volunteers For The Outdoors
REFRESH-INTERVAL;VALUE=DURATION:PT1H
X-Robots-Tag:noindex
X-PUBLISHED-TTL:PT1H
BEGIN:VTIMEZONE
TZID:America/Denver
BEGIN:DAYLIGHT
TZOFFSETFROM:-0700
TZOFFSETTO:-0600
TZNAME:MDT
DTSTART:20220313T090000
END:DAYLIGHT
BEGIN:STANDARD
TZOFFSETFROM:-0600
TZOFFSETTO:-0700
TZNAME:MST
DTSTART:20221106T080000
END:STANDARD
BEGIN:DAYLIGHT
TZOFFSETFROM:-0700
TZOFFSETTO:-0600
TZNAME:MDT
DTSTART:20230312T090000
END:DAYLIGHT
BEGIN:STANDARD
TZOFFSETFROM:-0600
TZOFFSETTO:-0700
TZNAME:MST
DTSTART:20231105T080000
END:STANDARD
BEGIN:DAYLIGHT
TZOFFSETFROM:-0700
TZOFFSETTO:-0600
TZNAME:MDT
DTSTART:20240310T090000
END:DAYLIGHT
BEGIN:STANDARD
TZOFFSETFROM:-0600
TZOFFSETTO:-0700
TZNAME:MST
DTSTART:20241103T080000
END:STANDARD
END:VTIMEZONE
BEGIN:VEVENT
DTSTART;TZID=America/Denver:20230603T090000
DTEND;TZID=America/Denver:20230603T160000
DTSTAMP:20260425T174932
CREATED:20230606T123605Z
LAST-MODIFIED:20230606T124147Z
UID:6001-1685782800-1685808000@nmvfo.org
SUMMARY:Sawyer Certification Class 1
DESCRIPTION:RESULTS: Sawyer certification\, Little Tesuque Picnic Area\, Santa Fe National Forest. This Saturday four NMVFO volunteers and 3 USFS staff earned their crosscut certifications after a full-day class.\n \n\n\n	\n		\n			\n				\n			\n		\n		\n			\n				\n			\n		\n		\n			\n				\n			\n		\n		\n			\n				\n			\n		\n		\n			\n				\n			\n		\n		\n			\n				\n			\n		\n\n	 \n	\n	Show More\n\n\n\nPHOTO ALBUM LINK \n\nAre you interested? Are you a member and volunteer\, who goes on an unreasonable number of projects each year\, and enjoys clearing downed trees? Are you ready to earn your sawyer certification? Contact j.sells@nmvfo.orfg to get in the queue.
URL:https://nmvfo.org/projects/sawyer-certification-class-1/
CATEGORIES:Class,Project
ATTACH;FMTTYPE=image/jpeg:https://nmvfo.org/wp-content/uploads/2023/06/sawyer_class_1_2023_lowres.jpg
END:VEVENT
BEGIN:VEVENT
DTSTART;TZID=America/Denver:20230604T090000
DTEND;TZID=America/Denver:20230604T160000
DTSTAMP:20260425T174932
CREATED:20230606T124505Z
LAST-MODIFIED:20230606T124722Z
UID:6007-1685869200-1685894400@nmvfo.org
SUMMARY:Sawyer Certification Class 2
DESCRIPTION:RESULTS: 5 NMVFO volunteers\, one Termite\, and one SFNF staff earned their crosscut certification at Winsor Trailhead in the SFNF\, with instructors Jennifer and Courtney from the Carson NF.\n \n\n\n	\n		\n			\n				\n			\n		\n		\n			\n				\n			\n		\n		\n			\n				\n			\n		\n		\n			\n				\n			\n		\n		\n			\n				\n			\n		\n		\n			\n				\n			\n		\n\n	 \n	\n	Show More\n\n\n\nPHOTO ALBUM LINK \n\nAre you interested? Are you a member and volunteer\, who goes on an unreasonable number of projects each year\, and enjoys clearing downed trees? Are you ready to earn your sawyer certification? Contact j.sells@nmvfo.orfg to get in the queue.
URL:https://nmvfo.org/projects/sawyer-certification-class-2/
CATEGORIES:Class,Project
ATTACH;FMTTYPE=image/jpeg:https://nmvfo.org/wp-content/uploads/2023/06/sawyer2_2023.jpg
END:VEVENT
BEGIN:VEVENT
DTSTART;TZID=America/Denver:20230624T090000
DTEND;TZID=America/Denver:20230624T160000
DTSTAMP:20260425T174933
CREATED:20230625T152713Z
LAST-MODIFIED:20230822T183904Z
UID:6027-1687597200-1687622400@nmvfo.org
SUMMARY:Sawyer Certification Class 3
DESCRIPTION:RESULTS: 7 NMVFO volunteers earned their Sawyer Certification at Winsor Trailhead in the SFNF\, with instructor Jennifer from the Carson NF.\n \n\n\n	\n		\n			\n				\n			\n		\n		\n			\n				\n			\n		\n		\n			\n				\n			\n		\n		\n			\n				\n			\n		\n		\n			\n				\n			\n		\n		\n			\n				\n			\n		\n\n	 \n	\n	Show More\n\n\n\nPHOTO ALBUM LINK \n\nAre you interested? Are you a member and volunteer\, who goes on an unreasonable number of projects each year\, and enjoys clearing downed trees? Are you ready to earn your sawyer certification? Contact j.sells@nmvfo.orfg to get in the queue.
URL:https://nmvfo.org/projects/sawyer-certification-class-3/
CATEGORIES:Class,Project
ATTACH;FMTTYPE=image/jpeg:https://nmvfo.org/wp-content/uploads/2023/06/sawyer3_2023.jpg
END:VEVENT
END:VCALENDAR