BEGIN:VCALENDAR
VERSION:2.0
PRODID:-//New Mexico Volunteers For The Outdoors - ECPv6.15.15//NONSGML v1.0//EN
CALSCALE:GREGORIAN
METHOD:PUBLISH
X-ORIGINAL-URL:https://nmvfo.org
X-WR-CALDESC:Events for New Mexico Volunteers For The Outdoors
REFRESH-INTERVAL;VALUE=DURATION:PT1H
X-Robots-Tag:noindex
X-PUBLISHED-TTL:PT1H
BEGIN:VTIMEZONE
TZID:America/Denver
BEGIN:DAYLIGHT
TZOFFSETFROM:-0700
TZOFFSETTO:-0600
TZNAME:MDT
DTSTART:20240310T090000
END:DAYLIGHT
BEGIN:STANDARD
TZOFFSETFROM:-0600
TZOFFSETTO:-0700
TZNAME:MST
DTSTART:20241103T080000
END:STANDARD
BEGIN:DAYLIGHT
TZOFFSETFROM:-0700
TZOFFSETTO:-0600
TZNAME:MDT
DTSTART:20250309T090000
END:DAYLIGHT
BEGIN:STANDARD
TZOFFSETFROM:-0600
TZOFFSETTO:-0700
TZNAME:MST
DTSTART:20251102T080000
END:STANDARD
BEGIN:DAYLIGHT
TZOFFSETFROM:-0700
TZOFFSETTO:-0600
TZNAME:MDT
DTSTART:20260308T090000
END:DAYLIGHT
BEGIN:STANDARD
TZOFFSETFROM:-0600
TZOFFSETTO:-0700
TZNAME:MST
DTSTART:20261101T080000
END:STANDARD
END:VTIMEZONE
BEGIN:VEVENT
DTSTART;TZID=America/Denver:20250919T090000
DTEND;TZID=America/Denver:20250921T120000
DTSTAMP:20260424T004627
CREATED:20250326T175849Z
LAST-MODIFIED:20250903T134142Z
UID:7247-1758272400-1758456000@nmvfo.org
SUMMARY:Ute Lake State Park CANCELED
DESCRIPTION:Description: Join NMVFO on a car-camping project to install wooden steps and rock check dams\, remove encroaching grasses and brush\, and improve the drainage on the Rogers Nature Trail at Ute Lake State Park in northeastern New Mexico. \nAll tools will be provided. Please bring a daypack to carry your lunch\, snacks\, sunblock\, rain gear\, and a full-day’s supply of water. \nVolunteers will need to provide their own recreational vehicle or camping gear including tent\, sleeping bag and pad\, camp chair\, headlamp\, etc.\, plus a cooler/beverages\, if desired. \nBreakfasts and dinners will be provided; volunteers will need to supply their own lunches and snacks. Please bring your own plate\, bowl\, utensils\, and coffee mug. There are flush toilets and shower rooms near our campsite. \nWhile the Project starts at 9:00 am on Friday\, September 19th\, you can join us Thursday evening (dinner will not be provided)\, Friday evening\, or Saturday morning. Please join us by 5:00 pm on Friday evening if you would like dinner. Join us by 7:00 am on Saturday morning if you would like breakfast. Just let us know what your plans are by contacting the project leader by email or phone. \nThe project will end at about 12:00 pm on Sunday\, September 21st. \nMeet at: Ute Lake State Park; Eagle Peak Campsite\, Coordinates 35°22’01″N 103°29’26″W or 35.366944\, -103.490556 Elevation: 3\,830 ft \nHow to find us: Look for short green NMVFO signs on NM Highway 540 \nReminder: Pets are not allowed on NMVFO projects. \nPlease sign up below by September 16th. One person per signup. \nDifficulty:  \nGroup Size: 15. If the project becomes full\, please email the project leader to add your name to the waitlist\, and we will contact you if a spot opens up. \nFor more information: If this is your first NMVFO project\, you can find more information about difficulty ratings and what to expect Volunteer FAQs or email the project leader. \n 
URL:https://nmvfo.org/projects/ute-lake-state-park-enmrd/
CATEGORIES:Canceled,Project
ATTACH;FMTTYPE=image/jpeg:https://nmvfo.org/wp-content/uploads/2025/03/ute_lake_trail.jpg
ORGANIZER;CN="Mike Timmer":MAILTO:m.timmer@nmvfo.org
END:VEVENT
END:VCALENDAR