BEGIN:VCALENDAR
VERSION:2.0
PRODID:-//New Mexico Volunteers For The Outdoors - ECPv6.15.15//NONSGML v1.0//EN
CALSCALE:GREGORIAN
METHOD:PUBLISH
X-ORIGINAL-URL:https://nmvfo.org
X-WR-CALDESC:Events for New Mexico Volunteers For The Outdoors
REFRESH-INTERVAL;VALUE=DURATION:PT1H
X-Robots-Tag:noindex
X-PUBLISHED-TTL:PT1H
BEGIN:VTIMEZONE
TZID:America/Denver
BEGIN:DAYLIGHT
TZOFFSETFROM:-0700
TZOFFSETTO:-0600
TZNAME:MDT
DTSTART:20240310T090000
END:DAYLIGHT
BEGIN:STANDARD
TZOFFSETFROM:-0600
TZOFFSETTO:-0700
TZNAME:MST
DTSTART:20241103T080000
END:STANDARD
BEGIN:DAYLIGHT
TZOFFSETFROM:-0700
TZOFFSETTO:-0600
TZNAME:MDT
DTSTART:20250309T090000
END:DAYLIGHT
BEGIN:STANDARD
TZOFFSETFROM:-0600
TZOFFSETTO:-0700
TZNAME:MST
DTSTART:20251102T080000
END:STANDARD
BEGIN:DAYLIGHT
TZOFFSETFROM:-0700
TZOFFSETTO:-0600
TZNAME:MDT
DTSTART:20260308T090000
END:DAYLIGHT
BEGIN:STANDARD
TZOFFSETFROM:-0600
TZOFFSETTO:-0700
TZNAME:MST
DTSTART:20261101T080000
END:STANDARD
END:VTIMEZONE
BEGIN:VEVENT
DTSTART;TZID=America/Denver:20250519T080000
DTEND;TZID=America/Denver:20250522T143000
DTSTAMP:20260424T065108
CREATED:20241128T195850Z
LAST-MODIFIED:20250327T230806Z
UID:6919-1747641600-1747924200@nmvfo.org
SUMMARY:Black Range Backpack CANCELED
DESCRIPTION:Sorry\, the Black Range Backpack has been canceled/postponed due to climate conditions and fire danger. \nDescription: Join us for lots of brushing\, and some logging/tread west and north of Emory Pass\, including Gallinas #129\, Railroad #128 and Crest #79. We will meet at Railroad Campground and hike to base camp 4.25 miles away. Volunteers should be prepared to hike up to 6.0 miles each day. Refer to the trail map. \nFood: Gila BCH homemade vacuum sealed meals (breakfasts and dinners) will be available for this project. We can accommodate meat eaters\, vegetarians\, and some gluten free diets. But you can also bring your own breakfasts and dinners if you prefer. Everyone will need to provide their own lunches and snacks. Water: Please bring water for the backpack to base camp. We will provide jugs of water at base camp. There is no water on the trail where we will work\, so bring a 3-quart water capacity. We will provide: Tools\, hard hats\, trail and safety training\, project supervision\, and first aid kit with Wilderness First Responder trained personnel. \nPlease see the BCH website description for a packing list and more information! Sign up below by Wednesday May 14. \nDifficulty:  \nGroup Size: up to 7 \n 
URL:https://nmvfo.org/projects/black-range-backpack-gila-nf/
CATEGORIES:Canceled,Project
ATTACH;FMTTYPE=image/png:https://nmvfo.org/wp-content/uploads/2024/11/black_range.png
ORGANIZER;CN="Melissa Green":MAILTO:m.green@nmvfo.org
END:VEVENT
END:VCALENDAR